Workbook
Name Rally_ID: #REF!
Name RallyDropdown: #REF!
Name RallyDropdownNames: #REF!
Name Selected_Rally_Name: #REF!

Sheet Bonuses
A1: BONUS CODE | B1: BONUS NAME | C1: LATITUDE | D1: LONGITUDE | E1: ADDRESS | F1: CITY | G1: ST | H1: POINTS | I1: AVAILABILITY | J1: REQUIREMENT | M1: BLUE HAIR BINGO | W1: BonusCode | X1: BonusName | Y1: Availability | Z1: Requirement | AA1: BonusPic | AB1: BonusLat | AC1: BonusLong | AH1: Leg | AI1: J-List | AJ1: CATEGORY | AK1: POINTS | AL1: CloudinaryRefPic | AM1: CLOCK | AN1: TIMES | AO1: SCORING | AP1: SCORINGcopy | BR1: NAME | BS1: DESC | BT1: LATITUDE | BU1: LONGITUDE
A2: START | B2: Hilton Cincinatti Airport | C2: 39.013548 | D2: -84.633157 | E2: 7373 Turfway Rd | F2: Florence | G2: KY | U2: DB001 | W2: DB001 | X2: Christ Church Episcopal | Y2: anytime | Z2: Take a picture of the historical marker in front of the church. | AB2: 38.048866 | AC2: -84.496701 | AD2: =ROUND(AB2,6)&", "&ROUND(AC2,6) -> 38.048866, -84.496701 | AE2: 155 Market Street, Lexington, KY 40507 | AI2: 1 | AL2: https://res.cloudinary.com/lone-star-long-riders-heart-of-texas-rally/image/upload/v1785176128/Rally/Dartboard%202026/DB001_qowjbq.jpg | AR2: =W2 -> DB001 | AS2: =H3 -> 130 | AT2: =X2 -> Christ Church Episcopal | AU2: =Y2 -> anytime | AV2: =AE2 -> 155 Market Street, Lexington, KY 40507 | AW2: =AD2 -> 38.048866, -84.496701 | AX2: =Z2 -> Take a picture of the historical marker in front of the church. | BR2: =A3&" - "&H3 -> DB001 - 130 | BS2: =B3 -> Christ Church Episcopal | BT2: =C3 -> 38.048866 | BU2: =D3 -> -84.496701
A3: DB001 | B3: Christ Church Episcopal | C3: 38.048866 | D3: -84.496701 | E3: 155 Market Street, Lexington, KY 40507 | F3: Lexington-Fayette | G3: KY | H3: 130 | I3: anytime | J3: =Z2 -> Take a picture of the historical marker in front of the church. | M3: Complete any Bingo = 1,000 points | U3: DB012 | W3: DB002 | X3: Mother of God Roman Catholic Church | Y3: anytime | Z3: Take a picture of the historical marker in front of the church. | AB3: 39.084247 | AC3: -84.512653 | AD3: =ROUND(AB3,6)&", "&ROUND(AC3,6) -> 39.084247, -84.512653 | AE3: 119 West 6th Street, Covington, KY 41011 | AI3: 2 | AL3: https://res.cloudinary.com/lone-star-long-riders-heart-of-texas-rally/image/upload/v1785176128/Rally/Dartboard%202026/DB002_bluwji.jpg | AR3: =W3 -> DB002 | AS3: =H4 -> 225 | AT3: =X3 -> Mother of God Roman Catholic Church | AU3: =Y3 -> anytime | AV3: =AE3 -> 119 West 6th Street, Covington, KY 41011 | AW3: =AD3 -> 39.084247, -84.512653 | AX3: =Z3 -> Take a picture of the historical marker in front of the church. | BR3: =A4&" - "&H4 -> DB002 - 225 | BS3: =B4 -> Mother of God Roman Catholic Church | BT3: =C4 -> 39.084247 | BU3: =D4 -> -84.512653
A4: DB002 | B4: Mother of God Roman Catholic Church | C4: 39.084247 | D4: -84.512653 | E4: 119 West 6th Street, Covington, KY 41011 | F4: Covington | G4: KY | H4: 225 | I4: anytime | J4: =Z3 -> Take a picture of the historical marker in front of the church. | U4: DB003 | W4: DB003 | X4: Old Mulkey Meetinghouse State Historic Site | Y4: 9a-5p | Z4: Take a picture of the front of the old meeting house. | AB4: 36.677583 | AC4: -85.707503 | AD4: =ROUND(AB4,6)&", "&ROUND(AC4,6) -> 36.677583, -85.707503 | AE4: 38 Old Mulkey Park Road, Tompkinsville, KY 42167 | AI4: 3 | AL4: https://res.cloudinary.com/lone-star-long-riders-heart-of-texas-rally/image/upload/v1785176134/Rally/Dartboard%202026/DB003_ntiryf.jpg | AR4: =W4 -> DB003 | AS4: =H5 -> 353 | AT4: =X4 -> Old Mulkey Meetinghouse State Historic Site | AU4: =Y4 -> 9a-5p | AV4: =AE4 -> 38 Old Mulkey Park Road, Tompkinsville, KY 42167 | AW4: =AD4 -> 36.677583, -85.707503 | AX4: =Z4 -> Take a picture of the front of the old meeting house. | BR4: =A5&" - "&H5 -> DB003 - 353 | BS4: =B5 -> Old Mulkey Meetinghouse State Historic Site | BT4: =C5 -> 36.677583 | BU4: =D5 -> -85.707503
A5: DB003 | B5: Old Mulkey Meetinghouse State Historic Site | C5: 36.677583 | D5: -85.707503 | E5: 38 Old Mulkey Park Road, Tompkinsville, KY 42167 | F5: Tompkinsville | G5: KY | H5: 353 | I5: 9a-5p | J5: =Z4 -> Take a picture of the front of the old meeting house. | M5: B | N5: I | O5: N | P5: G | Q5: O | U5: DB014 | W5: DB004 | X5: Cane Ridge Meeting House | Y5: 9a-5p | Z5: Take a picture of the historical marker near the entrance. | AB5: 38.211248 | AC5: -84.118907 | AD5: =ROUND(AB5,6)&", "&ROUND(AC5,6) -> 38.211248, -84.118907 | AE5: 1655 Cane Ridge Road, Paris, KY 40361 | AI5: 4 | AL5: https://res.cloudinary.com/lone-star-long-riders-heart-of-texas-rally/image/upload/v1785176125/Rally/Dartboard%202026/DB004_mvcgdg.jpg | AR5: =W5 -> DB004 | AS5: =H6 -> 320 | AT5: =X5 -> Cane Ridge Meeting House | AU5: =Y5 -> 9a-5p | AV5: =AE5 -> 1655 Cane Ridge Road, Paris, KY 40361 | AW5: =AD5 -> 38.211248, -84.118907 | AX5: =Z5 -> Take a picture of the historical marker near the entrance. | BR5: =A6&" - "&H6 -> DB004 - 320 | BS5: =B6 -> Cane Ridge Meeting House | BT5: =C6 -> 38.211248 | BU5: =D6 -> -84.118907
A6: DB004 | B6: Cane Ridge Meeting House | C6: 38.211248 | D6: -84.118907 | E6: 1655 Cane Ridge Road, Paris, KY 40361 | F6: Paris | G6: KY | H6: 320 | I6: 9a-5p | J6: =Z5 -> Take a picture of the historical marker near the entrance. | M6: DB002 | N6: DB012 | O6: DB027 | P6: DB026 | Q6: DB030 | R6: {=IF(SUM(--((M6:Q6="FREE")+(COUNTIF($U$2:$U$100,M6:Q6)>0)>0))=5,1000,0)} -> 1000 | U6: DB005 | W6: DB005 | X6: Old Mud Meeting House | Y6: anytime | Z6: Take a picture of the marker for the old meeting house near the road. The entrance road is at an incline, so consider how you might stop and get the picture if you need to park and get off the bike. | AB6: 37.724783 | AC6: -84.862942 | AD6: =ROUND(AB6,6)&", "&ROUND(AC6,6) -> 37.724783, -84.862942 | AE6: 730 Dry Branch Road, Harrodsburg, KY 40330 | AI6: 5 | AL6: https://res.cloudinary.com/lone-star-long-riders-heart-of-texas-rally/image/upload/v1785176126/Rally/Dartboard%202026/DB005_lmjvue.jpg | AR6: =W6 -> DB005 | AS6: =H7 -> 425 | AT6: =X6 -> Old Mud Meeting House | AU6: =Y6 -> anytime | AV6: =AE6 -> 730 Dry Branch Road, Harrodsburg, KY 40330 | AW6: =AD6 -> 37.724783, -84.862942 | AX6: =Z6 -> Take a picture of the marker for the old meeting house near the road. The entrance road is at an incline, so consider how you might stop and get the picture if you need to park and get off the bike. | BR6: =A7&" - "&H7 -> DB005 - 425 | BS6: =B7 -> Old Mud Meeting House | BT6: =C7 -> 37.724783 | BU6: =D7 -> -84.862942
A7: DB005 | B7: Old Mud Meeting House | C7: 37.724783 | D7: -84.862942 | E7: 730 Dry Branch Road, Harrodsburg, KY 40330 | F7: Harrodsburg | G7: KY | H7: 425 | I7: anytime | J7: =Z6 -> Take a picture of the marker for the old meeting house near the road. The entrance road is at an incline, so consider how you might stop and get the picture if you need to park and get off the bike. | M7: DB042 | N7: DB050 | O7: DB051 | P7: DB043 | Q7: DB046 | R7: {=IF(SUM(--((M7:Q7="FREE")+(COUNTIF($U$2:$U$100,M7:Q7)>0)>0))=5,1000,0)} -> 1000 | U7: DB016 | W7: DB006 | X7: Stony Point Baptist Church | Y7: anytime | Z7: Take a picture of the front of the old church. This is a back road but still a road. You may want to take the picture on your bike if possible as there does not appear to be any good parking areas. | AB7: 37.668137 | AC7: -84.724405 | AD7: =ROUND(AB7,6)&", "&ROUND(AC7,6) -> 37.668137, -84.724405 | AE7: 51 Stony Point Road, Danville, KY 40422 | AI7: 6 | AL7: https://res.cloudinary.com/lone-star-long-riders-heart-of-texas-rally/image/upload/v1785176126/Rally/Dartboard%202026/DB006_eruj9i.jpg | AR7: =W7 -> DB006 | AS7: =H8 -> 255 | AT7: =X7 -> Stony Point Baptist Church | AU7: =Y7 -> anytime | AV7: =AE7 -> 51 Stony Point Road, Danville, KY 40422 | AW7: =AD7 -> 37.668137, -84.724405 | AX7: =Z7 -> Take a picture of the front of the old church. This is a back road but still a road. You may want to take the picture on your bike if possible as there does not appear to be any good parking areas. | BR7: =A8&" - "&H8 -> DB006 - 255 | BS7: =B8 -> Stony Point Baptist Church | BT7: =C8 -> 37.668137 | BU7: =D8 -> -84.724405
A8: DB006 | B8: Stony Point Baptist Church | C8: 37.668137 | D8: -84.724405 | E8: 51 Stony Point Road, Danville, KY 40422 | F8: Danville | G8: KY | H8: 255 | I8: anytime | J8: =Z7 -> Take a picture of the front of the old church. This is a back road but still a road. You may want to take the picture on your bike if possible as there does not appear to be any good parking areas. | M8: DB028 | N8: DB015 | O8: FREE | P8: DB031 | Q8: DB032 | R8: {=IF(SUM(--((M8:Q8="FREE")+(COUNTIF($U$2:$U$100,M8:Q8)>0)>0))=5,1000,0)} -> 0 | U8: DB007 | W8: DB007 | X8: Abners Mill Fellowship Chapel | Y8: Daylight Only | Z8: Take a picture of the front of the chapel and the well house. | AB8: 38.396599 | AC8: -83.951877 | AD8: =ROUND(AB8,6)&", "&ROUND(AC8,6) -> 38.396599, -83.951877 | AE8: 2350 Abners Mill Road, Ewing, KY 41039 | AI8: 7 | AL8: https://res.cloudinary.com/lone-star-long-riders-heart-of-texas-rally/image/upload/v1785176127/Rally/Dartboard%202026/DB007_lcx2h4.jpg | AR8: =W8 -> DB007 | AS8: =H9 -> 75 | AT8: =X8 -> Abners Mill Fellowship Chapel | AU8: =Y8 -> Daylight Only | AV8: =AE8 -> 2350 Abners Mill Road, Ewing, KY 41039 | AW8: =AD8 -> 38.396599, -83.951877 | AX8: =Z8 -> Take a picture of the front of the chapel and the well house. | BR8: =A9&" - "&H9 -> DB007 - 75 | BS8: =B9 -> Abners Mill Fellowship Chapel | BT8: =C9 -> 38.396599 | BU8: =D9 -> -83.951877
A9: DB007 | B9: Abners Mill Fellowship Chapel | C9: 38.396599 | D9: -83.951877 | E9: 2350 Abners Mill Road, Ewing, KY 41039 | F9: Ewing | G9: KY | H9: 75 | I9: Daylight Only | J9: =Z8 -> Take a picture of the front of the chapel and the well house. | M9: DB001 | N9: DB004 | O9: DB029 | P9: DB005 | Q9: DB006 | R9: {=IF(SUM(--((M9:Q9="FREE")+(COUNTIF($U$2:$U$100,M9:Q9)>0)>0))=5,1000,0)} -> 0 | U9: DB018 | W9: DB008 | X9: Buckhorn Log Cathedral | Y9: Daylight Only | Z9: Take a picture of the side of the church as in the picture. | AB9: 37.347658 | AC9: -83.47593 | AD9: =ROUND(AB9,6)&", "&ROUND(AC9,6) -> 37.347658, -83.47593 | AE9: 300 Buckhorn Lane, Buckhorn, KY 41721 | AI9: 8 | AL9: https://res.cloudinary.com/lone-star-long-riders-heart-of-texas-rally/image/upload/v1785176127/Rally/Dartboard%202026/DB008_kugq7h.jpg | AR9: =W9 -> DB008 | AS9: =H10 -> 225 | AT9: =X9 -> Buckhorn Log Cathedral | AU9: =Y9 -> Daylight Only | AV9: =AE9 -> 300 Buckhorn Lane, Buckhorn, KY 41721 | AW9: =AD9 -> 37.347658, -83.47593 | AX9: =Z9 -> Take a picture of the side of the church as in the picture. | BR9: =A10&" - "&H10 -> DB008 - 225 | BS9: =B10 -> Buckhorn Log Cathedral | BT9: =C10 -> 37.347658 | BU9: =D10 -> -83.47593
A10: DB008 | B10: Buckhorn Log Cathedral | C10: 37.347658 | D10: -83.47593 | E10: 300 Buckhorn Lane, Buckhorn, KY 41721 | F10: Buckhorn | G10: KY | H10: 225 | I10: Daylight Only | J10: =Z9 -> Take a picture of the side of the church as in the picture. | M10: DB017 | N10: DB018 | O10: DB025 | P10: DB016 | Q10: DB019 | R10: {=IF(SUM(--((M10:Q10="FREE")+(COUNTIF($U$2:$U$100,M10:Q10)>0)>0))=5,1000,0)} -> 0 | U10: DB009 | W10: DB009 | X10: Log Courthouse | Y10: 9a-5p | Z10: Take a picture of the historical marker for the log courthouse with the building behind it. | AB10: 37.645014 | AC10: -84.770232 | AD10: =ROUND(AB10,6)&", "&ROUND(AC10,6) -> 37.645014, -84.770232 | AE10: 105 East Walnut Street, Danville, KY 40422 | AI10: 9 | AL10: https://res.cloudinary.com/lone-star-long-riders-heart-of-texas-rally/image/upload/v1785176132/Rally/Dartboard%202026/DB009_ebed43.jpg | AR10: =W10 -> DB009 | AS10: =H11 -> 70 | AT10: =X10 -> Log Courthouse | AU10: =Y10 -> 9a-5p | AV10: =AE10 -> 105 East Walnut Street, Danville, KY 40422 | AW10: =AD10 -> 37.645014, -84.770232 | AX10: =Z10 -> Take a picture of the historical marker for the log courthouse with the building behind it. | BR10: =A11&" - "&H11 -> DB009 - 70 | BS10: =B11 -> Log Courthouse | BT10: =C11 -> 37.645014 | BU10: =D11 -> -84.770232
A11: DB009 | B11: Log Courthouse | C11: 37.645014 | D11: -84.770232 | E11: 105 East Walnut Street, Danville, KY 40422 | F11: Danville | G11: KY | H11: 70 | I11: 9a-5p | J11: =Z10 -> Take a picture of the historical marker for the log courthouse with the building behind it. | L11: {=IF(SUM(--((CHOOSE({1,2,3,4,5},Q6,P7,O8,N9,M10)="FREE")+(COUNTIF($U$2:$U$100,CHOOSE({1,2,3,4,5},Q6,P7,O8,N9,M10))>0)>0))=5,1000,0)} -> 0 | M11: {=IF(SUM(--((M6:M10="FREE")+(COUNTIF($U$2:$U$100,M6:M10)>0)>0))=5,1000,0)} -> 0 | N11: {=IF(SUM(--((N6:N10="FREE")+(COUNTIF($U$2:$U$100,N6:N10)>0)>0))=5,1000,0)} -> 0 | O11: {=IF(SUM(--((O6:O10="FREE")+(COUNTIF($U$2:$U$100,O6:O10)>0)>0))=5,1000,0)} -> 1000 | P11: {=IF(SUM(--((P6:P10="FREE")+(COUNTIF($U$2:$U$100,P6:P10)>0)>0))=5,1000,0)} -> 1000 | Q11: {=IF(SUM(--((Q6:Q10="FREE")+(COUNTIF($U$2:$U$100,Q6:Q10)>0)>0))=5,1000,0)} -> 0 | R11: {=IF(SUM(--((CHOOSE({1,2,3,4,5},M6,N7,O8,P9,Q10)="FREE")+(COUNTIF($U$2:$U$100,CHOOSE({1,2,3,4,5},M6,N7,O8,P9,Q10))>0)>0))=5,1000,0)} -> 1000 | U11: DB020 | W11: DB010 | X11: Hebron Church | Y11: anytime | Z11: Take a picture of the sign for the church cemetery. | AB11: 37.963304 | AC11: -84.875165 | AD11: =ROUND(AB11,6)&", "&ROUND(AC11,6) -> 37.963304, -84.875165 | AE11: 127 McCalls Spring Road, Lawrenceburg, KY 40342 | AI11: 10 | AL11: https://res.cloudinary.com/lone-star-long-riders-heart-of-texas-rally/image/upload/v1785176128/Rally/Dartboard%202026/DB010_ryrnwx.jpg | AR11: =W11 -> DB010 | AS11: =H12 -> 70 | AT11: =X11 -> Hebron Church | AU11: =Y11 -> anytime | AV11: =AE11 -> 127 McCalls Spring Road, Lawrenceburg, KY 40342 | AW11: =AD11 -> 37.963304, -84.875165 | AX11: =Z11 -> Take a picture of the sign for the church cemetery. | BR11: =A12&" - "&H12 -> DB010 - 70 | BS11: =B12 -> Hebron Church | BT11: =C12 -> 37.963304 | BU11: =D12 -> -84.875165
A12: DB010 | B12: Hebron Church | C12: 37.963304 | D12: -84.875165 | E12: 127 McCalls Spring Road, Lawrenceburg, KY 40342 | F12: Lawrenceburg | G12: KY | H12: 70 | I12: anytime | J12: =Z11 -> Take a picture of the sign for the church cemetery. | M12: Theme: Local/Northern Kentucky and easy regional routes. | U12: DB011 | W12: DB011 | X12: St Jerome Catholic Church | Y12: anytime | Z12: Take a picture of the church sign. | AB12: 36.799438 | AC12: -88.791126 | AD12: =ROUND(AB12,6)&", "&ROUND(AC12,6) -> 36.799438, -88.791126 | AE12: 20 State Route 339 North, Fancy Farm, KY 42039 | AI12: 11 | AL12: https://res.cloudinary.com/lone-star-long-riders-heart-of-texas-rally/image/upload/v1785176129/Rally/Dartboard%202026/DB011_hmodiw.jpg | AR12: =W12 -> DB011 | AS12: =H13 -> 750 | AT12: =X12 -> St Jerome Catholic Church | AU12: =Y12 -> anytime | AV12: =AE12 -> 20 State Route 339 North, Fancy Farm, KY 42039 | AW12: =AD12 -> 36.799438, -88.791126 | AX12: =Z12 -> Take a picture of the church sign. | BR12: =A13&" - "&H13 -> DB011 - 750 | BS12: =B13 -> St Jerome Catholic Church | BT12: =C13 -> 36.799438 | BU12: =D13 -> -88.791126
A13: DB011 | B13: St Jerome Catholic Church | C13: 36.799438 | D13: -88.791126 | E13: 20 State Route 339 North, Fancy Farm, KY 42039 | F13: Fancy Farm | G13: KY | H13: 750 | I13: anytime | J13: =Z12 -> Take a picture of the church sign. | U13: DB022 | W13: DB012 | X13: St Joseph Church | Y13: anytime | Z13: Take a picture of the grotto. | AB13: 38.994316 | AC13: -84.361802 | AD13: =ROUND(AB13,6)&", "&ROUND(AC13,6) -> 38.994316, -84.361802 | AE13: Camp Springs Loop, Melbourne, KY 41059 | AI13: 12 | AL13: https://res.cloudinary.com/lone-star-long-riders-heart-of-texas-rally/image/upload/v1785176129/Rally/Dartboard%202026/DB012_opcvb4.jpg | AR13: =W13 -> DB012 | AS13: =H14 -> 35 | AT13: =X13 -> St Joseph Church | AU13: =Y13 -> anytime | AV13: =AE13 -> Camp Springs Loop, Melbourne, KY 41059 | AW13: =AD13 -> 38.994316, -84.361802 | AX13: =Z13 -> Take a picture of the grotto. | BR13: =A14&" - "&H14 -> DB012 - 35 | BS13: =B14 -> St Joseph Church | BT13: =C14 -> 38.994316 | BU13: =D14 -> -84.361802
A14: DB012 | B14: St Joseph Church | C14: 38.994316 | D14: -84.361802 | E14: Camp Springs Loop, Melbourne, KY 41059 | F14: Melbourne | G14: KY | H14: 35 | I14: anytime | J14: =Z13 -> Take a picture of the grotto. | U14: DB013 | W14: DB013 | X14: Old Log Church | Y14: anytime | Z14: Take a picture of the old church with your motorcycle in the picture. | AB14: 37.160273 | AC14: -86.554771 | AD14: =ROUND(AB14,6)&", "&ROUND(AC14,6) -> 37.160273, -86.554771 | AE14: 8657 Richardsville Road, Bowling Green, KY 42101 | AI14: 13 | AL14: https://res.cloudinary.com/lone-star-long-riders-heart-of-texas-rally/image/upload/v1785176130/Rally/Dartboard%202026/DB013_ozeys6.jpg | AR14: =W14 -> DB013 | AS14: =H15 -> 750 | AT14: =X14 -> Old Log Church | AU14: =Y14 -> anytime | AV14: =AE14 -> 8657 Richardsville Road, Bowling Green, KY 42101 | AW14: =AD14 -> 37.160273, -86.554771 | AX14: =Z14 -> Take a picture of the old church with your motorcycle in the picture. | BR14: =A15&" - "&H15 -> DB013 - 750 | BS14: =B15 -> Old Log Church | BT14: =C15 -> 37.160273 | BU14: =D15 -> -86.554771
A15: DB013 | B15: Old Log Church | C15: 37.160273 | D15: -86.554771 | E15: 8657 Richardsville Road, Bowling Green, KY 42101 | F15: Bowling Green | G15: KY | H15: 750 | I15: anytime | J15: =Z14 -> Take a picture of the old church with your motorcycle in the picture. | M15: DAUB OR DIE | U15: DB029 | W15: DB014 | X15: Bethabara Baptist Church | Y15: anytime | Z15: Take a picture of the historical marker for the church with the church in the background. | AB15: 37.69745 | AC15: -86.996308 | AD15: =ROUND(AB15,6)&", "&ROUND(AC15,6) -> 37.69745, -86.996308 | AE15: 6314 State Route 762, Philpot, KY 42366 | AI15: 14 | AL15: https://res.cloudinary.com/lone-star-long-riders-heart-of-texas-rally/image/upload/v1785176130/Rally/Dartboard%202026/DB014_eiaw32.jpg | AR15: =W15 -> DB014 | AS15: =H16 -> 255 | AT15: =X15 -> Bethabara Baptist Church | AU15: =Y15 -> anytime | AV15: =AE15 -> 6314 State Route 762, Philpot, KY 42366 | AW15: =AD15 -> 37.69745, -86.996308 | AX15: =Z15 -> Take a picture of the historical marker for the church with the church in the background. | BR15: =A16&" - "&H16 -> DB014 - 255 | BS15: =B16 -> Bethabara Baptist Church | BT15: =C16 -> 37.69745 | BU15: =D16 -> -86.996308
A16: DB014 | B16: Bethabara Baptist Church | C16: 37.69745 | D16: -86.996308 | E16: 6314 State Route 762, Philpot, KY 42366 | F16: Philpot | G16: KY | H16: 255 | I16: anytime | J16: =Z15 -> Take a picture of the historical marker for the church with the church in the background. | U16: DB030 | W16: DB015 | X16: White Sulphur Baptist Church | Y16: anytime | Z16: Take a picture of the church. | AB16: 38.206626 | AC16: -84.703486 | AD16: =ROUND(AB16,6)&", "&ROUND(AC16,6) -> 38.206626, -84.703486 | AE16: 5300 Iron Works Road, Georgetown, KY 40324 | AI16: 15 | AL16: https://res.cloudinary.com/lone-star-long-riders-heart-of-texas-rally/image/upload/v1785176130/Rally/Dartboard%202026/DB015_va6thq.jpg | AR16: =W16 -> DB015 | AS16: =H17 -> 465 | AT16: =X16 -> White Sulphur Baptist Church | AU16: =Y16 -> anytime | AV16: =AE16 -> 5300 Iron Works Road, Georgetown, KY 40324 | AW16: =AD16 -> 38.206626, -84.703486 | AX16: =Z16 -> Take a picture of the church. | BR16: =A17&" - "&H17 -> DB015 - 465 | BS16: =B17 -> White Sulphur Baptist Church | BT16: =C17 -> 38.206626 | BU16: =D17 -> -84.703486
A17: DB015 | B17: White Sulphur Baptist Church | C17: 38.206626 | D17: -84.703486 | E17: 5300 Iron Works Road, Georgetown, KY 40324 | F17: Georgetown | G17: KY | H17: 465 | I17: anytime | J17: =Z16 -> Take a picture of the church. | M17: Complete any Bingo = 2,500 points | U17: DB031 | W17: DB016 | X17: White Oak Church | Y17: anytime | Z17: Take a picture of the front of the church. | AB17: 38.833537 | AC17: -83.354536 | AD17: =ROUND(AB17,6)&", "&ROUND(AC17,6) -> 38.833537, -83.354536 | AE17: 558 White Oak Road, Blue Creek, OH 45616 | AI17: 16 | AL17: https://res.cloudinary.com/lone-star-long-riders-heart-of-texas-rally/image/upload/v1785176130/Rally/Dartboard%202026/DB016_meiboc.jpg | AR17: =W17 -> DB016 | AS17: =H18 -> 110 | AT17: =X17 -> White Oak Church | AU17: =Y17 -> anytime | AV17: =AE17 -> 558 White Oak Road, Blue Creek, OH 45616 | AW17: =AD17 -> 38.833537, -83.354536 | AX17: =Z17 -> Take a picture of the front of the church. | BR17: =A18&" - "&H18 -> DB016 - 110 | BS17: =B18 -> White Oak Church | BT17: =C18 -> 38.833537 | BU17: =D18 -> -83.354536
A18: DB016 | B18: White Oak Church | C18: 38.833537 | D18: -83.354536 | E18: 558 White Oak Road, Blue Creek, OH 45616 | F18: Blue Creek | G18: OH | H18: 110 | I18: anytime | J18: =Z17 -> Take a picture of the front of the church. | U18: DB032 | W18: DB017 | X18: Ripley First Presbyterian Church | Y18: anytime | Z18: Take a picture of the front of the church. | AB18: 38.748637 | AC18: -83.846171 | AD18: =ROUND(AB18,6)&", "&ROUND(AC18,6) -> 38.748637, -83.846171 | AE18: 114 Mulberry Street, Ripley, OH 45167 | AI18: 17 | AL18: https://res.cloudinary.com/lone-star-long-riders-heart-of-texas-rally/image/upload/v1785176130/Rally/Dartboard%202026/DB017_cxh0ya.jpg | AR18: =W18 -> DB017 | AS18: =H19 -> 200 | AT18: =X18 -> Ripley First Presbyterian Church | AU18: =Y18 -> anytime | AV18: =AE18 -> 114 Mulberry Street, Ripley, OH 45167 | AW18: =AD18 -> 38.748637, -83.846171 | AX18: =Z18 -> Take a picture of the front of the church. | BR18: =A19&" - "&H19 -> DB017 - 200 | BS18: =B19 -> Ripley First Presbyterian Church | BT18: =C19 -> 38.748637 | BU18: =D19 -> -83.846171
A19: DB017 | B19: Ripley First Presbyterian Church | C19: 38.748637 | D19: -83.846171 | E19: 114 Mulberry Street, Ripley, OH 45167 | F19: Ripley | G19: OH | H19: 200 | I19: anytime | J19: =Z18 -> Take a picture of the front of the church. | M19: B | N19: I | O19: N | P19: G | Q19: O | U19: DB033 | W19: DB018 | X19: John Rankin House | Y19: anytime | Z19: Take a picture of the sign for the Rankin House located at the path from the parking lot to the house. | AB19: 38.75064 | AC19: -83.843202 | AD19: =ROUND(AB19,6)&", "&ROUND(AC19,6) -> 38.75064, -83.843202 | AE19: 406 Rankin Hill Road, Ripley, OH 45167 | AI19: 18 | AL19: https://res.cloudinary.com/lone-star-long-riders-heart-of-texas-rally/image/upload/v1785176134/Rally/Dartboard%202026/DB018_o4riwn.jpg | AR19: =W19 -> DB018 | AS19: =H20 -> 195 | AT19: =X19 -> John Rankin House | AU19: =Y19 -> anytime | AV19: =AE19 -> 406 Rankin Hill Road, Ripley, OH 45167 | AW19: =AD19 -> 38.75064, -83.843202 | AX19: =Z19 -> Take a picture of the sign for the Rankin House located at the path from the parking lot to the house. | BR19: =A20&" - "&H20 -> DB018 - 195 | BS19: =B20 -> John Rankin House | BT19: =C20 -> 38.75064 | BU19: =D20 -> -83.843202
A20: DB018 | B20: John Rankin House | C20: 38.75064 | D20: -83.843202 | E20: 406 Rankin Hill Road, Ripley, OH 45167 | F20: Ripley | G20: OH | H20: 195 | I20: anytime | J20: =Z19 -> Take a picture of the sign for the Rankin House located at the path from the parking lot to the house. | M20: DB017 | N20: DB029 | O20: DB033 | P20: DB039 | Q20: DB041 | R20: {=IF(SUM(--((M20:Q20="FREE")+(COUNTIF($U$2:$U$100,M20:Q20)>0)>0))=5,1000,0)} -> 0 | U20: DB034 | W20: DB019 | X20: Phillip Moore Stone House | Y20: anytime | Z20: Take a picture of the sign for the Phillip Moore Stone House. | AB20: 38.743912 | AC20: -83.033121 | AD20: =ROUND(AB20,6)&", "&ROUND(AC20,6) -> 38.743912, -83.033121 | AE20: 470 State Route 239, West Portsmouth, OH 45663 | AI20: 19 | AL20: https://res.cloudinary.com/lone-star-long-riders-heart-of-texas-rally/image/upload/v1785176133/Rally/Dartboard%202026/DB019_alnibu.jpg | AR20: =W20 -> DB019 | AS20: =H21 -> 410 | AT20: =X20 -> Phillip Moore Stone House | AU20: =Y20 -> anytime | AV20: =AE20 -> 470 State Route 239, West Portsmouth, OH 45663 | AW20: =AD20 -> 38.743912, -83.033121 | AX20: =Z20 -> Take a picture of the sign for the Phillip Moore Stone House. | BR20: =A21&" - "&H21 -> DB019 - 410 | BS20: =B21 -> Phillip Moore Stone House | BT20: =C21 -> 38.743912 | BU20: =D21 -> -83.033121
A21: DB019 | B21: Phillip Moore Stone House | C21: 38.743912 | D21: -83.033121 | E21: 470 State Route 239, West Portsmouth, OH 45663 | F21: Washington | G21: OH | H21: 410 | I21: anytime | J21: =Z20 -> Take a picture of the sign for the Phillip Moore Stone House. | M21: DB020 | N21: DB037 | O21: DB023 | P21: DB044 | Q21: DB045 | R21: {=IF(SUM(--((M21:Q21="FREE")+(COUNTIF($U$2:$U$100,M21:Q21)>0)>0))=5,1000,0)} -> 1000 | U21: DB035 | W21: DB020 | X21: Clifty Chapel | Y21: anytime | Z21: Take a picture of the small sign which reads "Old Clifty Church." | AB21: 38.976627 | AC21: -86.761033 | AD21: =ROUND(AB21,6)&", "&ROUND(AC21,6) -> 38.976627, -86.761033 | AE21: 3088 South Old Clifty Road, Bloomfield, IN 47424 | AI21: 20 | AL21: https://res.cloudinary.com/lone-star-long-riders-heart-of-texas-rally/image/upload/v1785176144/Rally/Dartboard%202026/DB020_uboect.jpg | AR21: =W21 -> DB020 | AS21: =H22 -> 115 | AT21: =X21 -> Clifty Chapel | AU21: =Y21 -> anytime | AV21: =AE21 -> 3088 South Old Clifty Road, Bloomfield, IN 47424 | AW21: =AD21 -> 38.976627, -86.761033 | AX21: =Z21 -> Take a picture of the small sign which reads "Old Clifty Church." | BR21: =A22&" - "&H22 -> DB020 - 115 | BS21: =B22 -> Clifty Chapel | BT21: =C22 -> 38.976627 | BU21: =D22 -> -86.761033
A22: DB020 | B22: Clifty Chapel | C22: 38.976627 | D22: -86.761033 | E22: 3088 South Old Clifty Road, Bloomfield, IN 47424 | F22: Jackson | G22: IN | H22: 115 | I22: anytime | J22: =Z21 -> Take a picture of the small sign which reads "Old Clifty Church." | M22: DB021 | N22: DB022 | O22: FREE | P22: DB024 | Q22: DB046 | R22: {=IF(SUM(--((M22:Q22="FREE")+(COUNTIF($U$2:$U$100,M22:Q22)>0)>0))=5,1000,0)} -> 1000 | U22: DB036 | W22: DB021 | X22: St Mary of the Rock | Y22: anytime | Z22: Take a picture of the front of the church. | AB22: 39.347791 | AC22: -85.108525 | AD22: =ROUND(AB22,6)&", "&ROUND(AC22,6) -> 39.347791, -85.108525 | AE22: 17440 Saint Marys Road, Batesville, IN 47006 | AI22: 21 | AL22: https://res.cloudinary.com/lone-star-long-riders-heart-of-texas-rally/image/upload/v1785176132/Rally/Dartboard%202026/DB021_o92gak.jpg | AR22: =W22 -> DB021 | AS22: =H23 -> 70 | AT22: =X22 -> St Mary of the Rock | AU22: =Y22 -> anytime | AV22: =AE22 -> 17440 Saint Marys Road, Batesville, IN 47006 | AW22: =AD22 -> 39.347791, -85.108525 | AX22: =Z22 -> Take a picture of the front of the church. | BR22: =A23&" - "&H23 -> DB021 - 70 | BS22: =B23 -> St Mary of the Rock | BT22: =C23 -> 39.347791 | BU22: =D23 -> -85.108525
A23: DB021 | B23: St Mary of the Rock | C23: 39.347791 | D23: -85.108525 | E23: 17440 Saint Marys Road, Batesville, IN 47006 | F23: Butler | G23: IN | H23: 70 | I23: anytime | J23: =Z22 -> Take a picture of the front of the church. | M23: DB031 | N23: DB007 | O23: DB032 | P23: DB035 | Q23: DB008 | R23: {=IF(SUM(--((M23:Q23="FREE")+(COUNTIF($U$2:$U$100,M23:Q23)>0)>0))=5,1000,0)} -> 0 | U23: DB037 | W23: DB022 | X23: Little Cedar Grove Church | Y23: anytime | Z23: Take a picture of the front of the old church along with its historical marker. | AB23: 39.387262 | AC23: -84.981479 | AD23: =ROUND(AB23,6)&", "&ROUND(AC23,6) -> 39.387262, -84.981479 | AE23: 6102 Little Cedar Road, Brookville, IN 47012 | AI23: 22 | AL23: https://res.cloudinary.com/lone-star-long-riders-heart-of-texas-rally/image/upload/v1785176133/Rally/Dartboard%202026/DB022_oin06m.jpg | AR23: =W23 -> DB022 | AS23: =H24 -> 65 | AT23: =X23 -> Little Cedar Grove Church | AU23: =Y23 -> anytime | AV23: =AE23 -> 6102 Little Cedar Road, Brookville, IN 47012 | AW23: =AD23 -> 39.387262, -84.981479 | AX23: =Z23 -> Take a picture of the front of the old church along with its historical marker. | BR23: =A24&" - "&H24 -> DB022 - 65 | BS23: =B24 -> Little Cedar Grove Church | BT23: =C24 -> 39.387262 | BU23: =D24 -> -84.981479
A24: DB022 | B24: Little Cedar Grove Church | C24: 39.387262 | D24: -84.981479 | E24: 6102 Little Cedar Road, Brookville, IN 47012 | F24: Brookville | G24: IN | H24: 65 | I24: anytime | J24: =Z23 -> Take a picture of the front of the old church along with its historical marker. | M24: DB050 | N24: DB051 | O24: DB043 | P24: DB042 | Q24: DB030 | R24: {=IF(SUM(--((M24:Q24="FREE")+(COUNTIF($U$2:$U$100,M24:Q24)>0)>0))=5,1000,0)} -> 1000 | U24: DB038 | W24: DB023 | X24: Fredonia Baptist Church | Y24: anytime | Z24: Take a picture of the church. | AB24: 38.798783 | AC24: -85.006752 | AD24: =ROUND(AB24,6)&", "&ROUND(AC24,6) -> 38.798783, -85.006752 | AE24: 7831 Tapps Ridge Road, Vevay, IN 47043 | AI24: 23 | AL24: https://res.cloudinary.com/lone-star-long-riders-heart-of-texas-rally/image/upload/v1785176134/Rally/Dartboard%202026/DB023_dehylo.jpg | AR24: =W24 -> DB023 | AS24: =H25 -> 65 | AT24: =X24 -> Fredonia Baptist Church | AU24: =Y24 -> anytime | AV24: =AE24 -> 7831 Tapps Ridge Road, Vevay, IN 47043 | AW24: =AD24 -> 38.798783, -85.006752 | AX24: =Z24 -> Take a picture of the church. | BR24: =A25&" - "&H25 -> DB023 - 65 | BS24: =B25 -> Fredonia Baptist Church | BT24: =C25 -> 38.798783 | BU24: =D25 -> -85.006752
A25: DB023 | B25: Fredonia Baptist Church | C25: 38.798783 | D25: -85.006752 | E25: 7831 Tapps Ridge Road, Vevay, IN 47043 | F25: Jefferson | G25: IN | H25: 65 | I25: anytime | J25: =Z24 -> Take a picture of the church. | L25: {=IF(SUM(--((CHOOSE({1,2,3,4,5},Q20,P21,O22,N23,M24)="FREE")+(COUNTIF($U$2:$U$100,CHOOSE({1,2,3,4,5},Q20,P21,O22,N23,M24))>0)>0))=5,1000,0)} -> 1000 | M25: {=IF(SUM(--((M20:M24="FREE")+(COUNTIF($U$2:$U$100,M20:M24)>0)>0))=5,1000,0)} -> 0 | N25: {=IF(SUM(--((N20:N24="FREE")+(COUNTIF($U$2:$U$100,N20:N24)>0)>0))=5,1000,0)} -> 1000 | O25: {=IF(SUM(--((O20:O24="FREE")+(COUNTIF($U$2:$U$100,O20:O24)>0)>0))=5,1000,0)} -> 1000 | P25: {=IF(SUM(--((P20:P24="FREE")+(COUNTIF($U$2:$U$100,P20:P24)>0)>0))=5,1000,0)} -> 1000 | Q25: {=IF(SUM(--((Q20:Q24="FREE")+(COUNTIF($U$2:$U$100,Q20:Q24)>0)>0))=5,1000,0)} -> 0 | R25: {=IF(SUM(--((CHOOSE({1,2,3,4,5},M20,N21,O22,P23,Q24)="FREE")+(COUNTIF($U$2:$U$100,CHOOSE({1,2,3,4,5},M20,N21,O22,P23,Q24))>0)>0))=5,1000,0)} -> 0 | U25: DB039 | W25: DB024 | X25: Olive Branch Church | Y25: anytime | Z25: Take a picture of the front of the church. | AB25: 38.905474 | AC25: -85.077083 | AD25: =ROUND(AB25,6)&", "&ROUND(AC25,6) -> 38.905474, -85.077083 | AE25: 2370 Milton Bear Branch Road, Dillsboro, IN 47018 | AI25: 24 | AL25: https://res.cloudinary.com/lone-star-long-riders-heart-of-texas-rally/image/upload/v1785176134/Rally/Dartboard%202026/DB024_xzd77e.jpg | AR25: =W25 -> DB024 | AS25: =H26 -> 70 | AT25: =X25 -> Olive Branch Church | AU25: =Y25 -> anytime | AV25: =AE25 -> 2370 Milton Bear Branch Road, Dillsboro, IN 47018 | AW25: =AD25 -> 38.905474, -85.077083 | AX25: =Z25 -> Take a picture of the front of the church. | BR25: =A26&" - "&H26 -> DB024 - 70 | BS25: =B26 -> Olive Branch Church | BT25: =C26 -> 38.905474 | BU25: =D26 -> -85.077083
A26: DB024 | B26: Olive Branch Church | C26: 38.905474 | D26: -85.077083 | E26: 2370 Milton Bear Branch Road, Dillsboro, IN 47018 | F26: Pike | G26: IN | H26: 70 | I26: anytime | J26: =Z25 -> Take a picture of the front of the church. | M26: Theme: Multi-region travel with several routes that intentionally cross the Ohio River or head toward central Kentucky. | U26: DB040 | W26: DB025 | X26: Marble Furnace Church of the Brethren Memorial | Y26: anytime | Z26: Take a picture of the historical marker for the church which no longer stands here. | AB26: 38.974908 | AC26: -83.431522 | AD26: =ROUND(AB26,6)&", "&ROUND(AC26,6) -> 38.974908, -83.431522 | AE26: 6713 Louisville Road, Peebles, OH 45660 | AI26: 25 | AL26: https://res.cloudinary.com/lone-star-long-riders-heart-of-texas-rally/image/upload/v1785176134/Rally/Dartboard%202026/DB025_qtogpi.jpg | AR26: =W26 -> DB025 | AS26: =H27 -> 75 | AT26: =X26 -> Marble Furnace Church of the Brethren Memorial | AU26: =Y26 -> anytime | AV26: =AE26 -> 6713 Louisville Road, Peebles, OH 45660 | AW26: =AD26 -> 38.974908, -83.431522 | AX26: =Z26 -> Take a picture of the historical marker for the church which no longer stands here. | BR26: =A27&" - "&H27 -> DB025 - 75 | BS26: =B27 -> Marble Furnace Church of the Brethren Memorial | BT26: =C27 -> 38.974908 | BU26: =D27 -> -83.431522
A27: DB025 | B27: Marble Furnace Church of the Brethren Memorial | C27: 38.974908 | D27: -83.431522 | E27: 6713 Louisville Road, Peebles, OH 45660 | F27: Bratton | G27: OH | H27: 75 | I27: anytime | J27: =Z26 -> Take a picture of the historical marker for the church which no longer stands here. | U27: DB041 | W27: DB026 | X27: Bullitsburg Baptist Church | Y27: anytime | Z27: Take a picture of the historical marker for the church. | AB27: 39.090062 | AC27: -84.787853 | AD27: =ROUND(AB27,6)&", "&ROUND(AC27,6) -> 39.090062, -84.787853 | AE27: 2616 Bullittsburg Church Road, Petersburg, KY 41080 | AI27: 26 | AL27: https://res.cloudinary.com/lone-star-long-riders-heart-of-texas-rally/image/upload/v1785176137/Rally/Dartboard%202026/DB026_xyzu3z.jpg | AR27: =W27 -> DB026 | AS27: =H28 -> 30 | AT27: =X27 -> Bullitsburg Baptist Church | AU27: =Y27 -> anytime | AV27: =AE27 -> 2616 Bullittsburg Church Road, Petersburg, KY 41080 | AW27: =AD27 -> 39.090062, -84.787853 | AX27: =Z27 -> Take a picture of the historical marker for the church. | BR27: =A28&" - "&H28 -> DB026 - 30 | BS27: =B28 -> Bullitsburg Baptist Church | BT27: =C28 -> 39.090062 | BU27: =D28 -> -84.787853
A28: DB026 | B28: Bullitsburg Baptist Church | C28: 39.090062 | D28: -84.787853 | E28: 2616 Bullittsburg Church Road, Petersburg, KY 41080 | F28: Petersburg | G28: KY | H28: 30 | I28: anytime | J28: =Z27 -> Take a picture of the historical marker for the church. | U28: DB042 | W28: DB027 | X28: St. John the Baptist Roman Catholic Chjurch | Y28: anytime | Z28: Take a picture of the church from across the street. Have your motorcycle in the picture. | AB28: 39.046647 | AC28: -84.485297 | AD28: =ROUND(AB28,6)&", "&ROUND(AC28,6) -> 39.046647, -84.485297 | AE28: 1307 Johns Hill Road, Newport, KY 41076 | AI28: 27 | AL28: https://res.cloudinary.com/lone-star-long-riders-heart-of-texas-rally/image/upload/v1785176136/Rally/Dartboard%202026/DB027_vthnwe.jpg | AR28: =W28 -> DB027 | AS28: =H29 -> 90 | AT28: =X28 -> St. John the Baptist Roman Catholic Chjurch | AU28: =Y28 -> anytime | AV28: =AE28 -> 1307 Johns Hill Road, Newport, KY 41076 | AW28: =AD28 -> 39.046647, -84.485297 | AX28: =Z28 -> Take a picture of the church from across the street. Have your motorcycle in the picture. | BR28: =A29&" - "&H29 -> DB027 - 90 | BS28: =B29 -> St. John the Baptist Roman Catholic Chjurch | BT28: =C29 -> 39.046647 | BU28: =D29 -> -84.485297
A29: DB027 | B29: St. John the Baptist Roman Catholic Chjurch | C29: 39.046647 | D29: -84.485297 | E29: 1307 Johns Hill Road, Newport, KY 41076 | F29: Wilder | G29: KY | H29: 90 | I29: anytime | J29: =Z28 -> Take a picture of the church from across the street. Have your motorcycle in the picture. | M29: IRON CHURCH | U29: DB043 | W29: DB028 | X29: Pisgah Presbyterian Church | Y29: anytime | Z29: Take a picture of the front of the church. | AB29: 38.054112 | AC29: -84.654565 | AD29: =ROUND(AB29,6)&", "&ROUND(AC29,6) -> 38.054112, -84.654565 | AE29: 710 Pisgah Road, Versailles, KY 40383 | AI29: 28 | AL29: https://res.cloudinary.com/lone-star-long-riders-heart-of-texas-rally/image/upload/v1785176142/Rally/Dartboard%202026/DB028_dqm4t4.jpg | AR29: =W29 -> DB028 | AS29: =H30 -> 105 | AT29: =X29 -> Pisgah Presbyterian Church | AU29: =Y29 -> anytime | AV29: =AE29 -> 710 Pisgah Road, Versailles, KY 40383 | AW29: =AD29 -> 38.054112, -84.654565 | AX29: =Z29 -> Take a picture of the front of the church. | BR29: =A30&" - "&H30 -> DB028 - 105 | BS29: =B30 -> Pisgah Presbyterian Church | BT29: =C30 -> 38.054112 | BU29: =D30 -> -84.654565
A30: DB028 | B30: Pisgah Presbyterian Church | C30: 38.054112 | D30: -84.654565 | E30: 710 Pisgah Road, Versailles, KY 40383 | F30: Versailles | G30: KY | H30: 105 | I30: anytime | J30: =Z29 -> Take a picture of the front of the church. | U30: DB044 | W30: DB029 | X30: Doylesville United Methodist Church | Y30: anytime | Z30: Take a picture of the front of the church with your motorcycle in the picture. | AB30: 37.848578 | AC30: -84.164297 | AD30: =ROUND(AB30,6)&", "&ROUND(AC30,6) -> 37.848578, -84.164297 | AE30: 3420 Doylesville Rd | AI30: 29 | AL30: https://res.cloudinary.com/lone-star-long-riders-heart-of-texas-rally/image/upload/v1785176147/Rally/Dartboard%202026/DB029_ay7c8y.jpg | AR30: =W30 -> DB029 | AS30: =H31 -> 360 | AT30: =X30 -> Doylesville United Methodist Church | AU30: =Y30 -> anytime | AV30: =AE30 -> 3420 Doylesville Rd | AW30: =AD30 -> 37.848578, -84.164297 | AX30: =Z30 -> Take a picture of the front of the church with your motorcycle in the picture. | BR30: =A31&" - "&H31 -> DB029 - 360 | BS30: =B31 -> Doylesville United Methodist Church | BT30: =C31 -> 37.848578 | BU30: =D31 -> -84.164297
A31: DB029 | B31: Doylesville United Methodist Church | C31: 37.848578 | D31: -84.164297 | E31: 3420 Doylesville Rd | F31: Richmond | G31: KY | H31: 360 | I31: anytime | J31: =Z30 -> Take a picture of the front of the church with your motorcycle in the picture. | M31: Complete any Bingo = 5,000 points | U31: DB045 | W31: DB030 | X31: Richwood Presbyterian Church | Y31: anytime | Z31: Take a picture of the front of the church with your motorcycle in the picture. | AB31: 38.899087 | AC31: -84.6525 | AD31: =ROUND(AB31,6)&", "&ROUND(AC31,6) -> 38.899087, -84.6525 | AE31: 1070 Richwood Road, Walton, KY 41094 | AI31: 30 | AL31: https://res.cloudinary.com/lone-star-long-riders-heart-of-texas-rally/image/upload/v1785176138/Rally/Dartboard%202026/DB030_axur1s.jpg | AR31: =W31 -> DB030 | AS31: =H32 -> 35 | AT31: =X31 -> Richwood Presbyterian Church | AU31: =Y31 -> anytime | AV31: =AE31 -> 1070 Richwood Road, Walton, KY 41094 | AW31: =AD31 -> 38.899087, -84.6525 | AX31: =Z31 -> Take a picture of the front of the church with your motorcycle in the picture. | BR31: =A32&" - "&H32 -> DB030 - 35 | BS31: =B32 -> Richwood Presbyterian Church | BT31: =C32 -> 38.899087 | BU31: =D32 -> -84.6525
A32: DB030 | B32: Richwood Presbyterian Church | C32: 38.899087 | D32: -84.6525 | E32: 1070 Richwood Road, Walton, KY 41094 | F32: Walton | G32: KY | H32: 35 | I32: anytime | J32: =Z31 -> Take a picture of the front of the church with your motorcycle in the picture. | U32: DB046 | W32: DB031 | X32: Indian Creek Baptist Church | Y32: anytime | Z32: Take a picture of the historical marker for the church. | AB32: 38.368019 | AC32: -84.214478 | AD32: =ROUND(AB32,6)&", "&ROUND(AC32,6) -> 38.368019, -84.214478 | AE32: 123 Kentucky Highway 1771, Cynthiana, KY 41031 | AI32: 31 | AL32: https://res.cloudinary.com/lone-star-long-riders-heart-of-texas-rally/image/upload/v1785176137/Rally/Dartboard%202026/DB031_osnokg.jpg | AR32: =W32 -> DB031 | AS32: =H33 -> 605 | AT32: =X32 -> Indian Creek Baptist Church | AU32: =Y32 -> anytime | AV32: =AE32 -> 123 Kentucky Highway 1771, Cynthiana, KY 41031 | AW32: =AD32 -> 38.368019, -84.214478 | AX32: =Z32 -> Take a picture of the historical marker for the church. | BR32: =A33&" - "&H33 -> DB031 - 605 | BS32: =B33 -> Indian Creek Baptist Church | BT32: =C33 -> 38.368019 | BU32: =D33 -> -84.214478
A33: DB031 | B33: Indian Creek Baptist Church | C33: 38.368019 | D33: -84.214478 | E33: 123 Kentucky Highway 1771, Cynthiana, KY 41031 | F33: Cynthiana | G33: KY | H33: 605 | I33: anytime | J33: =Z32 -> Take a picture of the historical marker for the church. | M33: B | N33: I | O33: N | P33: G | Q33: O | U33: DB047 | W33: DB032 | X33: Goddard White Church | Y33: anytime | Z33: Take a picture of the front of the church with your motorcycle in the picture. | AB33: 38.36232 | AC33: -83.614274 | AD33: =ROUND(AB33,6)&", "&ROUND(AC33,6) -> 38.36232, -83.614274 | AE33: 32 Covered Bridge Road, Wallingford, KY 41093 | AI33: 32 | AL33: https://res.cloudinary.com/lone-star-long-riders-heart-of-texas-rally/image/upload/v1785176144/Rally/Dartboard%202026/DB032_oy1cmv.jpg | AR33: =W33 -> DB032 | AS33: =H34 -> 350 | AT33: =X33 -> Goddard White Church | AU33: =Y33 -> anytime | AV33: =AE33 -> 32 Covered Bridge Road, Wallingford, KY 41093 | AW33: =AD33 -> 38.36232, -83.614274 | AX33: =Z33 -> Take a picture of the front of the church with your motorcycle in the picture. | BR33: =A34&" - "&H34 -> DB032 - 350 | BS33: =B34 -> Goddard White Church | BT33: =C34 -> 38.36232 | BU33: =D34 -> -83.614274
A34: DB032 | B34: Goddard White Church | C34: 38.36232 | D34: -83.614274 | E34: 32 Covered Bridge Road, Wallingford, KY 41093 | F34: Wallingford | G34: KY | H34: 350 | I34: anytime | J34: =Z33 -> Take a picture of the front of the church with your motorcycle in the picture. | M34: DB016 | N34: DB008 | O34: DB039 | P34: DB020 | Q34: DB048 | R34: {=IF(SUM(--((M34:Q34="FREE")+(COUNTIF($U$2:$U$100,M34:Q34)>0)>0))=5,1000,0)} -> 0 | U34: DB048 | W34: DB033 | X34: St. Rose Church | Y34: anytime | Z34: Take a picture of the stone walkway and statue. | AB34: 37.694155 | AC34: -85.263248 | AD34: =ROUND(AB34,6)&", "&ROUND(AC34,6) -> 37.694155, -85.263248 | AE34: 868 Loretto Road, Springfield, KY 40069 | AI34: 33 | AL34: https://res.cloudinary.com/lone-star-long-riders-heart-of-texas-rally/image/upload/v1785176144/Rally/Dartboard%202026/DB033_mpjfuj.jpg | AR34: =W34 -> DB033 | AS34: =H35 -> 105 | AT34: =X34 -> St. Rose Church | AU34: =Y34 -> anytime | AV34: =AE34 -> 868 Loretto Road, Springfield, KY 40069 | AW34: =AD34 -> 37.694155, -85.263248 | AX34: =Z34 -> Take a picture of the stone walkway and statue. | BR34: =A35&" - "&H35 -> DB033 - 105 | BS34: =B35 -> St. Rose Church | BT34: =C35 -> 37.694155 | BU34: =D35 -> -85.263248
A35: DB033 | B35: St. Rose Church | C35: 37.694155 | D35: -85.263248 | E35: 868 Loretto Road, Springfield, KY 40069 | F35: Saint Catharine | G35: KY | H35: 105 | I35: anytime | J35: =Z34 -> Take a picture of the stone walkway and statue. | M35: DB003 | N35: DB047 | O35: DB043 | P35: DB046 | Q35: DB011 | R35: {=IF(SUM(--((M35:Q35="FREE")+(COUNTIF($U$2:$U$100,M35:Q35)>0)>0))=5,1000,0)} -> 1000 | U35: DB049 | W35: DB034 | X35: Monte Casino Chapel | Y35: anytime | Z35: Take a picture of the tiny chapel. | AB35: 39.02341 | AC35: -84.571191 | AD35: =ROUND(AB35,6)&", "&ROUND(AC35,6) -> 39.02341, -84.571191 | AE35: 210 Thomas More Parkway, Crestview Hills, KY 41017 | AI35: 34 | AL35: https://res.cloudinary.com/lone-star-long-riders-heart-of-texas-rally/image/upload/v1785176142/Rally/Dartboard%202026/DB034_sahngf.jpg | AR35: =W35 -> DB034 | AS35: =H36 -> 25 | AT35: =X35 -> Monte Casino Chapel | AU35: =Y35 -> anytime | AV35: =AE35 -> 210 Thomas More Parkway, Crestview Hills, KY 41017 | AW35: =AD35 -> 39.02341, -84.571191 | AX35: =Z35 -> Take a picture of the tiny chapel. | BR35: =A36&" - "&H36 -> DB034 - 25 | BS35: =B36 -> Monte Casino Chapel | BT35: =C36 -> 39.02341 | BU35: =D36 -> -84.571191
A36: DB034 | B36: Monte Casino Chapel | C36: 39.02341 | D36: -84.571191 | E36: 210 Thomas More Parkway, Crestview Hills, KY 41017 | F36: Crestview Hills | G36: KY | H36: 25 | I36: anytime | J36: =Z35 -> Take a picture of the tiny chapel. | M36: DB032 | N36: DB033 | O36: FREE | P36: DB036 | Q36: DB013 | R36: {=IF(SUM(--((M36:Q36="FREE")+(COUNTIF($U$2:$U$100,M36:Q36)>0)>0))=5,1000,0)} -> 1000 | U36: DB050 | W36: DB035 | X36: Cannel City Union Church | Y36: anytime | Z36: Take a picture of the side of the church. It may be overgrown by now, so do your best. | AB36: 37.790161 | AC36: -83.275813 | AD36: =ROUND(AB36,6)&", "&ROUND(AC36,6) -> 37.790161, -83.275813 | AE36: 9632 Highway 191, Cannel City, KY 41408 | AI36: 35 | AL36: https://res.cloudinary.com/lone-star-long-riders-heart-of-texas-rally/image/upload/v1785176143/Rally/Dartboard%202026/DB035_eyvtcr.jpg | AR36: =W36 -> DB035 | AS36: =H37 -> 15 | AT36: =X36 -> Cannel City Union Church | AU36: =Y36 -> anytime | AV36: =AE36 -> 9632 Highway 191, Cannel City, KY 41408 | AW36: =AD36 -> 37.790161, -83.275813 | AX36: =Z36 -> Take a picture of the side of the church. It may be overgrown by now, so do your best. | BR36: =A37&" - "&H37 -> DB035 - 15 | BS36: =B37 -> Cannel City Union Church | BT36: =C37 -> 37.790161 | BU36: =D37 -> -83.275813
A37: DB035 | B37: Cannel City Union Church | C37: 37.790161 | D37: -83.275813 | E37: 9632 Highway 191, Cannel City, KY 41408 | F37: Cannel City | G37: KY | H37: 15 | I37: anytime | J37: =Z36 -> Take a picture of the side of the church. It may be overgrown by now, so do your best. | M37: DB019 | N37: DB025 | O37: DB040 | P37: DB041 | Q37: DB014 | R37: {=IF(SUM(--((M37:Q37="FREE")+(COUNTIF($U$2:$U$100,M37:Q37)>0)>0))=5,1000,0)} -> 1000 | U37: DB051 | W37: DB036 | X37: Mill Creek Baptist Church | Y37: anytime | Z37: Take a picture of the church sign. | AB37: 37.828954 | AC37: -85.917911 | AD37: =ROUND(AB37,6)&", "&ROUND(AC37,6) -> 37.828954, -85.917911 | AE37: 1200 Jones Street, Radcliff, KY 40160 | AI37: 36 | AL37: https://res.cloudinary.com/lone-star-long-riders-heart-of-texas-rally/image/upload/v1785176144/Rally/Dartboard%202026/DB036_dpkbej.jpg | AR37: =W37 -> DB036 | AS37: =H38 -> 95 | AT37: =X37 -> Mill Creek Baptist Church | AU37: =Y37 -> anytime | AV37: =AE37 -> 1200 Jones Street, Radcliff, KY 40160 | AW37: =AD37 -> 37.828954, -85.917911 | AX37: =Z37 -> Take a picture of the church sign. | BR37: =A38&" - "&H38 -> DB036 - 95 | BS37: =B38 -> Mill Creek Baptist Church | BT37: =C38 -> 37.828954 | BU37: =D38 -> -85.917911
A38: DB036 | B38: Mill Creek Baptist Church | C38: 37.828954 | D38: -85.917911 | E38: 1200 Jones Street, Radcliff, KY 40160 | F38: Radcliff | G38: KY | H38: 95 | I38: anytime | J38: =Z37 -> Take a picture of the church sign. | M38: DB050 | N38: DB051 | O38: DB035 | P38: DB038 | Q38: DB044 | R38: {=IF(SUM(--((M38:Q38="FREE")+(COUNTIF($U$2:$U$100,M38:Q38)>0)>0))=5,1000,0)} -> 1000 | U38: DB020 | W38: DB037 | X38: Old Union United Methodist Church | Y38: 7a-11p | Z38: Take a picture of the church sign. | AB38: 38.735903 | AC38: -86.42682 | AD38: =ROUND(AB38,6)&", "&ROUND(AC38,6) -> 38.735903, -86.42682 | AE38: 1186 W County Rd 500 N | AI38: 37 | AL38: https://res.cloudinary.com/lone-star-long-riders-heart-of-texas-rally/image/upload/v1785176144/Rally/Dartboard%202026/DB037_ytyjbb.jpg | AR38: =W38 -> DB037 | AS38: =H39 -> 6 | AT38: =X38 -> Old Union United Methodist Church | AU38: =Y38 -> 7a-11p | AV38: =AE38 -> 1186 W County Rd 500 N | AW38: =AD38 -> 38.735903, -86.42682 | AX38: =Z38 -> Take a picture of the church sign. | BR38: =A39&" - "&H39 -> DB037 - 6 | BS38: =B39 -> Old Union United Methodist Church | BT38: =C39 -> 38.629955 | BU38: =D39 -> -86.480794
A39: DB037 | B39: Old Union United Methodist Church | C39: 38.629955 | D39: -86.480794 | E39: 1186 W County Rd 500 N | F39: Orleans | G39: IN | H39: 6 | I39: 7a-11p | J39: =Z38 -> Take a picture of the church sign. | L39: {=IF(SUM(--((CHOOSE({1,2,3,4,5},Q34,P35,O36,N37,M38)="FREE")+(COUNTIF($U$2:$U$100,CHOOSE({1,2,3,4,5},Q34,P35,O36,N37,M38))>0)>0))=5,1000,0)} -> 1000 | M39: {=IF(SUM(--((M34:M38="FREE")+(COUNTIF($U$2:$U$100,M34:M38)>0)>0))=5,1000,0)} -> 1000 | N39: {=IF(SUM(--((N34:N38="FREE")+(COUNTIF($U$2:$U$100,N34:N38)>0)>0))=5,1000,0)} -> 0 | O39: {=IF(SUM(--((O34:O38="FREE")+(COUNTIF($U$2:$U$100,O34:O38)>0)>0))=5,1000,0)} -> 1000 | P39: {=IF(SUM(--((P34:P38="FREE")+(COUNTIF($U$2:$U$100,P34:P38)>0)>0))=5,1000,0)} -> 1000 | Q39: {=IF(SUM(--((Q34:Q38="FREE")+(COUNTIF($U$2:$U$100,Q34:Q38)>0)>0))=5,1000,0)} -> 1000 | R39: {=IF(SUM(--((CHOOSE({1,2,3,4,5},M34,N35,O36,P37,Q38)="FREE")+(COUNTIF($U$2:$U$100,CHOOSE({1,2,3,4,5},M34,N35,O36,P37,Q38))>0)>0))=5,1000,0)} -> 1000 | U39: DB021 | W39: DB038 | X39: Holy Cross Church | Y39: anytime | Z39: Take a picture of the entrance of the church with the church in the background. | AB39: 37.673723 | AC39: -85.448041 | AD39: =ROUND(AB39,6)&", "&ROUND(AC39,6) -> 37.673723, -85.448041 | AE39: 126 New Haven Road, Loretto, KY 40037 | AI39: 38 | AL39: https://res.cloudinary.com/lone-star-long-riders-heart-of-texas-rally/image/upload/v1785176148/Rally/Dartboard%202026/DB038_ypjoco.jpg | AR39: =W39 -> DB038 | AS39: =H40 -> 80 | AT39: =X39 -> Holy Cross Church | AU39: =Y39 -> anytime | AV39: =AE39 -> 126 New Haven Road, Loretto, KY 40037 | AW39: =AD39 -> 37.673723, -85.448041 | AX39: =Z39 -> Take a picture of the entrance of the church with the church in the background. | BR39: =A40&" - "&H40 -> DB038 - 80 | BS39: =B40 -> Holy Cross Church | BT39: =C40 -> 37.673723 | BU39: =D40 -> -85.448041
A40: DB038 | B40: Holy Cross Church | C40: 37.673723 | D40: -85.448041 | E40: 126 New Haven Road, Loretto, KY 40037 | F40: Loretto | G40: KY | H40: 80 | I40: anytime | J40: =Z39 -> Take a picture of the entrance of the church with the church in the background. | U40: DB022 | W40: DB039 | X40: St. Charles Catholic Church | Y40: anytime | Z40: Take a picture of the front of the church with your motorcycle in the picture. | AB40: 37.594029 | AC40: -85.34396 | AD40: =ROUND(AB40,6)&", "&ROUND(AC40,6) -> 37.594029, -85.34396 | AE40: 675 Highway 327, Lebanon, KY 40033 | AI40: 39 | AL40: https://res.cloudinary.com/lone-star-long-riders-heart-of-texas-rally/image/upload/v1785176151/Rally/Dartboard%202026/DB039_qpmicr.jpg | AR40: =W40 -> DB039 | AS40: =H41 -> 160 | AT40: =X40 -> St. Charles Catholic Church | AU40: =Y40 -> anytime | AV40: =AE40 -> 675 Highway 327, Lebanon, KY 40033 | AW40: =AD40 -> 37.594029, -85.34396 | AX40: =Z40 -> Take a picture of the front of the church with your motorcycle in the picture. | BR40: =A41&" - "&H41 -> DB039 - 160 | BS40: =B41 -> St. Charles Catholic Church | BT40: =C41 -> 37.594029 | BU40: =D41 -> -85.34396
A41: DB039 | B41: St. Charles Catholic Church | C41: 37.594029 | D41: -85.34396 | E41: 675 Highway 327, Lebanon, KY 40033 | F41: Lebanon | G41: KY | H41: 160 | I41: anytime | J41: =Z40 -> Take a picture of the front of the church with your motorcycle in the picture. | U41: DB023 | W41: DB040 | X41: St Augustine Church | Y41: anytime | Z41: Take a picture of the church sign. | AB41: 37.56832 | AC41: -85.251556 | AD41: =ROUND(AB41,6)&", "&ROUND(AC41,6) -> 37.56832, -85.251556 | AE41: 235 South Spalding Avenue, Lebanon, KY 40033 | AI41: 40 | AL41: https://res.cloudinary.com/lone-star-long-riders-heart-of-texas-rally/image/upload/v1785176146/Rally/Dartboard%202026/DB040_gehv0k.jpg | AR41: =W41 -> DB040 | AS41: =H42 -> 6 | AT41: =X41 -> St Augustine Church | AU41: =Y41 -> anytime | AV41: =AE41 -> 235 South Spalding Avenue, Lebanon, KY 40033 | AW41: =AD41 -> 37.56832, -85.251556 | AX41: =Z41 -> Take a picture of the church sign. | BR41: =A42&" - "&H42 -> DB040 - 6 | BS41: =B42 -> St Augustine Church | BT41: =C42 -> 37.56832 | BU41: =D42 -> -85.251556
A42: DB040 | B42: St Augustine Church | C42: 37.56832 | D42: -85.251556 | E42: 235 South Spalding Avenue, Lebanon, KY 40033 | F42: Lebanon | G42: KY | H42: 6 | I42: anytime | J42: =Z41 -> Take a picture of the church sign. | U42: DB024 | W42: DB041 | X42: St. Vincent de Paul Catholic Church | Y42: anytime | Z42: Take a picture of the church. | AB42: 37.630601 | AC42: -85.507444 | AD42: =ROUND(AB42,6)&", "&ROUND(AC42,6) -> 37.630601, -85.507444 | AE42: 104 Church Street, New Hope, KY 40052 | AI42: 41 | AL42: https://res.cloudinary.com/lone-star-long-riders-heart-of-texas-rally/image/upload/v1785176148/Rally/Dartboard%202026/DB041_s3n7mn.jpg | AR42: =W42 -> DB041 | AS42: =H43 -> 85 | AT42: =X42 -> St. Vincent de Paul Catholic Church | AU42: =Y42 -> anytime | AV42: =AE42 -> 104 Church Street, New Hope, KY 40052 | AW42: =AD42 -> 37.630601, -85.507444 | AX42: =Z42 -> Take a picture of the church. | BR42: =A43&" - "&H43 -> DB041 - 85 | BS42: =B43 -> St. Vincent de Paul Catholic Church | BT42: =C43 -> 37.630601 | BU42: =D43 -> -85.507444
A43: DB041 | B43: St. Vincent de Paul Catholic Church | C43: 37.630601 | D43: -85.507444 | E43: 104 Church Street, New Hope, KY 40052 | F43: New Hope | G43: KY | H43: 85 | I43: anytime | J43: =Z42 -> Take a picture of the church. | U43: DB025 | W43: DB042 | X43: St. Joseph Catholic Church | Y43: anytime | Z43: Take a picture of the statue in the middle of the parking lot with your motorcycle in the picture.. | AB43: 38.780422 | AC43: -84.900665 | AD43: =ROUND(AB43,6)&", "&ROUND(AC43,6) -> 38.780422, -84.900665 | AE43: 602 Kirby Avenue, Warsaw, KY 41095 | AI43: 42 | AL43: https://res.cloudinary.com/lone-star-long-riders-heart-of-texas-rally/image/upload/v1785176148/Rally/Dartboard%202026/DB042_mnrpxu.jpg | AR43: =W43 -> DB042 | AS43: =H44 -> 45 | AT43: =X43 -> St. Joseph Catholic Church | AU43: =Y43 -> anytime | AV43: =AE43 -> 602 Kirby Avenue, Warsaw, KY 41095 | AW43: =AD43 -> 38.780422, -84.900665 | AX43: =Z43 -> Take a picture of the statue in the middle of the parking lot with your motorcycle in the picture.. | BR43: =A44&" - "&H44 -> DB042 - 45 | BS43: =B44 -> St. Joseph Catholic Church | BT43: =C44 -> 38.780422 | BU43: =D44 -> -84.900665
A44: DB042 | B44: St. Joseph Catholic Church | C44: 38.780422 | D44: -84.900665 | E44: 602 Kirby Avenue, Warsaw, KY 41095 | F44: Warsaw | G44: KY | H44: 45 | I44: anytime | J44: =Z43 -> Take a picture of the statue in the middle of the parking lot with your motorcycle in the picture.. | U44: DB026 | W44: DB043 | X44: Grant's Creek Baptist Church | Y44: anytime | Z44: Take a picture of the front of the church. | AB44: 38.900365 | AC44: -84.894904 | AD44: =ROUND(AB44,6)&", "&ROUND(AC44,6) -> 38.900365, -84.894904 | AE44: 14685 Lower Grants Creek Road, Rising Sun, IN 47040 | AI44: 43 | AL44: https://res.cloudinary.com/lone-star-long-riders-heart-of-texas-rally/image/upload/v1785176148/Rally/Dartboard%202026/DB043_hojw59.jpg | AR44: =W44 -> DB043 | AS44: =H45 -> 245 | AT44: =X44 -> Grant's Creek Baptist Church | AU44: =Y44 -> anytime | AV44: =AE44 -> 14685 Lower Grants Creek Road, Rising Sun, IN 47040 | AW44: =AD44 -> 38.900365, -84.894904 | AX44: =Z44 -> Take a picture of the front of the church. | BR44: =A45&" - "&H45 -> DB043 - 245 | BS44: =B45 -> Grant's Creek Baptist Church | BT44: =C45 -> 38.900365 | BU44: =D45 -> -84.894904
A45: DB043 | B45: Grant's Creek Baptist Church | C45: 38.900365 | D45: -84.894904 | E45: 14685 Lower Grants Creek Road, Rising Sun, IN 47040 | F45: Posey | G45: IN | H45: 245 | I45: anytime | J45: =Z44 -> Take a picture of the front of the church. | U45: DB027 | W45: DB044 | X45: Antioch Church | Y45: anytime | Z45: Take a picture of the front of the church. | AB45: 38.550919 | AC45: -85.273443 | AD45: =ROUND(AB45,6)&", "&ROUND(AC45,6) -> 38.550919, -85.273443 | AE45: 4249 Highway 421 South, Bedford, KY 40006 | AI45: 44 | AL45: https://res.cloudinary.com/lone-star-long-riders-heart-of-texas-rally/image/upload/v1785176150/Rally/Dartboard%202026/DB044_lswi91.jpg | AR45: =W45 -> DB044 | AS45: =H46 -> 750 | AT45: =X45 -> Antioch Church | AU45: =Y45 -> anytime | AV45: =AE45 -> 4249 Highway 421 South, Bedford, KY 40006 | AW45: =AD45 -> 38.550919, -85.273443 | AX45: =Z45 -> Take a picture of the front of the church. | BR45: =A46&" - "&H46 -> DB044 - 750 | BS45: =B46 -> Antioch Church | BT45: =C46 -> 38.550919 | BU45: =D46 -> -85.273443
A46: DB044 | B46: Antioch Church | C46: 38.550919 | D46: -85.273443 | E46: 4249 Highway 421 South, Bedford, KY 40006 | F46: Bedford | G46: KY | H46: 750 | I46: anytime | J46: =Z45 -> Take a picture of the front of the church. | U46: DB019 | W46: DB045 | X46: Dover Baptist Church | Y46: anytime | Z46: Take a picture of the church sign with the building in the background. | AB46: 38.308094 | AC46: -85.294727 | AD46: =ROUND(AB46,6)&", "&ROUND(AC46,6) -> 38.308094, -85.294727 | AE46: 7327 Dover Road, Shelbyville, KY 40065 | AI46: 45 | AL46: https://res.cloudinary.com/lone-star-long-riders-heart-of-texas-rally/image/upload/v1785176151/Rally/Dartboard%202026/DB045_mywydu.jpg | AR46: =W46 -> DB045 | AS46: =H47 -> 75 | AT46: =X46 -> Dover Baptist Church | AU46: =Y46 -> anytime | AV46: =AE46 -> 7327 Dover Road, Shelbyville, KY 40065 | AW46: =AD46 -> 38.308094, -85.294727 | AX46: =Z46 -> Take a picture of the church sign with the building in the background. | BR46: =A47&" - "&H47 -> DB045 - 75 | BS46: =B47 -> Dover Baptist Church | BT46: =C47 -> 38.308094 | BU46: =D47 -> -85.294727
A47: DB045 | B47: Dover Baptist Church | C47: 38.308094 | D47: -85.294727 | E47: 7327 Dover Road, Shelbyville, KY 40065 | F47: Shelbyville | G47: KY | H47: 75 | I47: anytime | J47: =Z46 -> Take a picture of the church sign with the building in the background. | U47: DB002 | W47: DB046 | X47: Old Salem United Methodist Church | Y47: anytime | Z47: Take a picture of the church sign with the building in the background. | AB47: 38.487616 | AC47: -85.600881 | AD47: =ROUND(AB47,6)&", "&ROUND(AC47,6) -> 38.487616, -85.600881 | AE47: 7921 Salem Church Road, Charlestown, IN 47111 | AI47: 46 | AL47: https://res.cloudinary.com/lone-star-long-riders-heart-of-texas-rally/image/upload/v1785176150/Rally/Dartboard%202026/DB046_mcfdgs.jpg | AR47: =W47 -> DB046 | AS47: =H48 -> 440 | AT47: =X47 -> Old Salem United Methodist Church | AU47: =Y47 -> anytime | AV47: =AE47 -> 7921 Salem Church Road, Charlestown, IN 47111 | AW47: =AD47 -> 38.487616, -85.600881 | AX47: =Z47 -> Take a picture of the church sign with the building in the background. | BR47: =A48&" - "&H48 -> DB046 - 440 | BS47: =B48 -> Old Salem United Methodist Church | BT47: =C48 -> 38.487616 | BU47: =D48 -> -85.600881
A48: DB046 | B48: Old Salem United Methodist Church | C48: 38.487616 | D48: -85.600881 | E48: 7921 Salem Church Road, Charlestown, IN 47111 | F48: Charlestown | G48: IN | H48: 440 | I48: anytime | J48: =Z47 -> Take a picture of the church sign with the building in the background. | W48: DB047 | X48: Union Grove General Baptist Church | Y48: anytime | Z48: Take a picture of the front of the church. | AB48: 37.208342 | AC48: -87.880726 | AD48: =ROUND(AB48,6)&", "&ROUND(AC48,6) -> 37.208342, -87.880726 | AE48: 350 Shady Grove Road, Princeton, KY 42445 | AI48: 47 | AL48: https://res.cloudinary.com/lone-star-long-riders-heart-of-texas-rally/image/upload/v1785176150/Rally/Dartboard%202026/DB047_bagw7e.jpg | AR48: =W48 -> DB047 | AS48: =H49 -> 750 | AT48: =X48 -> Union Grove General Baptist Church | AU48: =Y48 -> anytime | AV48: =AE48 -> 350 Shady Grove Road, Princeton, KY 42445 | AW48: =AD48 -> 37.208342, -87.880726 | AX48: =Z48 -> Take a picture of the front of the church. | BR48: =A49&" - "&H49 -> DB047 - 750 | BS48: =B49 -> Union Grove General Baptist Church | BT48: =C49 -> 37.208342 | BU48: =D49 -> -87.880726
A49: DB047 | B49: Union Grove General Baptist Church | C49: 37.208342 | D49: -87.880726 | E49: 350 Shady Grove Road, Princeton, KY 42445 | F49: Princeton | G49: KY | H49: 750 | I49: anytime | J49: =Z48 -> Take a picture of the front of the church. | W49: DB048 | X49: Hawkins Church | Y49: anytime | Z49: Take a picture of the sign for the church cemetery. | AB49: 37.037185 | AC49: -87.654307 | AD49: =ROUND(AB49,6)&", "&ROUND(AC49,6) -> 37.037185, -87.654307 | AE49: 17385 Bainbridge Road, Cerulean, KY 42215 | AI49: 48 | AL49: https://res.cloudinary.com/lone-star-long-riders-heart-of-texas-rally/image/upload/v1785176151/Rally/Dartboard%202026/DB048_qwudry.jpg | AR49: =W49 -> DB048 | AS49: =H50 -> 750 | AT49: =X49 -> Hawkins Church | AU49: =Y49 -> anytime | AV49: =AE49 -> 17385 Bainbridge Road, Cerulean, KY 42215 | AW49: =AD49 -> 37.037185, -87.654307 | AX49: =Z49 -> Take a picture of the sign for the church cemetery. | BR49: =A50&" - "&H50 -> DB048 - 750 | BS49: =B50 -> Hawkins Church | BT49: =C50 -> 37.037185 | BU49: =D50 -> -87.654307
A50: DB048 | B50: Hawkins Church | C50: 37.037185 | D50: -87.654307 | E50: 17385 Bainbridge Road, Cerulean, KY 42215 | F50: Crofton | G50: KY | H50: 750 | I50: anytime | J50: =Z49 -> Take a picture of the sign for the church cemetery. | W50: DB049 | X50: Antioch Church of Christ | Y50: anytime | Z50: Take a picture of the front of the Antioch Church. | AB50: 38.536087 | AC50: -84.631344 | AD50: =ROUND(AB50,6)&", "&ROUND(AC50,6) -> 38.536087, -84.631344 | AE50: 3505 Keefer Road, Corinth, KY 41010 | AI50: 49 | AL50: https://res.cloudinary.com/lone-star-long-riders-heart-of-texas-rally/image/upload/v1785176151/Rally/Dartboard%202026/DB049_jsu2eb.jpg | AR50: =W50 -> DB049 | AS50: =H51 -> 65 | AT50: =X50 -> Antioch Church of Christ | AU50: =Y50 -> anytime | AV50: =AE50 -> 3505 Keefer Road, Corinth, KY 41010 | AW50: =AD50 -> 38.536087, -84.631344 | AX50: =Z50 -> Take a picture of the front of the Antioch Church. | BR50: =A51&" - "&H51 -> DB049 - 65 | BS50: =B51 -> Antioch Church of Christ | BT50: =C51 -> 38.536087 | BU50: =D51 -> -84.631344
A51: DB049 | B51: Antioch Church of Christ | C51: 38.536087 | D51: -84.631344 | E51: 3505 Keefer Road, Corinth, KY 41010 | F51: Corinth | G51: KY | H51: 65 | I51: anytime | J51: =Z50 -> Take a picture of the front of the Antioch Church. | W51: DB050 | X51: Salem Baptist Church | Y51: anytime | Z51: Take a picture of the church. | AB51: 38.570456 | AC51: -84.939632 | AD51: =ROUND(AB51,6)&", "&ROUND(AC51,6) -> 38.570456, -84.939632 | AE51: 1750 Big Twin Creek Road, Worthville, KY 41098 | AI51: 50 | AL51: https://res.cloudinary.com/lone-star-long-riders-heart-of-texas-rally/image/upload/v1785176151/Rally/Dartboard%202026/DB050_czonkt.jpg | AR51: =W51 -> DB050 | AS51: =H52 -> 231 | AT51: =X51 -> Salem Baptist Church | AU51: =Y51 -> anytime | AV51: =AE51 -> 1750 Big Twin Creek Road, Worthville, KY 41098 | AW51: =AD51 -> 38.570456, -84.939632 | AX51: =Z51 -> Take a picture of the church. | BR51: =A52&" - "&H52 -> DB050 - 231 | BS51: =B52 -> Salem Baptist Church | BT51: =C52 -> 38.570456 | BU51: =D52 -> -84.939632
A52: DB050 | B52: Salem Baptist Church | C52: 38.570456 | D52: -84.939632 | E52: 1750 Big Twin Creek Road, Worthville, KY 41098 | F52: Worthville | G52: KY | H52: 231 | I52: anytime | J52: =Z51 -> Take a picture of the church. | W52: DB051 | X52: Blanket Creek Baptist Church | Y52: anytime | Z52: Take a picture of the front of the church. | AB52: 38.593209 | AC52: -84.350312 | AD52: =ROUND(AB52,6)&", "&ROUND(AC52,6) -> 38.593209, -84.350312 | AE52: 5080 Broadford Road, Falmouth, KY 41040 | AI52: 51 | AL52: https://res.cloudinary.com/lone-star-long-riders-heart-of-texas-rally/image/upload/v1785176151/Rally/Dartboard%202026/DB051_l61l1y.jpg | AR52: =W52 -> DB051 | AS52: =H53 -> 440 | AT52: =X52 -> Blanket Creek Baptist Church | AU52: =Y52 -> anytime | AV52: =AE52 -> 5080 Broadford Road, Falmouth, KY 41040 | AW52: =AD52 -> 38.593209, -84.350312 | AX52: =Z52 -> Take a picture of the front of the church. | BR52: =A53&" - "&H53 -> DB051 - 440 | BS52: =B53 -> Blanket Creek Baptist Church | BT52: =C53 -> 38.593209 | BU52: =D53 -> -84.350312
A53: DB051 | B53: Blanket Creek Baptist Church | C53: 38.593209 | D53: -84.350312 | E53: 5080 Broadford Road, Falmouth, KY 41040 | F53: Falmouth | G53: KY | H53: 440 | I53: anytime | J53: =Z52 -> Take a picture of the front of the church. | W53: XEAT1 | X53: Meal Bonus | Y53: 10:30a-12:30p | Z53: Go sit down and take a 20 minute meal break. Use the clock in the scoring app. Take a picture of your meal with your flag in the picture. It needs to be a restaurant, not a fast food joint. We PREFER it's a fun country diner, but with only 20 minutes, some of your are going to do something goofy. Eat something that is NOT handed to you in a bag, or wrapped up, that you eat in the parking lot or out of your tank bag as your ride down the road. | AI53: 52
A54: XEAT1 | B54: Meal Bonus | H54: 3000 | I54: 10:30a-12:30p | J54: =Z53 -> Go sit down and take a 20 minute meal break. Use the clock in the scoring app. Take a picture of your meal with your flag in the picture. It needs to be a restaurant, not a fast food joint. We PREFER it's a fun country diner, but with only 20 minutes, some of your are going to do something goofy. Eat something that is NOT handed to you in a bag, or wrapped up, that you eat in the parking lot or out of your tank bag as your ride down the road.

Sheet ScoreHelper
D1: 1
T2: 1 | U2: =IF(#REF!="","",#REF!) -> #REF! | AL2: DENIAL | AN2: =IF(#REF!="","","D") -> #REF!
BE3: BLUE HAIR BINGO
A5: SCOREHELPER | L5: BLUE HAIR BINGO | BE5: B | BF5: I | BG5: N | BH5: G | BI5: O
L6: B | M6: I | N6: N | O6: G | P6: O | BE6: DB002 | BF6: DB012 | BG6: DB027 | BH6: DB026 | BI6: DB030
A7: =L5 -> BLUE HAIR BINGO | E7: {=INDIRECT("'PACKET("&$D$1&")'!C1")} -> 0 | K7: Row 1 | L7: {=IF(COUNTIF(INDIRECT("'PACKET("&$D$1&")'!$J$3:$J$54"),INDIRECT("'PACKET("&$D$1&")'!"&AY7))=1,INDIRECT("'PACKET("&$D$1&")'!"&AY7),"")} | M7: {=IF(COUNTIF(INDIRECT("'PACKET("&$D$1&")'!$J$3:$J$54"),INDIRECT("'PACKET("&$D$1&")'!"&AZ7))=1,INDIRECT("'PACKET("&$D$1&")'!"&AZ7),"")} | N7: {=IF(COUNTIF(INDIRECT("'PACKET("&$D$1&")'!$J$3:$J$54"),INDIRECT("'PACKET("&$D$1&")'!"&BA7))=1,INDIRECT("'PACKET("&$D$1&")'!"&BA7),"")} | O7: {=IF(COUNTIF(INDIRECT("'PACKET("&$D$1&")'!$J$3:$J$54"),INDIRECT("'PACKET("&$D$1&")'!"&BB7))=1,INDIRECT("'PACKET("&$D$1&")'!"&BB7),"")} | P7: {=IF(COUNTIF(INDIRECT("'PACKET("&$D$1&")'!$J$3:$J$54"),INDIRECT("'PACKET("&$D$1&")'!"&BC7))=1,INDIRECT("'PACKET("&$D$1&")'!"&BC7),"")} | Q7: {=INDIRECT("'PACKET("&$D$1&")'!"&AW7)} | AW7: BF7 | AY7: AZ7 | AZ7: BA7 | BA7: BB7 | BB7: BC7 | BC7: BD7 | BE7: DB042 | BF7: DB050 | BG7: DB051 | BH7: DB043 | BI7: DB046
A8: =L14 -> DAUB OR DIE | E8: {=INDIRECT("'PACKET("&$D$1&")'!e1")} -> 0 | K8: Row 2 | L8: {=IF(COUNTIF(INDIRECT("'PACKET("&$D$1&")'!$J$3:$J$54"),INDIRECT("'PACKET("&$D$1&")'!"&AY8))=1,INDIRECT("'PACKET("&$D$1&")'!"&AY8),"")} | M8: {=IF(COUNTIF(INDIRECT("'PACKET("&$D$1&")'!$J$3:$J$54"),INDIRECT("'PACKET("&$D$1&")'!"&AZ8))=1,INDIRECT("'PACKET("&$D$1&")'!"&AZ8),"")} | N8: {=IF(COUNTIF(INDIRECT("'PACKET("&$D$1&")'!$J$3:$J$54"),INDIRECT("'PACKET("&$D$1&")'!"&BA8))=1,INDIRECT("'PACKET("&$D$1&")'!"&BA8),"")} | O8: {=IF(COUNTIF(INDIRECT("'PACKET("&$D$1&")'!$J$3:$J$54"),INDIRECT("'PACKET("&$D$1&")'!"&BB8))=1,INDIRECT("'PACKET("&$D$1&")'!"&BB8),"")} | P8: {=IF(COUNTIF(INDIRECT("'PACKET("&$D$1&")'!$J$3:$J$54"),INDIRECT("'PACKET("&$D$1&")'!"&BC8))=1,INDIRECT("'PACKET("&$D$1&")'!"&BC8),"")} | Q8: {=INDIRECT("'PACKET("&$D$1&")'!"&AW8)} | AW8: BF8 | AY8: AZ8 | AZ8: BA8 | BA8: BB8 | BB8: BC8 | BC8: BD8 | BE8: DB028 | BF8: DB015 | BG8: FREE | BH8: DB031 | BI8: DB032
A9: =L23 -> IRON CHURCH | E9: {=INDIRECT("'PACKET("&$D$1&")'!g1")} -> 0 | K9: Row 3 | L9: {=IF(COUNTIF(INDIRECT("'PACKET("&$D$1&")'!$J$3:$J$54"),INDIRECT("'PACKET("&$D$1&")'!"&AY9))=1,INDIRECT("'PACKET("&$D$1&")'!"&AY9),"")} | M9: {=IF(COUNTIF(INDIRECT("'PACKET("&$D$1&")'!$J$3:$J$54"),INDIRECT("'PACKET("&$D$1&")'!"&AZ9))=1,INDIRECT("'PACKET("&$D$1&")'!"&AZ9),"")} | N9: FREE | O9: {=IF(COUNTIF(INDIRECT("'PACKET("&$D$1&")'!$J$3:$J$54"),INDIRECT("'PACKET("&$D$1&")'!"&BB9))=1,INDIRECT("'PACKET("&$D$1&")'!"&BB9),"")} | P9: {=IF(COUNTIF(INDIRECT("'PACKET("&$D$1&")'!$J$3:$J$54"),INDIRECT("'PACKET("&$D$1&")'!"&BC9))=1,INDIRECT("'PACKET("&$D$1&")'!"&BC9),"")} | Q9: {=INDIRECT("'PACKET("&$D$1&")'!"&AW9)} | AW9: BF9 | AY9: AZ9 | AZ9: BA9 | BA9: BB9 | BB9: BC9 | BC9: BD9 | BE9: DB001 | BF9: DB004 | BG9: DB029 | BH9: DB005 | BI9: DB006
A10: BONUSES | E10: {=INDIRECT("'PACKET("&$D$1&")'!i1")} -> 0 | K10: Row 4 | L10: {=IF(COUNTIF(INDIRECT("'PACKET("&$D$1&")'!$J$3:$J$54"),INDIRECT("'PACKET("&$D$1&")'!"&AY10))=1,INDIRECT("'PACKET("&$D$1&")'!"&AY10),"")} | M10: {=IF(COUNTIF(INDIRECT("'PACKET("&$D$1&")'!$J$3:$J$54"),INDIRECT("'PACKET("&$D$1&")'!"&AZ10))=1,INDIRECT("'PACKET("&$D$1&")'!"&AZ10),"")} | N10: {=IF(COUNTIF(INDIRECT("'PACKET("&$D$1&")'!$J$3:$J$54"),INDIRECT("'PACKET("&$D$1&")'!"&BA10))=1,INDIRECT("'PACKET("&$D$1&")'!"&BA10),"")} | O10: {=IF(COUNTIF(INDIRECT("'PACKET("&$D$1&")'!$J$3:$J$54"),INDIRECT("'PACKET("&$D$1&")'!"&BB10))=1,INDIRECT("'PACKET("&$D$1&")'!"&BB10),"")} | P10: {=IF(COUNTIF(INDIRECT("'PACKET("&$D$1&")'!$J$3:$J$54"),INDIRECT("'PACKET("&$D$1&")'!"&BC10))=1,INDIRECT("'PACKET("&$D$1&")'!"&BC10),"")} | Q10: {=INDIRECT("'PACKET("&$D$1&")'!"&AW10)} | AW10: BF10 | AY10: AZ10 | AZ10: BA10 | BA10: BB10 | BB10: BC10 | BC10: BD10 | BE10: DB017 | BF10: DB018 | BG10: DB025 | BH10: DB016 | BI10: DB019
A11: TOTAL ALL | E11: {=INDIRECT("'PACKET("&$D$1&")'!k1")} -> 0 | K11: Row 5 | L11: {=IF(COUNTIF(INDIRECT("'PACKET("&$D$1&")'!$J$3:$J$54"),INDIRECT("'PACKET("&$D$1&")'!"&AY11))=1,INDIRECT("'PACKET("&$D$1&")'!"&AY11),"")} | M11: {=IF(COUNTIF(INDIRECT("'PACKET("&$D$1&")'!$J$3:$J$54"),INDIRECT("'PACKET("&$D$1&")'!"&AZ11))=1,INDIRECT("'PACKET("&$D$1&")'!"&AZ11),"")} | N11: {=IF(COUNTIF(INDIRECT("'PACKET("&$D$1&")'!$J$3:$J$54"),INDIRECT("'PACKET("&$D$1&")'!"&BA11))=1,INDIRECT("'PACKET("&$D$1&")'!"&BA11),"")} | O11: {=IF(COUNTIF(INDIRECT("'PACKET("&$D$1&")'!$J$3:$J$54"),INDIRECT("'PACKET("&$D$1&")'!"&BB11))=1,INDIRECT("'PACKET("&$D$1&")'!"&BB11),"")} | P11: {=IF(COUNTIF(INDIRECT("'PACKET("&$D$1&")'!$J$3:$J$54"),INDIRECT("'PACKET("&$D$1&")'!"&BC11))=1,INDIRECT("'PACKET("&$D$1&")'!"&BC11),"")} | Q11: {=INDIRECT("'PACKET("&$D$1&")'!"&AW11)} | AW11: BF11 | AY11: AZ11 | AZ11: BA11 | BA11: BB11 | BB11: BC11 | BC11: BD11
K12: {=INDIRECT("'PACKET("&$D$1&")'!"&AQ12)} | L12: {=INDIRECT("'PACKET("&$D$1&")'!"&AR12)} | M12: {=INDIRECT("'PACKET("&$D$1&")'!"&AS12)} | N12: {=INDIRECT("'PACKET("&$D$1&")'!"&AT12)} | O12: {=INDIRECT("'PACKET("&$D$1&")'!"&AU12)} | P12: {=INDIRECT("'PACKET("&$D$1&")'!"&AV12)} | Q12: {=INDIRECT("'PACKET("&$D$1&")'!"&AW12)} | AQ12: AX13 | AR12: AZ13 | AS12: BA13 | AT12: BB13 | AU12: BC13 | AV12: BD13 | AW12: BF13 | BE12: DAUB OR DIE
B13: SEQ | C13: CODE | E13: NAME | I13: A/D | J13: PTS
A14: 1 | B14: =A14 -> 1 | E14: =IF(C14="","",_xlfn.XLOOKUP(C14,Bonuses!$A$3:$A$54,Bonuses!$B$3:$B$54)) | I14: A | J14: {=_xlfn.IFNA(IF(OR(_xlfn.XLOOKUP(A14,INDIRECT("'PACKET("&$D$1&")'!$A$3:$A$54"),INDIRECT("'PACKET("&$D$1&")'!$C$3:$C$54"))="",_xlfn.XLOOKUP(A14,INDIRECT("'PACKET("&$D$1&")'!$A$3:$A$54"),INDIRECT("'PACKET("&$D$1&")'!$e$3:$e$54"))=""),"",_xlfn.XLOOKUP(C14,Bonuses!$A$3:$A$54,Bonuses!$H$3:$H$54)),"")} | L14: DAUB OR DIE | BE14: B | BF14: I | BG14: N | BH14: G | BI14: O
A15: 2 | B15: =A15 -> 2 | E15: =IF(C15="","",_xlfn.XLOOKUP(C15,Bonuses!$A$3:$A$54,Bonuses!$B$3:$B$54)) | I15: A | J15: {=_xlfn.IFNA(IF(OR(_xlfn.XLOOKUP(A15,INDIRECT("'PACKET("&$D$1&")'!$A$3:$A$54"),INDIRECT("'PACKET("&$D$1&")'!$C$3:$C$54"))="",_xlfn.XLOOKUP(A15,INDIRECT("'PACKET("&$D$1&")'!$A$3:$A$54"),INDIRECT("'PACKET("&$D$1&")'!$e$3:$e$54"))=""),"",_xlfn.XLOOKUP(C15,Bonuses!$A$3:$A$54,Bonuses!$H$3:$H$54)),"")} | L15: B | M15: I | N15: N | O15: G | P15: O | BE15: DB017 | BF15: DB029 | BG15: DB033 | BH15: DB039 | BI15: DB041
A16: 3 | B16: =A16 -> 3 | E16: =IF(C16="","",_xlfn.XLOOKUP(C16,Bonuses!$A$3:$A$54,Bonuses!$B$3:$B$54)) | I16: A | J16: {=_xlfn.IFNA(IF(OR(_xlfn.XLOOKUP(A16,INDIRECT("'PACKET("&$D$1&")'!$A$3:$A$54"),INDIRECT("'PACKET("&$D$1&")'!$C$3:$C$54"))="",_xlfn.XLOOKUP(A16,INDIRECT("'PACKET("&$D$1&")'!$A$3:$A$54"),INDIRECT("'PACKET("&$D$1&")'!$e$3:$e$54"))=""),"",_xlfn.XLOOKUP(C16,Bonuses!$A$3:$A$54,Bonuses!$H$3:$H$54)),"")} | K16: Row 1 | L16: {=IF(COUNTIF(INDIRECT("'PACKET("&$D$1&")'!$J$3:$J$54"),INDIRECT("'PACKET("&$D$1&")'!"&AY16))=1,INDIRECT("'PACKET("&$D$1&")'!"&AY16),"")} | M16: {=IF(COUNTIF(INDIRECT("'PACKET("&$D$1&")'!$J$3:$J$54"),INDIRECT("'PACKET("&$D$1&")'!"&AZ16))=1,INDIRECT("'PACKET("&$D$1&")'!"&AZ16),"")} | N16: {=IF(COUNTIF(INDIRECT("'PACKET("&$D$1&")'!$J$3:$J$54"),INDIRECT("'PACKET("&$D$1&")'!"&BA16))=1,INDIRECT("'PACKET("&$D$1&")'!"&BA16),"")} | O16: {=IF(COUNTIF(INDIRECT("'PACKET("&$D$1&")'!$J$3:$J$54"),INDIRECT("'PACKET("&$D$1&")'!"&BB16))=1,INDIRECT("'PACKET("&$D$1&")'!"&BB16),"")} | P16: {=IF(COUNTIF(INDIRECT("'PACKET("&$D$1&")'!$J$3:$J$54"),INDIRECT("'PACKET("&$D$1&")'!"&BC16))=1,INDIRECT("'PACKET("&$D$1&")'!"&BC16),"")} | Q16: {=INDIRECT("'PACKET("&$D$1&")'!"&AW16)} | AW16: BF21 | AY16: AZ21 | AZ16: BA21 | BA16: BB21 | BB16: BC21 | BC16: BD21 | BE16: DB020 | BF16: DB037 | BG16: DB023 | BH16: DB044 | BI16: DB045
A17: 4 | B17: =A17 -> 4 | E17: =IF(C17="","",_xlfn.XLOOKUP(C17,Bonuses!$A$3:$A$54,Bonuses!$B$3:$B$54)) | I17: A | J17: {=_xlfn.IFNA(IF(OR(_xlfn.XLOOKUP(A17,INDIRECT("'PACKET("&$D$1&")'!$A$3:$A$54"),INDIRECT("'PACKET("&$D$1&")'!$C$3:$C$54"))="",_xlfn.XLOOKUP(A17,INDIRECT("'PACKET("&$D$1&")'!$A$3:$A$54"),INDIRECT("'PACKET("&$D$1&")'!$e$3:$e$54"))=""),"",_xlfn.XLOOKUP(C17,Bonuses!$A$3:$A$54,Bonuses!$H$3:$H$54)),"")} | K17: Row 2 | L17: {=IF(COUNTIF(INDIRECT("'PACKET("&$D$1&")'!$J$3:$J$54"),INDIRECT("'PACKET("&$D$1&")'!"&AY17))=1,INDIRECT("'PACKET("&$D$1&")'!"&AY17),"")} | M17: {=IF(COUNTIF(INDIRECT("'PACKET("&$D$1&")'!$J$3:$J$54"),INDIRECT("'PACKET("&$D$1&")'!"&AZ17))=1,INDIRECT("'PACKET("&$D$1&")'!"&AZ17),"")} | N17: {=IF(COUNTIF(INDIRECT("'PACKET("&$D$1&")'!$J$3:$J$54"),INDIRECT("'PACKET("&$D$1&")'!"&BA17))=1,INDIRECT("'PACKET("&$D$1&")'!"&BA17),"")} | O17: {=IF(COUNTIF(INDIRECT("'PACKET("&$D$1&")'!$J$3:$J$54"),INDIRECT("'PACKET("&$D$1&")'!"&BB17))=1,INDIRECT("'PACKET("&$D$1&")'!"&BB17),"")} | P17: {=IF(COUNTIF(INDIRECT("'PACKET("&$D$1&")'!$J$3:$J$54"),INDIRECT("'PACKET("&$D$1&")'!"&BC17))=1,INDIRECT("'PACKET("&$D$1&")'!"&BC17),"")} | Q17: {=INDIRECT("'PACKET("&$D$1&")'!"&AW17)} | AW17: BF22 | AY17: AZ22 | AZ17: BA22 | BA17: BB22 | BB17: BC22 | BC17: BD22 | BE17: DB021 | BF17: DB022 | BG17: FREE | BH17: DB024 | BI17: DB046
A18: 5 | B18: =A18 -> 5 | E18: =IF(C18="","",_xlfn.XLOOKUP(C18,Bonuses!$A$3:$A$54,Bonuses!$B$3:$B$54)) | I18: A | J18: {=_xlfn.IFNA(IF(OR(_xlfn.XLOOKUP(A18,INDIRECT("'PACKET("&$D$1&")'!$A$3:$A$54"),INDIRECT("'PACKET("&$D$1&")'!$C$3:$C$54"))="",_xlfn.XLOOKUP(A18,INDIRECT("'PACKET("&$D$1&")'!$A$3:$A$54"),INDIRECT("'PACKET("&$D$1&")'!$e$3:$e$54"))=""),"",_xlfn.XLOOKUP(C18,Bonuses!$A$3:$A$54,Bonuses!$H$3:$H$54)),"")} | K18: Row 3 | L18: {=IF(COUNTIF(INDIRECT("'PACKET("&$D$1&")'!$J$3:$J$54"),INDIRECT("'PACKET("&$D$1&")'!"&AY18))=1,INDIRECT("'PACKET("&$D$1&")'!"&AY18),"")} | M18: {=IF(COUNTIF(INDIRECT("'PACKET("&$D$1&")'!$J$3:$J$54"),INDIRECT("'PACKET("&$D$1&")'!"&AZ18))=1,INDIRECT("'PACKET("&$D$1&")'!"&AZ18),"")} | N18: FREE | O18: {=IF(COUNTIF(INDIRECT("'PACKET("&$D$1&")'!$J$3:$J$54"),INDIRECT("'PACKET("&$D$1&")'!"&BB18))=1,INDIRECT("'PACKET("&$D$1&")'!"&BB18),"")} | P18: {=IF(COUNTIF(INDIRECT("'PACKET("&$D$1&")'!$J$3:$J$54"),INDIRECT("'PACKET("&$D$1&")'!"&BC18))=1,INDIRECT("'PACKET("&$D$1&")'!"&BC18),"")} | Q18: {=INDIRECT("'PACKET("&$D$1&")'!"&AW18)} | AW18: BF23 | AY18: AZ23 | AZ18: BA23 | BA18: BB23 | BB18: BC23 | BC18: BD23 | BE18: DB031 | BF18: DB007 | BG18: DB032 | BH18: DB035 | BI18: DB008
A19: 6 | B19: =A19 -> 6 | E19: =IF(C19="","",_xlfn.XLOOKUP(C19,Bonuses!$A$3:$A$54,Bonuses!$B$3:$B$54)) | I19: A | J19: {=_xlfn.IFNA(IF(OR(_xlfn.XLOOKUP(A19,INDIRECT("'PACKET("&$D$1&")'!$A$3:$A$54"),INDIRECT("'PACKET("&$D$1&")'!$C$3:$C$54"))="",_xlfn.XLOOKUP(A19,INDIRECT("'PACKET("&$D$1&")'!$A$3:$A$54"),INDIRECT("'PACKET("&$D$1&")'!$e$3:$e$54"))=""),"",_xlfn.XLOOKUP(C19,Bonuses!$A$3:$A$54,Bonuses!$H$3:$H$54)),"")} | K19: Row 4 | L19: {=IF(COUNTIF(INDIRECT("'PACKET("&$D$1&")'!$J$3:$J$54"),INDIRECT("'PACKET("&$D$1&")'!"&AY19))=1,INDIRECT("'PACKET("&$D$1&")'!"&AY19),"")} | M19: {=IF(COUNTIF(INDIRECT("'PACKET("&$D$1&")'!$J$3:$J$54"),INDIRECT("'PACKET("&$D$1&")'!"&AZ19))=1,INDIRECT("'PACKET("&$D$1&")'!"&AZ19),"")} | N19: {=IF(COUNTIF(INDIRECT("'PACKET("&$D$1&")'!$J$3:$J$54"),INDIRECT("'PACKET("&$D$1&")'!"&BA19))=1,INDIRECT("'PACKET("&$D$1&")'!"&BA19),"")} | O19: {=IF(COUNTIF(INDIRECT("'PACKET("&$D$1&")'!$J$3:$J$54"),INDIRECT("'PACKET("&$D$1&")'!"&BB19))=1,INDIRECT("'PACKET("&$D$1&")'!"&BB19),"")} | P19: {=IF(COUNTIF(INDIRECT("'PACKET("&$D$1&")'!$J$3:$J$54"),INDIRECT("'PACKET("&$D$1&")'!"&BC19))=1,INDIRECT("'PACKET("&$D$1&")'!"&BC19),"")} | Q19: {=INDIRECT("'PACKET("&$D$1&")'!"&AW19)} | AW19: BF24 | AY19: AZ24 | AZ19: BA24 | BA19: BB24 | BB19: BC24 | BC19: BD24 | BE19: DB050 | BF19: DB051 | BG19: DB043 | BH19: DB042 | BI19: DB030
A20: 7 | B20: =A20 -> 7 | E20: =IF(C20="","",_xlfn.XLOOKUP(C20,Bonuses!$A$3:$A$54,Bonuses!$B$3:$B$54)) | I20: A | J20: {=_xlfn.IFNA(IF(OR(_xlfn.XLOOKUP(A20,INDIRECT("'PACKET("&$D$1&")'!$A$3:$A$54"),INDIRECT("'PACKET("&$D$1&")'!$C$3:$C$54"))="",_xlfn.XLOOKUP(A20,INDIRECT("'PACKET("&$D$1&")'!$A$3:$A$54"),INDIRECT("'PACKET("&$D$1&")'!$e$3:$e$54"))=""),"",_xlfn.XLOOKUP(C20,Bonuses!$A$3:$A$54,Bonuses!$H$3:$H$54)),"")} | K20: Row 5 | L20: {=IF(COUNTIF(INDIRECT("'PACKET("&$D$1&")'!$J$3:$J$54"),INDIRECT("'PACKET("&$D$1&")'!"&AY20))=1,INDIRECT("'PACKET("&$D$1&")'!"&AY20),"")} | M20: {=IF(COUNTIF(INDIRECT("'PACKET("&$D$1&")'!$J$3:$J$54"),INDIRECT("'PACKET("&$D$1&")'!"&AZ20))=1,INDIRECT("'PACKET("&$D$1&")'!"&AZ20),"")} | N20: {=IF(COUNTIF(INDIRECT("'PACKET("&$D$1&")'!$J$3:$J$54"),INDIRECT("'PACKET("&$D$1&")'!"&BA20))=1,INDIRECT("'PACKET("&$D$1&")'!"&BA20),"")} | O20: {=IF(COUNTIF(INDIRECT("'PACKET("&$D$1&")'!$J$3:$J$54"),INDIRECT("'PACKET("&$D$1&")'!"&BB20))=1,INDIRECT("'PACKET("&$D$1&")'!"&BB20),"")} | P20: {=IF(COUNTIF(INDIRECT("'PACKET("&$D$1&")'!$J$3:$J$54"),INDIRECT("'PACKET("&$D$1&")'!"&BC20))=1,INDIRECT("'PACKET("&$D$1&")'!"&BC20),"")} | Q20: {=INDIRECT("'PACKET("&$D$1&")'!"&AW20)} | AW20: BF25 | AY20: AZ25 | AZ20: BA25 | BA20: BB25 | BB20: BC25 | BC20: BD25
A21: 8 | B21: =A21 -> 8 | E21: =IF(C21="","",_xlfn.XLOOKUP(C21,Bonuses!$A$3:$A$54,Bonuses!$B$3:$B$54)) | I21: A | J21: {=_xlfn.IFNA(IF(OR(_xlfn.XLOOKUP(A21,INDIRECT("'PACKET("&$D$1&")'!$A$3:$A$54"),INDIRECT("'PACKET("&$D$1&")'!$C$3:$C$54"))="",_xlfn.XLOOKUP(A21,INDIRECT("'PACKET("&$D$1&")'!$A$3:$A$54"),INDIRECT("'PACKET("&$D$1&")'!$e$3:$e$54"))=""),"",_xlfn.XLOOKUP(C21,Bonuses!$A$3:$A$54,Bonuses!$H$3:$H$54)),"")} | K21: {=INDIRECT("'PACKET("&$D$1&")'!"&AQ21)} | L21: {=INDIRECT("'PACKET("&$D$1&")'!"&AR21)} | M21: {=INDIRECT("'PACKET("&$D$1&")'!"&AS21)} | N21: {=INDIRECT("'PACKET("&$D$1&")'!"&AT21)} | O21: {=INDIRECT("'PACKET("&$D$1&")'!"&AU21)} | P21: {=INDIRECT("'PACKET("&$D$1&")'!"&AV21)} | Q21: {=INDIRECT("'PACKET("&$D$1&")'!"&AW21)} | AQ21: AX27 | AR21: AZ27 | AS21: BA27 | AT21: BB27 | AU21: BC27 | AV21: BD27 | AW21: BF27 | BE21: IRON CHURCH
A22: 9 | B22: =A22 -> 9 | E22: =IF(C22="","",_xlfn.XLOOKUP(C22,Bonuses!$A$3:$A$54,Bonuses!$B$3:$B$54)) | I22: A | J22: {=_xlfn.IFNA(IF(OR(_xlfn.XLOOKUP(A22,INDIRECT("'PACKET("&$D$1&")'!$A$3:$A$54"),INDIRECT("'PACKET("&$D$1&")'!$C$3:$C$54"))="",_xlfn.XLOOKUP(A22,INDIRECT("'PACKET("&$D$1&")'!$A$3:$A$54"),INDIRECT("'PACKET("&$D$1&")'!$e$3:$e$54"))=""),"",_xlfn.XLOOKUP(C22,Bonuses!$A$3:$A$54,Bonuses!$H$3:$H$54)),"")}
A23: 10 | B23: =A23 -> 10 | E23: =IF(C23="","",_xlfn.XLOOKUP(C23,Bonuses!$A$3:$A$54,Bonuses!$B$3:$B$54)) | I23: A | J23: {=_xlfn.IFNA(IF(OR(_xlfn.XLOOKUP(A23,INDIRECT("'PACKET("&$D$1&")'!$A$3:$A$54"),INDIRECT("'PACKET("&$D$1&")'!$C$3:$C$54"))="",_xlfn.XLOOKUP(A23,INDIRECT("'PACKET("&$D$1&")'!$A$3:$A$54"),INDIRECT("'PACKET("&$D$1&")'!$e$3:$e$54"))=""),"",_xlfn.XLOOKUP(C23,Bonuses!$A$3:$A$54,Bonuses!$H$3:$H$54)),"")} | L23: IRON CHURCH | BE23: B | BF23: I | BG23: N | BH23: G | BI23: O
A24: 11 | B24: =A24 -> 11 | E24: =IF(C24="","",_xlfn.XLOOKUP(C24,Bonuses!$A$3:$A$54,Bonuses!$B$3:$B$54)) | I24: A | J24: {=_xlfn.IFNA(IF(OR(_xlfn.XLOOKUP(A24,INDIRECT("'PACKET("&$D$1&")'!$A$3:$A$54"),INDIRECT("'PACKET("&$D$1&")'!$C$3:$C$54"))="",_xlfn.XLOOKUP(A24,INDIRECT("'PACKET("&$D$1&")'!$A$3:$A$54"),INDIRECT("'PACKET("&$D$1&")'!$e$3:$e$54"))=""),"",_xlfn.XLOOKUP(C24,Bonuses!$A$3:$A$54,Bonuses!$H$3:$H$54)),"")} | L24: B | M24: I | N24: N | O24: G | P24: O | BE24: DB016 | BF24: DB008 | BG24: DB039 | BH24: DB020 | BI24: DB048
A25: 12 | B25: =A25 -> 12 | E25: =IF(C25="","",_xlfn.XLOOKUP(C25,Bonuses!$A$3:$A$54,Bonuses!$B$3:$B$54)) | I25: A | J25: {=_xlfn.IFNA(IF(OR(_xlfn.XLOOKUP(A25,INDIRECT("'PACKET("&$D$1&")'!$A$3:$A$54"),INDIRECT("'PACKET("&$D$1&")'!$C$3:$C$54"))="",_xlfn.XLOOKUP(A25,INDIRECT("'PACKET("&$D$1&")'!$A$3:$A$54"),INDIRECT("'PACKET("&$D$1&")'!$e$3:$e$54"))=""),"",_xlfn.XLOOKUP(C25,Bonuses!$A$3:$A$54,Bonuses!$H$3:$H$54)),"")} | K25: Row 1 | L25: {=IF(COUNTIF(INDIRECT("'PACKET("&$D$1&")'!$J$3:$J$54"),INDIRECT("'PACKET("&$D$1&")'!"&AY25))=1,INDIRECT("'PACKET("&$D$1&")'!"&AY25),"")} | M25: {=IF(COUNTIF(INDIRECT("'PACKET("&$D$1&")'!$J$3:$J$54"),INDIRECT("'PACKET("&$D$1&")'!"&AZ25))=1,INDIRECT("'PACKET("&$D$1&")'!"&AZ25),"")} | N25: {=IF(COUNTIF(INDIRECT("'PACKET("&$D$1&")'!$J$3:$J$54"),INDIRECT("'PACKET("&$D$1&")'!"&BA25))=1,INDIRECT("'PACKET("&$D$1&")'!"&BA25),"")} | O25: {=IF(COUNTIF(INDIRECT("'PACKET("&$D$1&")'!$J$3:$J$54"),INDIRECT("'PACKET("&$D$1&")'!"&BB25))=1,INDIRECT("'PACKET("&$D$1&")'!"&BB25),"")} | P25: {=IF(COUNTIF(INDIRECT("'PACKET("&$D$1&")'!$J$3:$J$54"),INDIRECT("'PACKET("&$D$1&")'!"&BC25))=1,INDIRECT("'PACKET("&$D$1&")'!"&BC25),"")} | Q25: {=INDIRECT("'PACKET("&$D$1&")'!"&AW25)} | AW25: BF35 | AY25: AZ35 | AZ25: BA35 | BA25: BB35 | BB25: BC35 | BC25: BD35 | BE25: DB003 | BF25: DB047 | BG25: DB043 | BH25: DB046 | BI25: DB011
A26: 13 | B26: =A26 -> 13 | E26: =IF(C26="","",_xlfn.XLOOKUP(C26,Bonuses!$A$3:$A$54,Bonuses!$B$3:$B$54)) | I26: A | J26: {=_xlfn.IFNA(IF(OR(_xlfn.XLOOKUP(A26,INDIRECT("'PACKET("&$D$1&")'!$A$3:$A$54"),INDIRECT("'PACKET("&$D$1&")'!$C$3:$C$54"))="",_xlfn.XLOOKUP(A26,INDIRECT("'PACKET("&$D$1&")'!$A$3:$A$54"),INDIRECT("'PACKET("&$D$1&")'!$e$3:$e$54"))=""),"",_xlfn.XLOOKUP(C26,Bonuses!$A$3:$A$54,Bonuses!$H$3:$H$54)),"")} | K26: Row 2 | L26: {=IF(COUNTIF(INDIRECT("'PACKET("&$D$1&")'!$J$3:$J$54"),INDIRECT("'PACKET("&$D$1&")'!"&AY26))=1,INDIRECT("'PACKET("&$D$1&")'!"&AY26),"")} | M26: {=IF(COUNTIF(INDIRECT("'PACKET("&$D$1&")'!$J$3:$J$54"),INDIRECT("'PACKET("&$D$1&")'!"&AZ26))=1,INDIRECT("'PACKET("&$D$1&")'!"&AZ26),"")} | N26: {=IF(COUNTIF(INDIRECT("'PACKET("&$D$1&")'!$J$3:$J$54"),INDIRECT("'PACKET("&$D$1&")'!"&BA26))=1,INDIRECT("'PACKET("&$D$1&")'!"&BA26),"")} | O26: {=IF(COUNTIF(INDIRECT("'PACKET("&$D$1&")'!$J$3:$J$54"),INDIRECT("'PACKET("&$D$1&")'!"&BB26))=1,INDIRECT("'PACKET("&$D$1&")'!"&BB26),"")} | P26: {=IF(COUNTIF(INDIRECT("'PACKET("&$D$1&")'!$J$3:$J$54"),INDIRECT("'PACKET("&$D$1&")'!"&BC26))=1,INDIRECT("'PACKET("&$D$1&")'!"&BC26),"")} | Q26: {=INDIRECT("'PACKET("&$D$1&")'!"&AW26)} | AW26: BF36 | AY26: AZ36 | AZ26: BA36 | BA26: BB36 | BB26: BC36 | BC26: BD36 | BE26: DB032 | BF26: DB033 | BG26: FREE | BH26: DB036 | BI26: DB013
A27: 14 | B27: =A27 -> 14 | E27: =IF(C27="","",_xlfn.XLOOKUP(C27,Bonuses!$A$3:$A$54,Bonuses!$B$3:$B$54)) | I27: A | J27: {=_xlfn.IFNA(IF(OR(_xlfn.XLOOKUP(A27,INDIRECT("'PACKET("&$D$1&")'!$A$3:$A$54"),INDIRECT("'PACKET("&$D$1&")'!$C$3:$C$54"))="",_xlfn.XLOOKUP(A27,INDIRECT("'PACKET("&$D$1&")'!$A$3:$A$54"),INDIRECT("'PACKET("&$D$1&")'!$e$3:$e$54"))=""),"",_xlfn.XLOOKUP(C27,Bonuses!$A$3:$A$54,Bonuses!$H$3:$H$54)),"")} | K27: Row 3 | L27: {=IF(COUNTIF(INDIRECT("'PACKET("&$D$1&")'!$J$3:$J$54"),INDIRECT("'PACKET("&$D$1&")'!"&AY27))=1,INDIRECT("'PACKET("&$D$1&")'!"&AY27),"")} | M27: {=IF(COUNTIF(INDIRECT("'PACKET("&$D$1&")'!$J$3:$J$54"),INDIRECT("'PACKET("&$D$1&")'!"&AZ27))=1,INDIRECT("'PACKET("&$D$1&")'!"&AZ27),"")} | N27: FREE | O27: {=IF(COUNTIF(INDIRECT("'PACKET("&$D$1&")'!$J$3:$J$54"),INDIRECT("'PACKET("&$D$1&")'!"&BB27))=1,INDIRECT("'PACKET("&$D$1&")'!"&BB27),"")} | P27: {=IF(COUNTIF(INDIRECT("'PACKET("&$D$1&")'!$J$3:$J$54"),INDIRECT("'PACKET("&$D$1&")'!"&BC27))=1,INDIRECT("'PACKET("&$D$1&")'!"&BC27),"")} | Q27: {=INDIRECT("'PACKET("&$D$1&")'!"&AW27)} | AW27: BF37 | AY27: AZ37 | AZ27: BA37 | BA27: BB37 | BB27: BC37 | BC27: BD37 | BE27: DB019 | BF27: DB025 | BG27: DB040 | BH27: DB041 | BI27: DB014
A28: 15 | B28: =A28 -> 15 | E28: =IF(C28="","",_xlfn.XLOOKUP(C28,Bonuses!$A$3:$A$54,Bonuses!$B$3:$B$54)) | I28: A | J28: {=_xlfn.IFNA(IF(OR(_xlfn.XLOOKUP(A28,INDIRECT("'PACKET("&$D$1&")'!$A$3:$A$54"),INDIRECT("'PACKET("&$D$1&")'!$C$3:$C$54"))="",_xlfn.XLOOKUP(A28,INDIRECT("'PACKET("&$D$1&")'!$A$3:$A$54"),INDIRECT("'PACKET("&$D$1&")'!$e$3:$e$54"))=""),"",_xlfn.XLOOKUP(C28,Bonuses!$A$3:$A$54,Bonuses!$H$3:$H$54)),"")} | K28: Row 4 | L28: {=IF(COUNTIF(INDIRECT("'PACKET("&$D$1&")'!$J$3:$J$54"),INDIRECT("'PACKET("&$D$1&")'!"&AY28))=1,INDIRECT("'PACKET("&$D$1&")'!"&AY28),"")} | M28: {=IF(COUNTIF(INDIRECT("'PACKET("&$D$1&")'!$J$3:$J$54"),INDIRECT("'PACKET("&$D$1&")'!"&AZ28))=1,INDIRECT("'PACKET("&$D$1&")'!"&AZ28),"")} | N28: {=IF(COUNTIF(INDIRECT("'PACKET("&$D$1&")'!$J$3:$J$54"),INDIRECT("'PACKET("&$D$1&")'!"&BA28))=1,INDIRECT("'PACKET("&$D$1&")'!"&BA28),"")} | O28: {=IF(COUNTIF(INDIRECT("'PACKET("&$D$1&")'!$J$3:$J$54"),INDIRECT("'PACKET("&$D$1&")'!"&BB28))=1,INDIRECT("'PACKET("&$D$1&")'!"&BB28),"")} | P28: {=IF(COUNTIF(INDIRECT("'PACKET("&$D$1&")'!$J$3:$J$54"),INDIRECT("'PACKET("&$D$1&")'!"&BC28))=1,INDIRECT("'PACKET("&$D$1&")'!"&BC28),"")} | Q28: {=INDIRECT("'PACKET("&$D$1&")'!"&AW28)} | AW28: BF38 | AY28: AZ38 | AZ28: BA38 | BA28: BB38 | BB28: BC38 | BC28: BD38 | BE28: DB050 | BF28: DB051 | BG28: DB035 | BH28: DB038 | BI28: DB044
A29: 16 | B29: =A29 -> 16 | E29: =IF(C29="","",_xlfn.XLOOKUP(C29,Bonuses!$A$3:$A$54,Bonuses!$B$3:$B$54)) | I29: A | J29: {=_xlfn.IFNA(IF(OR(_xlfn.XLOOKUP(A29,INDIRECT("'PACKET("&$D$1&")'!$A$3:$A$54"),INDIRECT("'PACKET("&$D$1&")'!$C$3:$C$54"))="",_xlfn.XLOOKUP(A29,INDIRECT("'PACKET("&$D$1&")'!$A$3:$A$54"),INDIRECT("'PACKET("&$D$1&")'!$e$3:$e$54"))=""),"",_xlfn.XLOOKUP(C29,Bonuses!$A$3:$A$54,Bonuses!$H$3:$H$54)),"")} | K29: Row 5 | L29: {=IF(COUNTIF(INDIRECT("'PACKET("&$D$1&")'!$J$3:$J$54"),INDIRECT("'PACKET("&$D$1&")'!"&AY29))=1,INDIRECT("'PACKET("&$D$1&")'!"&AY29),"")} | M29: {=IF(COUNTIF(INDIRECT("'PACKET("&$D$1&")'!$J$3:$J$54"),INDIRECT("'PACKET("&$D$1&")'!"&AZ29))=1,INDIRECT("'PACKET("&$D$1&")'!"&AZ29),"")} | N29: {=IF(COUNTIF(INDIRECT("'PACKET("&$D$1&")'!$J$3:$J$54"),INDIRECT("'PACKET("&$D$1&")'!"&BA29))=1,INDIRECT("'PACKET("&$D$1&")'!"&BA29),"")} | O29: {=IF(COUNTIF(INDIRECT("'PACKET("&$D$1&")'!$J$3:$J$54"),INDIRECT("'PACKET("&$D$1&")'!"&BB29))=1,INDIRECT("'PACKET("&$D$1&")'!"&BB29),"")} | P29: {=IF(COUNTIF(INDIRECT("'PACKET("&$D$1&")'!$J$3:$J$54"),INDIRECT("'PACKET("&$D$1&")'!"&BC29))=1,INDIRECT("'PACKET("&$D$1&")'!"&BC29),"")} | Q29: {=INDIRECT("'PACKET("&$D$1&")'!"&AW29)} | AW29: BF39 | AY29: AZ39 | AZ29: BA39 | BA29: BB39 | BB29: BC39 | BC29: BD39
A30: 17 | B30: =A30 -> 17 | E30: =IF(C30="","",_xlfn.XLOOKUP(C30,Bonuses!$A$3:$A$54,Bonuses!$B$3:$B$54)) | I30: A | J30: {=_xlfn.IFNA(IF(OR(_xlfn.XLOOKUP(A30,INDIRECT("'PACKET("&$D$1&")'!$A$3:$A$54"),INDIRECT("'PACKET("&$D$1&")'!$C$3:$C$54"))="",_xlfn.XLOOKUP(A30,INDIRECT("'PACKET("&$D$1&")'!$A$3:$A$54"),INDIRECT("'PACKET("&$D$1&")'!$e$3:$e$54"))=""),"",_xlfn.XLOOKUP(C30,Bonuses!$A$3:$A$54,Bonuses!$H$3:$H$54)),"")} | K30: {=INDIRECT("'PACKET("&$D$1&")'!"&AQ30)} | L30: {=INDIRECT("'PACKET("&$D$1&")'!"&AR30)} | M30: {=INDIRECT("'PACKET("&$D$1&")'!"&AS30)} | N30: {=INDIRECT("'PACKET("&$D$1&")'!"&AT30)} | O30: {=INDIRECT("'PACKET("&$D$1&")'!"&AU30)} | P30: {=INDIRECT("'PACKET("&$D$1&")'!"&AV30)} | Q30: {=INDIRECT("'PACKET("&$D$1&")'!"&AW30)} | AQ30: AX41 | AR30: AZ41 | AS30: BA41 | AT30: BB41 | AU30: BC41 | AV30: BD41 | AW30: BF41
A31: 18 | B31: =A31 -> 18 | E31: =IF(C31="","",_xlfn.XLOOKUP(C31,Bonuses!$A$3:$A$54,Bonuses!$B$3:$B$54)) | I31: A | J31: {=_xlfn.IFNA(IF(OR(_xlfn.XLOOKUP(A31,INDIRECT("'PACKET("&$D$1&")'!$A$3:$A$54"),INDIRECT("'PACKET("&$D$1&")'!$C$3:$C$54"))="",_xlfn.XLOOKUP(A31,INDIRECT("'PACKET("&$D$1&")'!$A$3:$A$54"),INDIRECT("'PACKET("&$D$1&")'!$e$3:$e$54"))=""),"",_xlfn.XLOOKUP(C31,Bonuses!$A$3:$A$54,Bonuses!$H$3:$H$54)),"")}
A32: 19 | B32: =A32 -> 19 | E32: =IF(C32="","",_xlfn.XLOOKUP(C32,Bonuses!$A$3:$A$54,Bonuses!$B$3:$B$54)) | I32: A | J32: {=_xlfn.IFNA(IF(OR(_xlfn.XLOOKUP(A32,INDIRECT("'PACKET("&$D$1&")'!$A$3:$A$54"),INDIRECT("'PACKET("&$D$1&")'!$C$3:$C$54"))="",_xlfn.XLOOKUP(A32,INDIRECT("'PACKET("&$D$1&")'!$A$3:$A$54"),INDIRECT("'PACKET("&$D$1&")'!$e$3:$e$54"))=""),"",_xlfn.XLOOKUP(C32,Bonuses!$A$3:$A$54,Bonuses!$H$3:$H$54)),"")}
A33: 20 | B33: =A33 -> 20 | E33: =IF(C33="","",_xlfn.XLOOKUP(C33,Bonuses!$A$3:$A$54,Bonuses!$B$3:$B$54)) | I33: A | J33: {=_xlfn.IFNA(IF(OR(_xlfn.XLOOKUP(A33,INDIRECT("'PACKET("&$D$1&")'!$A$3:$A$54"),INDIRECT("'PACKET("&$D$1&")'!$C$3:$C$54"))="",_xlfn.XLOOKUP(A33,INDIRECT("'PACKET("&$D$1&")'!$A$3:$A$54"),INDIRECT("'PACKET("&$D$1&")'!$e$3:$e$54"))=""),"",_xlfn.XLOOKUP(C33,Bonuses!$A$3:$A$54,Bonuses!$H$3:$H$54)),"")}
A34: 21 | B34: =A34 -> 21 | E34: =IF(C34="","",_xlfn.XLOOKUP(C34,Bonuses!$A$3:$A$54,Bonuses!$B$3:$B$54)) | I34: A | J34: {=_xlfn.IFNA(IF(OR(_xlfn.XLOOKUP(A34,INDIRECT("'PACKET("&$D$1&")'!$A$3:$A$54"),INDIRECT("'PACKET("&$D$1&")'!$C$3:$C$54"))="",_xlfn.XLOOKUP(A34,INDIRECT("'PACKET("&$D$1&")'!$A$3:$A$54"),INDIRECT("'PACKET("&$D$1&")'!$e$3:$e$54"))=""),"",_xlfn.XLOOKUP(C34,Bonuses!$A$3:$A$54,Bonuses!$H$3:$H$54)),"")}
A35: 22 | B35: =A35 -> 22 | E35: =IF(C35="","",_xlfn.XLOOKUP(C35,Bonuses!$A$3:$A$54,Bonuses!$B$3:$B$54)) | I35: A | J35: {=_xlfn.IFNA(IF(OR(_xlfn.XLOOKUP(A35,INDIRECT("'PACKET("&$D$1&")'!$A$3:$A$54"),INDIRECT("'PACKET("&$D$1&")'!$C$3:$C$54"))="",_xlfn.XLOOKUP(A35,INDIRECT("'PACKET("&$D$1&")'!$A$3:$A$54"),INDIRECT("'PACKET("&$D$1&")'!$e$3:$e$54"))=""),"",_xlfn.XLOOKUP(C35,Bonuses!$A$3:$A$54,Bonuses!$H$3:$H$54)),"")}
A36: 23 | B36: =A36 -> 23 | E36: =IF(C36="","",_xlfn.XLOOKUP(C36,Bonuses!$A$3:$A$54,Bonuses!$B$3:$B$54)) | I36: A | J36: {=_xlfn.IFNA(IF(OR(_xlfn.XLOOKUP(A36,INDIRECT("'PACKET("&$D$1&")'!$A$3:$A$54"),INDIRECT("'PACKET("&$D$1&")'!$C$3:$C$54"))="",_xlfn.XLOOKUP(A36,INDIRECT("'PACKET("&$D$1&")'!$A$3:$A$54"),INDIRECT("'PACKET("&$D$1&")'!$e$3:$e$54"))=""),"",_xlfn.XLOOKUP(C36,Bonuses!$A$3:$A$54,Bonuses!$H$3:$H$54)),"")}
A37: 24 | B37: =A37 -> 24 | E37: =IF(C37="","",_xlfn.XLOOKUP(C37,Bonuses!$A$3:$A$54,Bonuses!$B$3:$B$54)) | I37: A | J37: {=_xlfn.IFNA(IF(OR(_xlfn.XLOOKUP(A37,INDIRECT("'PACKET("&$D$1&")'!$A$3:$A$54"),INDIRECT("'PACKET("&$D$1&")'!$C$3:$C$54"))="",_xlfn.XLOOKUP(A37,INDIRECT("'PACKET("&$D$1&")'!$A$3:$A$54"),INDIRECT("'PACKET("&$D$1&")'!$e$3:$e$54"))=""),"",_xlfn.XLOOKUP(C37,Bonuses!$A$3:$A$54,Bonuses!$H$3:$H$54)),"")}
A38: 25 | B38: =A38 -> 25 | E38: =IF(C38="","",_xlfn.XLOOKUP(C38,Bonuses!$A$3:$A$54,Bonuses!$B$3:$B$54)) | I38: A | J38: {=_xlfn.IFNA(IF(OR(_xlfn.XLOOKUP(A38,INDIRECT("'PACKET("&$D$1&")'!$A$3:$A$54"),INDIRECT("'PACKET("&$D$1&")'!$C$3:$C$54"))="",_xlfn.XLOOKUP(A38,INDIRECT("'PACKET("&$D$1&")'!$A$3:$A$54"),INDIRECT("'PACKET("&$D$1&")'!$e$3:$e$54"))=""),"",_xlfn.XLOOKUP(C38,Bonuses!$A$3:$A$54,Bonuses!$H$3:$H$54)),"")}
A39: 26 | B39: =A39 -> 26 | E39: =IF(C39="","",_xlfn.XLOOKUP(C39,Bonuses!$A$3:$A$54,Bonuses!$B$3:$B$54)) | I39: A | J39: {=_xlfn.IFNA(IF(OR(_xlfn.XLOOKUP(A39,INDIRECT("'PACKET("&$D$1&")'!$A$3:$A$54"),INDIRECT("'PACKET("&$D$1&")'!$C$3:$C$54"))="",_xlfn.XLOOKUP(A39,INDIRECT("'PACKET("&$D$1&")'!$A$3:$A$54"),INDIRECT("'PACKET("&$D$1&")'!$e$3:$e$54"))=""),"",_xlfn.XLOOKUP(C39,Bonuses!$A$3:$A$54,Bonuses!$H$3:$H$54)),"")}
A40: 27 | B40: =A40 -> 27 | E40: =IF(C40="","",_xlfn.XLOOKUP(C40,Bonuses!$A$3:$A$54,Bonuses!$B$3:$B$54)) | I40: A | J40: {=_xlfn.IFNA(IF(OR(_xlfn.XLOOKUP(A40,INDIRECT("'PACKET("&$D$1&")'!$A$3:$A$54"),INDIRECT("'PACKET("&$D$1&")'!$C$3:$C$54"))="",_xlfn.XLOOKUP(A40,INDIRECT("'PACKET("&$D$1&")'!$A$3:$A$54"),INDIRECT("'PACKET("&$D$1&")'!$e$3:$e$54"))=""),"",_xlfn.XLOOKUP(C40,Bonuses!$A$3:$A$54,Bonuses!$H$3:$H$54)),"")}
A41: 28 | B41: =A41 -> 28 | E41: =IF(C41="","",_xlfn.XLOOKUP(C41,Bonuses!$A$3:$A$54,Bonuses!$B$3:$B$54)) | I41: A | J41: {=_xlfn.IFNA(IF(OR(_xlfn.XLOOKUP(A41,INDIRECT("'PACKET("&$D$1&")'!$A$3:$A$54"),INDIRECT("'PACKET("&$D$1&")'!$C$3:$C$54"))="",_xlfn.XLOOKUP(A41,INDIRECT("'PACKET("&$D$1&")'!$A$3:$A$54"),INDIRECT("'PACKET("&$D$1&")'!$e$3:$e$54"))=""),"",_xlfn.XLOOKUP(C41,Bonuses!$A$3:$A$54,Bonuses!$H$3:$H$54)),"")}
A42: 29 | B42: =A42 -> 29 | E42: =IF(C42="","",_xlfn.XLOOKUP(C42,Bonuses!$A$3:$A$54,Bonuses!$B$3:$B$54)) | I42: A | J42: {=_xlfn.IFNA(IF(OR(_xlfn.XLOOKUP(A42,INDIRECT("'PACKET("&$D$1&")'!$A$3:$A$54"),INDIRECT("'PACKET("&$D$1&")'!$C$3:$C$54"))="",_xlfn.XLOOKUP(A42,INDIRECT("'PACKET("&$D$1&")'!$A$3:$A$54"),INDIRECT("'PACKET("&$D$1&")'!$e$3:$e$54"))=""),"",_xlfn.XLOOKUP(C42,Bonuses!$A$3:$A$54,Bonuses!$H$3:$H$54)),"")}
A43: 30 | B43: =A43 -> 30 | E43: =IF(C43="","",_xlfn.XLOOKUP(C43,Bonuses!$A$3:$A$54,Bonuses!$B$3:$B$54)) | I43: A | J43: {=_xlfn.IFNA(IF(OR(_xlfn.XLOOKUP(A43,INDIRECT("'PACKET("&$D$1&")'!$A$3:$A$54"),INDIRECT("'PACKET("&$D$1&")'!$C$3:$C$54"))="",_xlfn.XLOOKUP(A43,INDIRECT("'PACKET("&$D$1&")'!$A$3:$A$54"),INDIRECT("'PACKET("&$D$1&")'!$e$3:$e$54"))=""),"",_xlfn.XLOOKUP(C43,Bonuses!$A$3:$A$54,Bonuses!$H$3:$H$54)),"")}
E44: =IF(C44="","",_xlfn.XLOOKUP(C44,Bonuses!$A$3:$A$54,Bonuses!$B$3:$B$54)) | J44: {=_xlfn.IFNA(IF(OR(_xlfn.XLOOKUP(A44,INDIRECT("'PACKET("&$D$1&")'!$A$3:$A$54"),INDIRECT("'PACKET("&$D$1&")'!$C$3:$C$54"))="",_xlfn.XLOOKUP(A44,INDIRECT("'PACKET("&$D$1&")'!$A$3:$A$54"),INDIRECT("'PACKET("&$D$1&")'!$e$3:$e$54"))=""),"",_xlfn.XLOOKUP(C44,Bonuses!$A$3:$A$54,Bonuses!$H$3:$H$54)),"")}
E45: =IF(C45="","",_xlfn.XLOOKUP(C45,Bonuses!$A$3:$A$54,Bonuses!$B$3:$B$54)) | J45: {=_xlfn.IFNA(IF(OR(_xlfn.XLOOKUP(A45,INDIRECT("'PACKET("&$D$1&")'!$A$3:$A$54"),INDIRECT("'PACKET("&$D$1&")'!$C$3:$C$54"))="",_xlfn.XLOOKUP(A45,INDIRECT("'PACKET("&$D$1&")'!$A$3:$A$54"),INDIRECT("'PACKET("&$D$1&")'!$e$3:$e$54"))=""),"",_xlfn.XLOOKUP(C45,Bonuses!$A$3:$A$54,Bonuses!$H$3:$H$54)),"")}
A46: 31 | B46: =A46 -> 31 | E46: =IF(C46="","",_xlfn.XLOOKUP(C46,Bonuses!$A$3:$A$54,Bonuses!$B$3:$B$54)) | I46: A | J46: {=_xlfn.IFNA(IF(OR(_xlfn.XLOOKUP(A46,INDIRECT("'PACKET("&$D$1&")'!$A$3:$A$54"),INDIRECT("'PACKET("&$D$1&")'!$C$3:$C$54"))="",_xlfn.XLOOKUP(A46,INDIRECT("'PACKET("&$D$1&")'!$A$3:$A$54"),INDIRECT("'PACKET("&$D$1&")'!$e$3:$e$54"))=""),"",_xlfn.XLOOKUP(C46,Bonuses!$A$3:$A$54,Bonuses!$H$3:$H$54)),"")}
A47: 32 | B47: =A47 -> 32 | E47: =IF(C47="","",_xlfn.XLOOKUP(C47,Bonuses!$A$3:$A$54,Bonuses!$B$3:$B$54)) | I47: A | J47: {=_xlfn.IFNA(IF(OR(_xlfn.XLOOKUP(A47,INDIRECT("'PACKET("&$D$1&")'!$A$3:$A$54"),INDIRECT("'PACKET("&$D$1&")'!$C$3:$C$54"))="",_xlfn.XLOOKUP(A47,INDIRECT("'PACKET("&$D$1&")'!$A$3:$A$54"),INDIRECT("'PACKET("&$D$1&")'!$e$3:$e$54"))=""),"",_xlfn.XLOOKUP(C47,Bonuses!$A$3:$A$54,Bonuses!$H$3:$H$54)),"")}
A48: 33 | B48: =A48 -> 33 | E48: =IF(C48="","",_xlfn.XLOOKUP(C48,Bonuses!$A$3:$A$54,Bonuses!$B$3:$B$54)) | I48: A | J48: {=_xlfn.IFNA(IF(OR(_xlfn.XLOOKUP(A48,INDIRECT("'PACKET("&$D$1&")'!$A$3:$A$54"),INDIRECT("'PACKET("&$D$1&")'!$C$3:$C$54"))="",_xlfn.XLOOKUP(A48,INDIRECT("'PACKET("&$D$1&")'!$A$3:$A$54"),INDIRECT("'PACKET("&$D$1&")'!$e$3:$e$54"))=""),"",_xlfn.XLOOKUP(C48,Bonuses!$A$3:$A$54,Bonuses!$H$3:$H$54)),"")}
A49: 34 | B49: =A49 -> 34 | E49: =IF(C49="","",_xlfn.XLOOKUP(C49,Bonuses!$A$3:$A$54,Bonuses!$B$3:$B$54)) | I49: A | J49: {=_xlfn.IFNA(IF(OR(_xlfn.XLOOKUP(A49,INDIRECT("'PACKET("&$D$1&")'!$A$3:$A$54"),INDIRECT("'PACKET("&$D$1&")'!$C$3:$C$54"))="",_xlfn.XLOOKUP(A49,INDIRECT("'PACKET("&$D$1&")'!$A$3:$A$54"),INDIRECT("'PACKET("&$D$1&")'!$e$3:$e$54"))=""),"",_xlfn.XLOOKUP(C49,Bonuses!$A$3:$A$54,Bonuses!$H$3:$H$54)),"")}
A50: 35 | B50: =A50 -> 35 | E50: =IF(C50="","",_xlfn.XLOOKUP(C50,Bonuses!$A$3:$A$54,Bonuses!$B$3:$B$54)) | I50: A | J50: {=_xlfn.IFNA(IF(OR(_xlfn.XLOOKUP(A50,INDIRECT("'PACKET("&$D$1&")'!$A$3:$A$54"),INDIRECT("'PACKET("&$D$1&")'!$C$3:$C$54"))="",_xlfn.XLOOKUP(A50,INDIRECT("'PACKET("&$D$1&")'!$A$3:$A$54"),INDIRECT("'PACKET("&$D$1&")'!$e$3:$e$54"))=""),"",_xlfn.XLOOKUP(C50,Bonuses!$A$3:$A$54,Bonuses!$H$3:$H$54)),"")}
A51: 36 | B51: =A51 -> 36 | E51: =IF(C51="","",_xlfn.XLOOKUP(C51,Bonuses!$A$3:$A$54,Bonuses!$B$3:$B$54)) | I51: A | J51: {=_xlfn.IFNA(IF(OR(_xlfn.XLOOKUP(A51,INDIRECT("'PACKET("&$D$1&")'!$A$3:$A$54"),INDIRECT("'PACKET("&$D$1&")'!$C$3:$C$54"))="",_xlfn.XLOOKUP(A51,INDIRECT("'PACKET("&$D$1&")'!$A$3:$A$54"),INDIRECT("'PACKET("&$D$1&")'!$e$3:$e$54"))=""),"",_xlfn.XLOOKUP(C51,Bonuses!$A$3:$A$54,Bonuses!$H$3:$H$54)),"")}
A52: 37 | B52: =A52 -> 37 | E52: =IF(C52="","",_xlfn.XLOOKUP(C52,Bonuses!$A$3:$A$54,Bonuses!$B$3:$B$54)) | I52: A | J52: {=_xlfn.IFNA(IF(OR(_xlfn.XLOOKUP(A52,INDIRECT("'PACKET("&$D$1&")'!$A$3:$A$54"),INDIRECT("'PACKET("&$D$1&")'!$C$3:$C$54"))="",_xlfn.XLOOKUP(A52,INDIRECT("'PACKET("&$D$1&")'!$A$3:$A$54"),INDIRECT("'PACKET("&$D$1&")'!$e$3:$e$54"))=""),"",_xlfn.XLOOKUP(C52,Bonuses!$A$3:$A$54,Bonuses!$H$3:$H$54)),"")}
A53: 38 | B53: =A53 -> 38 | E53: =IF(C53="","",_xlfn.XLOOKUP(C53,Bonuses!$A$3:$A$54,Bonuses!$B$3:$B$54)) | I53: A | J53: {=_xlfn.IFNA(IF(OR(_xlfn.XLOOKUP(A53,INDIRECT("'PACKET("&$D$1&")'!$A$3:$A$54"),INDIRECT("'PACKET("&$D$1&")'!$C$3:$C$54"))="",_xlfn.XLOOKUP(A53,INDIRECT("'PACKET("&$D$1&")'!$A$3:$A$54"),INDIRECT("'PACKET("&$D$1&")'!$e$3:$e$54"))=""),"",_xlfn.XLOOKUP(C53,Bonuses!$A$3:$A$54,Bonuses!$H$3:$H$54)),"")}
A54: 39 | B54: =A54 -> 39 | E54: =IF(C54="","",_xlfn.XLOOKUP(C54,Bonuses!$A$3:$A$54,Bonuses!$B$3:$B$54)) | I54: A | J54: {=_xlfn.IFNA(IF(OR(_xlfn.XLOOKUP(A54,INDIRECT("'PACKET("&$D$1&")'!$A$3:$A$54"),INDIRECT("'PACKET("&$D$1&")'!$C$3:$C$54"))="",_xlfn.XLOOKUP(A54,INDIRECT("'PACKET("&$D$1&")'!$A$3:$A$54"),INDIRECT("'PACKET("&$D$1&")'!$e$3:$e$54"))=""),"",_xlfn.XLOOKUP(C54,Bonuses!$A$3:$A$54,Bonuses!$H$3:$H$54)),"")}
A55: 40 | B55: =A55 -> 40 | E55: =IF(C55="","",_xlfn.XLOOKUP(C55,Bonuses!$A$3:$A$54,Bonuses!$B$3:$B$54)) | I55: A | J55: {=_xlfn.IFNA(IF(OR(_xlfn.XLOOKUP(A55,INDIRECT("'PACKET("&$D$1&")'!$A$3:$A$54"),INDIRECT("'PACKET("&$D$1&")'!$C$3:$C$54"))="",_xlfn.XLOOKUP(A55,INDIRECT("'PACKET("&$D$1&")'!$A$3:$A$54"),INDIRECT("'PACKET("&$D$1&")'!$e$3:$e$54"))=""),"",_xlfn.XLOOKUP(C55,Bonuses!$A$3:$A$54,Bonuses!$H$3:$H$54)),"")}
A56: 41 | B56: =A56 -> 41 | E56: =IF(C56="","",_xlfn.XLOOKUP(C56,Bonuses!$A$3:$A$54,Bonuses!$B$3:$B$54)) | I56: A | J56: {=_xlfn.IFNA(IF(OR(_xlfn.XLOOKUP(A56,INDIRECT("'PACKET("&$D$1&")'!$A$3:$A$54"),INDIRECT("'PACKET("&$D$1&")'!$C$3:$C$54"))="",_xlfn.XLOOKUP(A56,INDIRECT("'PACKET("&$D$1&")'!$A$3:$A$54"),INDIRECT("'PACKET("&$D$1&")'!$e$3:$e$54"))=""),"",_xlfn.XLOOKUP(C56,Bonuses!$A$3:$A$54,Bonuses!$H$3:$H$54)),"")}
A57: 42 | B57: =A57 -> 42 | E57: =IF(C57="","",_xlfn.XLOOKUP(C57,Bonuses!$A$3:$A$54,Bonuses!$B$3:$B$54)) | I57: A | J57: {=_xlfn.IFNA(IF(OR(_xlfn.XLOOKUP(A57,INDIRECT("'PACKET("&$D$1&")'!$A$3:$A$54"),INDIRECT("'PACKET("&$D$1&")'!$C$3:$C$54"))="",_xlfn.XLOOKUP(A57,INDIRECT("'PACKET("&$D$1&")'!$A$3:$A$54"),INDIRECT("'PACKET("&$D$1&")'!$e$3:$e$54"))=""),"",_xlfn.XLOOKUP(C57,Bonuses!$A$3:$A$54,Bonuses!$H$3:$H$54)),"")}
... A65: 50 | B65: =A65 -> 50 | E65: =IF(C65="","",_xlfn.XLOOKUP(C65,Bonuses!$A$3:$A$54,Bonuses!$B$3:$B$54)) | I65: A | J65: {=_xlfn.IFNA(IF(OR(_xlfn.XLOOKUP(A65,INDIRECT("'PACKET("&$D$1&")'!$A$3:$A$54"),INDIRECT("'PACKET("&$D$1&")'!$C$3:$C$54"))="",_xlfn.XLOOKUP(A65,INDIRECT("'PACKET("&$D$1&")'!$A$3:$A$54"),INDIRECT("'PACKET("&$D$1&")'!$e$3:$e$54"))=""),"",_xlfn.XLOOKUP(C65,Bonuses!$A$3:$A$54,Bonuses!$H$3:$H$54)),"")}

Sheet PACKET(1)
A1: 1 | B1: BH | C1: =BC2 -> 0 | D1: DoD | E1: =BC16 -> 0 | F1: IC | G1: =BC30 -> 0 | H1: Bonuses | I1: =L1 -> 0 | J1: TOTAL | K1: =SUM(C1,E1,G1,I1) -> 0 | L1: =SUM(L3:L53) -> 0 | M1: =IF(COUNTIF(M3:M53,TRUE)=1,"X","") | N1: =IF(COUNTIF($M$1:M1,"X")=1,"",IF(COUNTIF(N3:N53,TRUE)=1,"X","")) | O1: =IF(COUNTIF($M$1:N1,"X")=1,"",IF(COUNTIF(O3:O53,TRUE)=1,"X","")) | P1: =IF(COUNTIF($M$1:O1,"X")=1,"",IF(COUNTIF(P3:P53,TRUE)=1,"X","")) | Q1: =IF(COUNTIF($M$1:P1,"X")=1,"",IF(COUNTIF(Q3:Q53,TRUE)=1,"X","")) | R1: =IF(COUNTIF($M$1:Q1,"X")=1,"",IF(COUNTIF(R3:R53,TRUE)=1,"X","")) | S1: =IF(COUNTIF($M$1:R1,"X")=1,"",IF(COUNTIF(S3:S53,TRUE)=1,"X","")) | T1: =IF(COUNTIF($M$1:S1,"X")=1,"",IF(COUNTIF(T3:T53,TRUE)=1,"X","")) | U1: =IF(COUNTIF($M$1:T1,"X")=1,"",IF(COUNTIF(U3:U53,TRUE)=1,"X","")) | ... X1: =IF(COUNTIF($M$1:W1,"X")=1,"",IF(COUNTIF(X3:X53,TRUE)=1,"X","")) | Y1: =IF(COUNTIF(Y3:Y53,TRUE)=1,"X","") | Z1: =IF(COUNTIF($Y$1:Y1,"X")=1,"",IF(COUNTIF(Z3:Z53,TRUE)=1,"X","")) | AA1: =IF(COUNTIF($Y$1:Z1,"X")=1,"",IF(COUNTIF(AA3:AA53,TRUE)=1,"X","")) | AB1: =IF(COUNTIF($Y$1:AA1,"X")=1,"",IF(COUNTIF(AB3:AB53,TRUE)=1,"X","")) | AC1: =IF(COUNTIF($Y$1:AB1,"X")=1,"",IF(COUNTIF(AC3:AC53,TRUE)=1,"X","")) | AD1: =IF(COUNTIF($Y$1:AC1,"X")=1,"",IF(COUNTIF(AD3:AD53,TRUE)=1,"X","")) | AE1: =IF(COUNTIF($Y$1:AD1,"X")=1,"",IF(COUNTIF(AE3:AE53,TRUE)=1,"X","")) | AF1: =IF(COUNTIF($Y$1:AE1,"X")=1,"",IF(COUNTIF(AF3:AF53,TRUE)=1,"X","")) | AG1: =IF(COUNTIF($Y$1:AF1,"X")=1,"",IF(COUNTIF(AG3:AG53,TRUE)=1,"X","")) | ... AJ1: =IF(COUNTIF($Y$1:AI1,"X")=1,"",IF(COUNTIF(AJ3:AJ53,TRUE)=1,"X","")) | AK1: =IF(COUNTIF(AK3:AK53,TRUE)=1,"X","") | AL1: =IF(COUNTIF($AK$1:AK1,"X")=1,"",IF(COUNTIF(AL3:AL53,TRUE)=1,"X","")) | AM1: =IF(COUNTIF($AK$1:AL1,"X")=1,"",IF(COUNTIF(AM3:AM53,TRUE)=1,"X","")) | AN1: =IF(COUNTIF($AK$1:AM1,"X")=1,"",IF(COUNTIF(AN3:AN53,TRUE)=1,"X","")) | AO1: =IF(COUNTIF($AK$1:AN1,"X")=1,"",IF(COUNTIF(AO3:AO53,TRUE)=1,"X","")) | AP1: =IF(COUNTIF($AK$1:AO1,"X")=1,"",IF(COUNTIF(AP3:AP53,TRUE)=1,"X","")) | AQ1: =IF(COUNTIF($AK$1:AP1,"X")=1,"",IF(COUNTIF(AQ3:AQ53,TRUE)=1,"X","")) | AR1: =IF(COUNTIF($AK$1:AQ1,"X")=1,"",IF(COUNTIF(AR3:AR53,TRUE)=1,"X","")) | AS1: =IF(COUNTIF($AK$1:AR1,"X")=1,"",IF(COUNTIF(AS3:AS53,TRUE)=1,"X","")) | ... AV1: =IF(COUNTIF($AK$1:AU1,"X")=1,"",IF(COUNTIF(AV3:AV53,TRUE)=1,"X","")) | AW1: =IF(COUNTIF($M$2:AV2,"X")=1,"",IF(COUNTIF(AW3:AW53,TRUE)=1,"X",""))
B2: Bonus Code | C2: App/Den | D2: Seq | E2: Duplicate | F2: Seq Order | H2: Actual Bon | J2: RiderBon | K2: RiderSeq | M2: B | N2: I | O2: N | P2: G | Q2: O | R2: Row 1 | S2: Row 2 | T2: Row 3 | U2: Row 4 | V2: Row 5 | W2: TopLeftBottomRight | X2: TopRightBottomLeft | Y2: B | Z2: I | AA2: N | AB2: G | AC2: O | AD2: Row 1 | AE2: Row 2 | AF2: Row 3 | AG2: Row 4 | AH2: Row 5 | AI2: TopLeftBottomRight | AJ2: TopRightBottomLeft | AK2: B | AL2: I | AM2: N | AN2: G | AO2: O | AP2: Row 1 | AQ2: Row 2 | AR2: Row 3 | AS2: Row 4 | AT2: Row 5 | AU2: TopLeftBottomRight | AV2: TopRightBottomLeft | AZ2: BLUE HAIR BINGO | BC2: =IF(COUNTIF(M1:X1,"X")=1,BC4,0) -> 0 | BJ2: DENIAL | BK2: Reason | BL2: DUPLICATE
A3: 1 | B3: =ScoreHelper!C14 -> 0 | C3: =IF(B3="","",B3) -> 0 | D3: =A3 -> 1 | E3: =IF(C3="","",IF(COUNTIF($C$3:C3,C3)>1,"",C3)) -> 0 | F3: 1 | G3: =_xlfn.IFNA(_xlfn.XLOOKUP(F3,$D$3:$D$50,$E$3:$E$50),"") -> 0 | H3: =IF(G3="","",COUNTIF($G$3:G3,"?*")) -> 0 | I3: 1 | J3: =_xlfn.IFNA(_xlfn.XLOOKUP(I3,$H$3:$H$54,$G$3:$G$54),"") | K3: =IF(J3="","",_xlfn.IFNA(_xlfn.XLOOKUP(J3,$E$3:$E$54,$D$3:$D$54),"")) | L3: =IF(J3="","",_xlfn.IFNA(_xlfn.XLOOKUP(J3,Bonuses!$A$3:$A$54,Bonuses!$H$3:$H$54),"")) | M3: {=IF(SUM(--((AZ$7:AZ$11="FREE")+(COUNTIF($J$3:$J3,AZ$7:AZ$11)>0)>0))=5,TRUE,"")} | N3: {=IF(SUM(--((BA$7:BA$11="FREE")+(COUNTIF($J$3:$J3,BA$7:BA$11)>0)>0))=5,TRUE,"")} | O3: {=IF(SUM(--((BB$7:BB$11="FREE")+(COUNTIF($J$3:$J3,BB$7:BB$11)>0)>0))=5,TRUE,"")} | P3: {=IF(SUM(--((BC$7:BC$11="FREE")+(COUNTIF($J$3:$J3,BC$7:BC$11)>0)>0))=5,TRUE,"")} | Q3: {=IF(SUM(--((BD$7:BD$11="FREE")+(COUNTIF($J$3:$J3,BD$7:BD$11)>0)>0))=5,TRUE,"")} | R3: {=IF(SUM(--(($AZ$7:$BD$7="FREE")+(COUNTIF($J$3:$J3,$AZ$7:$BD$7)>0)>0))=5,TRUE,"")} | S3: {=IF(SUM(--(($AZ$8:$BD$8="FREE")+(COUNTIF($J$3:$J3,$AZ$8:$BD$8)>0)>0))=5,TRUE,"")} | T3: {=IF(SUM(--(($AZ$9:$BD$9="FREE")+(COUNTIF($J$3:$J3,$AZ$9:$BD$9)>0)>0))=5,TRUE,"")} | U3: {=IF(SUM(--(($AZ$10:$BD$10="FREE")+(COUNTIF($J$3:$J3,$AZ$10:$BD$10)>0)>0))=5,TRUE,"")} | V3: {=IF(SUM(--(($AZ$11:$BD$11="FREE")+(COUNTIF($J$3:$J3,$AZ$11:$BD$11)>0)>0))=5,TRUE,"")} | W3: {=IF(SUM(--((CHOOSE({1,2,3,4,5},$AZ$7,$BA$8,$BB$9,$BC$10,$BD$11)="FREE")+(COUNTIF($J$3:$J3,CHOOSE({1,2,3,4,5},$AZ$7,$BA$8,$BB$9,$BC$10,$BD$11))>0)>0))=5,TRUE,"")} | X3: {=IF(SUM(--((CHOOSE({1,2,3,4,5},$BD$7,$BC$8,$BB$9,$BA$10,$AZ$11)="FREE")+(COUNTIF($J$3:$J3,CHOOSE({1,2,3,4,5},$BD$7,$BC$8,$BB$9,$BA$10,$AZ$11))>0)>0))=5,TRUE,"")} | Y3: {=IF(SUM(--((AZ$21:AZ$25="FREE")+(COUNTIF($J$3:$J3,AZ$21:AZ$25)>0)>0))=5,TRUE,"")} | Z3: {=IF(SUM(--((BA$21:BA$25="FREE")+(COUNTIF($J$3:$J3,BA$21:BA$25)>0)>0))=5,TRUE,"")} | AA3: {=IF(SUM(--((BB$21:BB$25="FREE")+(COUNTIF($J$3:$J3,BB$21:BB$25)>0)>0))=5,TRUE,"")} | AB3: {=IF(SUM(--((BC$21:BC$25="FREE")+(COUNTIF($J$3:$J3,BC$21:BC$25)>0)>0))=5,TRUE,"")} | AC3: {=IF(SUM(--((BD$21:BD$25="FREE")+(COUNTIF($J$3:$J3,BD$21:BD$25)>0)>0))=5,TRUE,"")} | AD3: {=IF(SUM(--(($AZ$21:$BD$21="FREE")+(COUNTIF($J$3:$J3,$AZ$21:$BD$21)>0)>0))=5,TRUE,"")} | AE3: {=IF(SUM(--(($AZ$22:$BD$22="FREE")+(COUNTIF($J$3:$J3,$AZ$22:$BD$22)>0)>0))=5,TRUE,"")} | AF3: {=IF(SUM(--(($AZ$23:$BD$23="FREE")+(COUNTIF($J$3:$J3,$AZ$23:$BD$23)>0)>0))=5,TRUE,"")} | AG3: {=IF(SUM(--(($AZ$24:$BD$24="FREE")+(COUNTIF($J$3:$J3,$AZ$24:$BD$24)>0)>0))=5,TRUE,"")} | AH3: {=IF(SUM(--(($AZ$25:$BD$25="FREE")+(COUNTIF($J$3:$J3,$AZ$25:$BD$25)>0)>0))=5,TRUE,"")} | AI3: {=IF(SUM(--((CHOOSE({1,2,3,4,5},$AZ$21,$BA$22,$BB$23,$BC$24,$BD$25)="FREE")+(COUNTIF($J$3:$J3,CHOOSE({1,2,3,4,5},$AZ$21,$BA$22,$BB$23,$BC$24,$BD$25))>0)>0))=5,TRUE,"")} | AJ3: {=IF(SUM(--((CHOOSE({1,2,3,4,5},$BD$21,$BC$22,$BB$23,$BA$24,$AZ$25)="FREE")+(COUNTIF($J$3:$J3,CHOOSE({1,2,3,4,5},$BD$21,$BC$22,$BB$23,$BA$24,$AZ$25))>0)>0))=5,TRUE,"")} | AK3: {=IF(SUM(--((AZ$35:AZ$39="FREE")+(COUNTIF($J$3:$J3,AZ$35:AZ$39)>0)>0))=5,TRUE,"")} | AL3: {=IF(SUM(--((BA$35:BA$39="FREE")+(COUNTIF($J$3:$J3,BA$35:BA$39)>0)>0))=5,TRUE,"")} | AM3: {=IF(SUM(--((BB$35:BB$39="FREE")+(COUNTIF($J$3:$J3,BB$35:BB$39)>0)>0))=5,TRUE,"")} | AN3: {=IF(SUM(--((BC$35:BC$39="FREE")+(COUNTIF($J$3:$J3,BC$35:BC$39)>0)>0))=5,TRUE,"")} | AO3: {=IF(SUM(--((BD$35:BD$39="FREE")+(COUNTIF($J$3:$J3,BD$35:BD$39)>0)>0))=5,TRUE,"")} | AP3: {=IF(SUM(--(($AZ$35:$BD$35="FREE")+(COUNTIF($J$3:$J3,$AZ$35:$BD$35)>0)>0))=5,TRUE,"")} | AQ3: {=IF(SUM(--(($AZ$36:$BD$36="FREE")+(COUNTIF($J$3:$J3,$AZ$36:$BD$36)>0)>0))=5,TRUE,"")} | AR3: {=IF(SUM(--(($AZ$37:$BD$37="FREE")+(COUNTIF($J$3:$J3,$AZ$37:$BD$37)>0)>0))=5,TRUE,"")} | AS3: {=IF(SUM(--(($AZ$38:$BD$38="FREE")+(COUNTIF($J$3:$J3,$AZ$38:$BD$38)>0)>0))=5,TRUE,"")} | AT3: {=IF(SUM(--(($AZ$39:$BD$39="FREE")+(COUNTIF($J$3:$J3,$AZ$39:$BD$39)>0)>0))=5,TRUE,"")} | AU3: {=IF(SUM(--((CHOOSE({1,2,3,4,5},$AZ$35,$BA$36,$BB$37,$BC$38,$BD$39)="FREE")+(COUNTIF($J$3:$J3,CHOOSE({1,2,3,4,5},$AZ$35,$BA$36,$BB$37,$BC$38,$BD$39))>0)>0))=5,TRUE,"")} | AV3: {=IF(SUM(--((CHOOSE({1,2,3,4,5},$BD$35,$BC$36,$BB$37,$BA$38,$AZ$39)="FREE")+(COUNTIF($J$3:$J3,CHOOSE({1,2,3,4,5},$BD$35,$BC$36,$BB$37,$BA$38,$AZ$39))>0)>0))=5,TRUE,"")} | BG3: BLUE HAIR BINGO | BI3: =SUM(BI4:BI15) -> 0 | BJ3: =_xlfn.IFNA(IF(_xlfn.XLOOKUP($A$1&"-"&A3,#REF!,#REF!)="D","D",""),"") -> #REF! | BK3: =IF(BL3="DP","Duplicate Bonus",IF(BJ3="","",_xlfn.IFNA(_xlfn.XLOOKUP($A$1&"-"&A3,#REF!,#REF!),""))) -> #REF! | BL3: =IF(AND(C3<>"",E3=""),"DP","") | BM3: =IF(OR(BJ3="D",BL3="DP"),"D","") -> #REF! | BN3: =IF(BM3="","","D"&COUNTIF($BM$3:BM3,"D")) -> #REF!
A4: 2 | B4: =ScoreHelper!C15 -> 0 | C4: =IF(B4="","",B4) -> 0 | D4: =A4 -> 2 | E4: =IF(C4="","",IF(COUNTIF($C$3:C4,C4)>1,"",C4)) | F4: 2 | G4: =_xlfn.IFNA(_xlfn.XLOOKUP(F4,$D$3:$D$50,$E$3:$E$50),"") | H4: =IF(G4="","",COUNTIF($G$3:G4,"?*")) | I4: 2 | J4: =_xlfn.IFNA(_xlfn.XLOOKUP(I4,$H$3:$H$54,$G$3:$G$54),"") | K4: =IF(J4="","",_xlfn.IFNA(_xlfn.XLOOKUP(J4,$E$3:$E$54,$D$3:$D$54),"")) | L4: =IF(J4="","",_xlfn.IFNA(_xlfn.XLOOKUP(J4,Bonuses!$A$3:$A$54,Bonuses!$H$3:$H$54),"")) | M4: {=IF(COUNTIF($M$3:$X3,TRUE)>0,"",IF(SUM(--((AZ$7:AZ$11="FREE")+(COUNTIF($J$3:$J4,AZ$7:AZ$11)>0)>0))=5,TRUE,""))} | N4: {=IF(COUNTIF($M$3:$X3,TRUE)>0,"",IF(SUM(--((BA$7:BA$11="FREE")+(COUNTIF($J$3:$J4,BA$7:BA$11)>0)>0))=5,TRUE,""))} | O4: {=IF(COUNTIF($M$3:$X3,TRUE)>0,"",IF(SUM(--((BB$7:BB$11="FREE")+(COUNTIF($J$3:$J4,BB$7:BB$11)>0)>0))=5,TRUE,""))} | P4: {=IF(COUNTIF($M$3:$X3,TRUE)>0,"",IF(SUM(--((BC$7:BC$11="FREE")+(COUNTIF($J$3:$J4,BC$7:BC$11)>0)>0))=5,TRUE,""))} | Q4: {=IF(COUNTIF($M$3:$X3,TRUE)>0,"",IF(SUM(--((BD$7:BD$11="FREE")+(COUNTIF($J$3:$J4,BD$7:BD$11)>0)>0))=5,TRUE,""))} | R4: {=IF(COUNTIF($M$3:$X3,TRUE)>0,"",IF(SUM(--(($AZ$7:$BD$7="FREE")+(COUNTIF($J$3:$J4,$AZ$7:$BD$7)>0)>0))=5,TRUE,""))} | S4: {=IF(COUNTIF($M$3:$X3,TRUE)>0,"",IF(SUM(--(($AZ$8:$BD$8="FREE")+(COUNTIF($J$3:$J4,$AZ$8:$BD$8)>0)>0))=5,TRUE,""))} | T4: {=IF(COUNTIF($M$3:$X3,TRUE)>0,"",IF(SUM(--(($AZ$9:$BD$9="FREE")+(COUNTIF($J$3:$J4,$AZ$9:$BD$9)>0)>0))=5,TRUE,""))} | U4: {=IF(COUNTIF($M$3:$X3,TRUE)>0,"",IF(SUM(--(($AZ$10:$BD$10="FREE")+(COUNTIF($J$3:$J4,$AZ$10:$BD$10)>0)>0))=5,TRUE,""))} | V4: {=IF(COUNTIF($M$3:$X3,TRUE)>0,"",IF(SUM(--(($AZ$11:$BD$11="FREE")+(COUNTIF($J$3:$J4,$AZ$11:$BD$11)>0)>0))=5,TRUE,""))} | W4: {=IF(COUNTIF($M$3:$X3,TRUE)>0,"",IF(SUM(--((CHOOSE({1,2,3,4,5},$AZ$7,$BA$8,$BB$9,$BC$10,$BD$11)="FREE")+(COUNTIF($J$3:$J4,CHOOSE({1,2,3,4,5},$AZ$7,$BA$8,$BB$9,$BC$10,$BD$11))>0)>0))=5,TRUE,""))} | X4: {=IF(COUNTIF($M$3:$X3,TRUE)>0,"",IF(SUM(--((CHOOSE({1,2,3,4,5},$BD$7,$BC$8,$BB$9,$BA$10,$AZ$11)="FREE")+(COUNTIF($J$3:$J4,CHOOSE({1,2,3,4,5},$BD$7,$BC$8,$BB$9,$BA$10,$AZ$11))>0)>0))=5,TRUE,""))} | Y4: {=IF(COUNTIF($Y$3:$AJ3,TRUE)>0,"",IF(SUM(--((AZ$21:AZ$25="FREE")+(COUNTIF($J$3:$J4,AZ$21:AZ$25)>0)>0))=5,TRUE,""))} | Z4: {=IF(COUNTIF($Y$3:$AJ3,TRUE)>0,"",IF(SUM(--((BA$21:BA$25="FREE")+(COUNTIF($J$3:$J4,BA$21:BA$25)>0)>0))=5,TRUE,""))} | AA4: {=IF(COUNTIF($Y$3:$AJ3,TRUE)>0,"",IF(SUM(--((BB$21:BB$25="FREE")+(COUNTIF($J$3:$J4,BB$21:BB$25)>0)>0))=5,TRUE,""))} | AB4: {=IF(COUNTIF($Y$3:$AJ3,TRUE)>0,"",IF(SUM(--((BC$21:BC$25="FREE")+(COUNTIF($J$3:$J4,BC$21:BC$25)>0)>0))=5,TRUE,""))} | AC4: {=IF(COUNTIF($Y$3:$AJ3,TRUE)>0,"",IF(SUM(--((BD$21:BD$25="FREE")+(COUNTIF($J$3:$J4,BD$21:BD$25)>0)>0))=5,TRUE,""))} | AD4: {=IF(COUNTIF($Y$3:$AJ3,TRUE)>0,"",IF(SUM(--(($AZ$21:$BD$21="FREE")+(COUNTIF($J$3:$J4,$AZ$21:$BD$21)>0)>0))=5,TRUE,""))} | AE4: {=IF(COUNTIF($Y$3:$AJ3,TRUE)>0,"",IF(SUM(--(($AZ$22:$BD$22="FREE")+(COUNTIF($J$3:$J4,$AZ$22:$BD$22)>0)>0))=5,TRUE,""))} | AF4: {=IF(COUNTIF($Y$3:$AJ3,TRUE)>0,"",IF(SUM(--(($AZ$23:$BD$23="FREE")+(COUNTIF($J$3:$J4,$AZ$23:$BD$23)>0)>0))=5,TRUE,""))} | AG4: {=IF(COUNTIF($Y$3:$AJ3,TRUE)>0,"",IF(SUM(--(($AZ$24:$BD$24="FREE")+(COUNTIF($J$3:$J4,$AZ$24:$BD$24)>0)>0))=5,TRUE,""))} | AH4: {=IF(COUNTIF($Y$3:$AJ3,TRUE)>0,"",IF(SUM(--(($AZ$25:$BD$25="FREE")+(COUNTIF($J$3:$J4,$AZ$25:$BD$25)>0)>0))=5,TRUE,""))} | AI4: {=IF(COUNTIF($Y$3:$AJ3,TRUE)>0,"",IF(SUM(--((CHOOSE({1,2,3,4,5},$AZ$21,$BA$22,$BB$23,$BC$24,$BD$25)="FREE")+(COUNTIF($J$3:$J4,CHOOSE({1,2,3,4,5},$AZ$21,$BA$22,$BB$23,$BC$24,$BD$25))>0)>0))=5,TRUE,""))} | AJ4: {=IF(COUNTIF($Y$3:$AJ3,TRUE)>0,"",IF(SUM(--((CHOOSE({1,2,3,4,5},$BD$21,$BC$22,$BB$23,$BA$24,$AZ$25)="FREE")+(COUNTIF($J$3:$J4,CHOOSE({1,2,3,4,5},$BD$21,$BC$22,$BB$23,$BA$24,$AZ$25))>0)>0))=5,TRUE,""))} | AK4: {=IF(COUNTIF($AK$3:$AV3,TRUE)>0,"",IF(SUM(--((AZ$35:AZ$39="FREE")+(COUNTIF($J$3:$J4,AZ$35:AZ$39)>0)>0))=5,TRUE,""))} | AL4: {=IF(COUNTIF($AK$3:$AV3,TRUE)>0,"",IF(SUM(--((BA$35:BA$39="FREE")+(COUNTIF($J$3:$J4,BA$35:BA$39)>0)>0))=5,TRUE,""))} | AM4: {=IF(COUNTIF($AK$3:$AV3,TRUE)>0,"",IF(SUM(--((BB$35:BB$39="FREE")+(COUNTIF($J$3:$J4,BB$35:BB$39)>0)>0))=5,TRUE,""))} | AN4: {=IF(COUNTIF($AK$3:$AV3,TRUE)>0,"",IF(SUM(--((BC$35:BC$39="FREE")+(COUNTIF($J$3:$J4,BC$35:BC$39)>0)>0))=5,TRUE,""))} | AO4: {=IF(COUNTIF($AK$3:$AV3,TRUE)>0,"",IF(SUM(--((BD$35:BD$39="FREE")+(COUNTIF($J$3:$J4,BD$35:BD$39)>0)>0))=5,TRUE,""))} | AP4: {=IF(COUNTIF($AK$3:$AV3,TRUE)>0,"",IF(SUM(--(($AZ$35:$BD$35="FREE")+(COUNTIF($J$3:$J4,$AZ$35:$BD$35)>0)>0))=5,TRUE,""))} | AQ4: {=IF(COUNTIF($AK$3:$AV3,TRUE)>0,"",IF(SUM(--(($AZ$36:$BD$36="FREE")+(COUNTIF($J$3:$J4,$AZ$36:$BD$36)>0)>0))=5,TRUE,""))} | AR4: {=IF(COUNTIF($AK$3:$AV3,TRUE)>0,"",IF(SUM(--(($AZ$37:$BD$37="FREE")+(COUNTIF($J$3:$J4,$AZ$37:$BD$37)>0)>0))=5,TRUE,""))} | AS4: {=IF(COUNTIF($AK$3:$AV3,TRUE)>0,"",IF(SUM(--(($AZ$38:$BD$38="FREE")+(COUNTIF($J$3:$J4,$AZ$38:$BD$38)>0)>0))=5,TRUE,""))} | AT4: {=IF(COUNTIF($AK$3:$AV3,TRUE)>0,"",IF(SUM(--(($AZ$39:$BD$39="FREE")+(COUNTIF($J$3:$J4,$AZ$39:$BD$39)>0)>0))=5,TRUE,""))} | AU4: {=IF(COUNTIF($AK$3:$AV3,TRUE)>0,"",IF(SUM(--((CHOOSE({1,2,3,4,5},$AZ$35,$BA$36,$BB$37,$BC$38,$BD$39)="FREE")+(COUNTIF($J$3:$J4,CHOOSE({1,2,3,4,5},$AZ$35,$BA$36,$BB$37,$BC$38,$BD$39))>0)>0))=5,TRUE,""))} | AV4: {=IF(COUNTIF($AK$3:$AV3,TRUE)>0,"",IF(SUM(--((CHOOSE({1,2,3,4,5},$BD$35,$BC$36,$BB$37,$BA$38,$AZ$39)="FREE")+(COUNTIF($J$3:$J4,CHOOSE({1,2,3,4,5},$BD$35,$BC$36,$BB$37,$BA$38,$AZ$39))>0)>0))=5,TRUE,""))} | AZ4: Complete any Bingo = 1,000 points | BC4: 1000 | BG4: B | BH4: BLUE HAIR BINGO | BI4: =AZ12 -> 0 | BJ4: =_xlfn.IFNA(IF(_xlfn.XLOOKUP($A$1&"-"&A4,#REF!,#REF!)="D","D",""),"") -> #REF! | BK4: =IF(BL4="DP","Duplicate Bonus",IF(BJ4="","",_xlfn.IFNA(_xlfn.XLOOKUP($A$1&"-"&A4,#REF!,#REF!),""))) -> Duplicate Bonus | BL4: =IF(AND(C4<>"",E4=""),"DP","") -> DP | BM4: =IF(OR(BJ4="D",BL4="DP"),"D","") -> #REF! | BN4: =IF(BM4="","","D"&COUNTIF($BM$3:BM4,"D")) -> #REF!
A5: 3 | B5: =ScoreHelper!C16 -> 0 | C5: =IF(B5="","",B5) -> 0 | D5: =A5 -> 3 | E5: =IF(C5="","",IF(COUNTIF($C$3:C5,C5)>1,"",C5)) | F5: 3 | G5: =_xlfn.IFNA(_xlfn.XLOOKUP(F5,$D$3:$D$50,$E$3:$E$50),"") | H5: =IF(G5="","",COUNTIF($G$3:G5,"?*")) | I5: 3 | J5: =_xlfn.IFNA(_xlfn.XLOOKUP(I5,$H$3:$H$54,$G$3:$G$54),"") | K5: =IF(J5="","",_xlfn.IFNA(_xlfn.XLOOKUP(J5,$E$3:$E$54,$D$3:$D$54),"")) | L5: =IF(J5="","",_xlfn.IFNA(_xlfn.XLOOKUP(J5,Bonuses!$A$3:$A$54,Bonuses!$H$3:$H$54),"")) | M5: {=IF(COUNTIF($M$3:$X4,TRUE)>0,"",IF(SUM(--((AZ$7:AZ$11="FREE")+(COUNTIF($J$3:$J5,AZ$7:AZ$11)>0)>0))=5,TRUE,""))} | N5: {=IF(COUNTIF($M$3:$X4,TRUE)>0,"",IF(SUM(--((BA$7:BA$11="FREE")+(COUNTIF($J$3:$J5,BA$7:BA$11)>0)>0))=5,TRUE,""))} | O5: {=IF(COUNTIF($M$3:$X4,TRUE)>0,"",IF(SUM(--((BB$7:BB$11="FREE")+(COUNTIF($J$3:$J5,BB$7:BB$11)>0)>0))=5,TRUE,""))} | P5: {=IF(COUNTIF($M$3:$X4,TRUE)>0,"",IF(SUM(--((BC$7:BC$11="FREE")+(COUNTIF($J$3:$J5,BC$7:BC$11)>0)>0))=5,TRUE,""))} | Q5: {=IF(COUNTIF($M$3:$X4,TRUE)>0,"",IF(SUM(--((BD$7:BD$11="FREE")+(COUNTIF($J$3:$J5,BD$7:BD$11)>0)>0))=5,TRUE,""))} | R5: {=IF(COUNTIF($M$3:$X4,TRUE)>0,"",IF(SUM(--(($AZ$7:$BD$7="FREE")+(COUNTIF($J$3:$J5,$AZ$7:$BD$7)>0)>0))=5,TRUE,""))} | S5: {=IF(COUNTIF($M$3:$X4,TRUE)>0,"",IF(SUM(--(($AZ$8:$BD$8="FREE")+(COUNTIF($J$3:$J5,$AZ$8:$BD$8)>0)>0))=5,TRUE,""))} | T5: {=IF(COUNTIF($M$3:$X4,TRUE)>0,"",IF(SUM(--(($AZ$9:$BD$9="FREE")+(COUNTIF($J$3:$J5,$AZ$9:$BD$9)>0)>0))=5,TRUE,""))} | U5: {=IF(COUNTIF($M$3:$X4,TRUE)>0,"",IF(SUM(--(($AZ$10:$BD$10="FREE")+(COUNTIF($J$3:$J5,$AZ$10:$BD$10)>0)>0))=5,TRUE,""))} | V5: {=IF(COUNTIF($M$3:$X4,TRUE)>0,"",IF(SUM(--(($AZ$11:$BD$11="FREE")+(COUNTIF($J$3:$J5,$AZ$11:$BD$11)>0)>0))=5,TRUE,""))} | W5: {=IF(COUNTIF($M$3:$X4,TRUE)>0,"",IF(SUM(--((CHOOSE({1,2,3,4,5},$AZ$7,$BA$8,$BB$9,$BC$10,$BD$11)="FREE")+(COUNTIF($J$3:$J5,CHOOSE({1,2,3,4,5},$AZ$7,$BA$8,$BB$9,$BC$10,$BD$11))>0)>0))=5,TRUE,""))} | X5: {=IF(COUNTIF($M$3:$X4,TRUE)>0,"",IF(SUM(--((CHOOSE({1,2,3,4,5},$BD$7,$BC$8,$BB$9,$BA$10,$AZ$11)="FREE")+(COUNTIF($J$3:$J5,CHOOSE({1,2,3,4,5},$BD$7,$BC$8,$BB$9,$BA$10,$AZ$11))>0)>0))=5,TRUE,""))} | Y5: {=IF(COUNTIF($Y$3:$AJ4,TRUE)>0,"",IF(SUM(--((AZ$21:AZ$25="FREE")+(COUNTIF($J$3:$J5,AZ$21:AZ$25)>0)>0))=5,TRUE,""))} | Z5: {=IF(COUNTIF($Y$3:$AJ4,TRUE)>0,"",IF(SUM(--((BA$21:BA$25="FREE")+(COUNTIF($J$3:$J5,BA$21:BA$25)>0)>0))=5,TRUE,""))} | AA5: {=IF(COUNTIF($Y$3:$AJ4,TRUE)>0,"",IF(SUM(--((BB$21:BB$25="FREE")+(COUNTIF($J$3:$J5,BB$21:BB$25)>0)>0))=5,TRUE,""))} | AB5: {=IF(COUNTIF($Y$3:$AJ4,TRUE)>0,"",IF(SUM(--((BC$21:BC$25="FREE")+(COUNTIF($J$3:$J5,BC$21:BC$25)>0)>0))=5,TRUE,""))} | AC5: {=IF(COUNTIF($Y$3:$AJ4,TRUE)>0,"",IF(SUM(--((BD$21:BD$25="FREE")+(COUNTIF($J$3:$J5,BD$21:BD$25)>0)>0))=5,TRUE,""))} | AD5: {=IF(COUNTIF($Y$3:$AJ4,TRUE)>0,"",IF(SUM(--(($AZ$21:$BD$21="FREE")+(COUNTIF($J$3:$J5,$AZ$21:$BD$21)>0)>0))=5,TRUE,""))} | AE5: {=IF(COUNTIF($Y$3:$AJ4,TRUE)>0,"",IF(SUM(--(($AZ$22:$BD$22="FREE")+(COUNTIF($J$3:$J5,$AZ$22:$BD$22)>0)>0))=5,TRUE,""))} | AF5: {=IF(COUNTIF($Y$3:$AJ4,TRUE)>0,"",IF(SUM(--(($AZ$23:$BD$23="FREE")+(COUNTIF($J$3:$J5,$AZ$23:$BD$23)>0)>0))=5,TRUE,""))} | AG5: {=IF(COUNTIF($Y$3:$AJ4,TRUE)>0,"",IF(SUM(--(($AZ$24:$BD$24="FREE")+(COUNTIF($J$3:$J5,$AZ$24:$BD$24)>0)>0))=5,TRUE,""))} | AH5: {=IF(COUNTIF($Y$3:$AJ4,TRUE)>0,"",IF(SUM(--(($AZ$25:$BD$25="FREE")+(COUNTIF($J$3:$J5,$AZ$25:$BD$25)>0)>0))=5,TRUE,""))} | AI5: {=IF(COUNTIF($Y$3:$AJ4,TRUE)>0,"",IF(SUM(--((CHOOSE({1,2,3,4,5},$AZ$21,$BA$22,$BB$23,$BC$24,$BD$25)="FREE")+(COUNTIF($J$3:$J5,CHOOSE({1,2,3,4,5},$AZ$21,$BA$22,$BB$23,$BC$24,$BD$25))>0)>0))=5,TRUE,""))} | AJ5: {=IF(COUNTIF($Y$3:$AJ4,TRUE)>0,"",IF(SUM(--((CHOOSE({1,2,3,4,5},$BD$21,$BC$22,$BB$23,$BA$24,$AZ$25)="FREE")+(COUNTIF($J$3:$J5,CHOOSE({1,2,3,4,5},$BD$21,$BC$22,$BB$23,$BA$24,$AZ$25))>0)>0))=5,TRUE,""))} | AK5: {=IF(COUNTIF($AK$3:$AV4,TRUE)>0,"",IF(SUM(--((AZ$35:AZ$39="FREE")+(COUNTIF($J$3:$J5,AZ$35:AZ$39)>0)>0))=5,TRUE,""))} | AL5: {=IF(COUNTIF($AK$3:$AV4,TRUE)>0,"",IF(SUM(--((BA$35:BA$39="FREE")+(COUNTIF($J$3:$J5,BA$35:BA$39)>0)>0))=5,TRUE,""))} | AM5: {=IF(COUNTIF($AK$3:$AV4,TRUE)>0,"",IF(SUM(--((BB$35:BB$39="FREE")+(COUNTIF($J$3:$J5,BB$35:BB$39)>0)>0))=5,TRUE,""))} | AN5: {=IF(COUNTIF($AK$3:$AV4,TRUE)>0,"",IF(SUM(--((BC$35:BC$39="FREE")+(COUNTIF($J$3:$J5,BC$35:BC$39)>0)>0))=5,TRUE,""))} | AO5: {=IF(COUNTIF($AK$3:$AV4,TRUE)>0,"",IF(SUM(--((BD$35:BD$39="FREE")+(COUNTIF($J$3:$J5,BD$35:BD$39)>0)>0))=5,TRUE,""))} | AP5: {=IF(COUNTIF($AK$3:$AV4,TRUE)>0,"",IF(SUM(--(($AZ$35:$BD$35="FREE")+(COUNTIF($J$3:$J5,$AZ$35:$BD$35)>0)>0))=5,TRUE,""))} | AQ5: {=IF(COUNTIF($AK$3:$AV4,TRUE)>0,"",IF(SUM(--(($AZ$36:$BD$36="FREE")+(COUNTIF($J$3:$J5,$AZ$36:$BD$36)>0)>0))=5,TRUE,""))} | AR5: {=IF(COUNTIF($AK$3:$AV4,TRUE)>0,"",IF(SUM(--(($AZ$37:$BD$37="FREE")+(COUNTIF($J$3:$J5,$AZ$37:$BD$37)>0)>0))=5,TRUE,""))} | AS5: {=IF(COUNTIF($AK$3:$AV4,TRUE)>0,"",IF(SUM(--(($AZ$38:$BD$38="FREE")+(COUNTIF($J$3:$J5,$AZ$38:$BD$38)>0)>0))=5,TRUE,""))} | AT5: {=IF(COUNTIF($AK$3:$AV4,TRUE)>0,"",IF(SUM(--(($AZ$39:$BD$39="FREE")+(COUNTIF($J$3:$J5,$AZ$39:$BD$39)>0)>0))=5,TRUE,""))} | AU5: {=IF(COUNTIF($AK$3:$AV4,TRUE)>0,"",IF(SUM(--((CHOOSE({1,2,3,4,5},$AZ$35,$BA$36,$BB$37,$BC$38,$BD$39)="FREE")+(COUNTIF($J$3:$J5,CHOOSE({1,2,3,4,5},$AZ$35,$BA$36,$BB$37,$BC$38,$BD$39))>0)>0))=5,TRUE,""))} | AV5: {=IF(COUNTIF($AK$3:$AV4,TRUE)>0,"",IF(SUM(--((CHOOSE({1,2,3,4,5},$BD$35,$BC$36,$BB$37,$BA$38,$AZ$39)="FREE")+(COUNTIF($J$3:$J5,CHOOSE({1,2,3,4,5},$BD$35,$BC$36,$BB$37,$BA$38,$AZ$39))>0)>0))=5,TRUE,""))} | BG5: I | BH5: BLUE HAIR BINGO | BI5: =BA12 -> 0 | BJ5: =_xlfn.IFNA(IF(_xlfn.XLOOKUP($A$1&"-"&A5,#REF!,#REF!)="D","D",""),"") -> #REF! | BK5: =IF(BL5="DP","Duplicate Bonus",IF(BJ5="","",_xlfn.IFNA(_xlfn.XLOOKUP($A$1&"-"&A5,#REF!,#REF!),""))) -> Duplicate Bonus | BL5: =IF(AND(C5<>"",E5=""),"DP","") -> DP | BM5: =IF(OR(BJ5="D",BL5="DP"),"D","") -> #REF! | BN5: =IF(BM5="","","D"&COUNTIF($BM$3:BM5,"D")) -> #REF!
A6: 4 | B6: =ScoreHelper!C17 -> 0 | C6: =IF(B6="","",B6) -> 0 | D6: =A6 -> 4 | E6: =IF(C6="","",IF(COUNTIF($C$3:C6,C6)>1,"",C6)) | F6: 4 | G6: =_xlfn.IFNA(_xlfn.XLOOKUP(F6,$D$3:$D$50,$E$3:$E$50),"") | H6: =IF(G6="","",COUNTIF($G$3:G6,"?*")) | I6: 4 | J6: =_xlfn.IFNA(_xlfn.XLOOKUP(I6,$H$3:$H$54,$G$3:$G$54),"") | K6: =IF(J6="","",_xlfn.IFNA(_xlfn.XLOOKUP(J6,$E$3:$E$54,$D$3:$D$54),"")) | L6: =IF(J6="","",_xlfn.IFNA(_xlfn.XLOOKUP(J6,Bonuses!$A$3:$A$54,Bonuses!$H$3:$H$54),"")) | M6: {=IF(COUNTIF($M$3:$X5,TRUE)>0,"",IF(SUM(--((AZ$7:AZ$11="FREE")+(COUNTIF($J$3:$J6,AZ$7:AZ$11)>0)>0))=5,TRUE,""))} | N6: {=IF(COUNTIF($M$3:$X5,TRUE)>0,"",IF(SUM(--((BA$7:BA$11="FREE")+(COUNTIF($J$3:$J6,BA$7:BA$11)>0)>0))=5,TRUE,""))} | O6: {=IF(COUNTIF($M$3:$X5,TRUE)>0,"",IF(SUM(--((BB$7:BB$11="FREE")+(COUNTIF($J$3:$J6,BB$7:BB$11)>0)>0))=5,TRUE,""))} | P6: {=IF(COUNTIF($M$3:$X5,TRUE)>0,"",IF(SUM(--((BC$7:BC$11="FREE")+(COUNTIF($J$3:$J6,BC$7:BC$11)>0)>0))=5,TRUE,""))} | Q6: {=IF(COUNTIF($M$3:$X5,TRUE)>0,"",IF(SUM(--((BD$7:BD$11="FREE")+(COUNTIF($J$3:$J6,BD$7:BD$11)>0)>0))=5,TRUE,""))} | R6: {=IF(COUNTIF($M$3:$X5,TRUE)>0,"",IF(SUM(--(($AZ$7:$BD$7="FREE")+(COUNTIF($J$3:$J6,$AZ$7:$BD$7)>0)>0))=5,TRUE,""))} | S6: {=IF(COUNTIF($M$3:$X5,TRUE)>0,"",IF(SUM(--(($AZ$8:$BD$8="FREE")+(COUNTIF($J$3:$J6,$AZ$8:$BD$8)>0)>0))=5,TRUE,""))} | T6: {=IF(COUNTIF($M$3:$X5,TRUE)>0,"",IF(SUM(--(($AZ$9:$BD$9="FREE")+(COUNTIF($J$3:$J6,$AZ$9:$BD$9)>0)>0))=5,TRUE,""))} | U6: {=IF(COUNTIF($M$3:$X5,TRUE)>0,"",IF(SUM(--(($AZ$10:$BD$10="FREE")+(COUNTIF($J$3:$J6,$AZ$10:$BD$10)>0)>0))=5,TRUE,""))} | V6: {=IF(COUNTIF($M$3:$X5,TRUE)>0,"",IF(SUM(--(($AZ$11:$BD$11="FREE")+(COUNTIF($J$3:$J6,$AZ$11:$BD$11)>0)>0))=5,TRUE,""))} | W6: {=IF(COUNTIF($M$3:$X5,TRUE)>0,"",IF(SUM(--((CHOOSE({1,2,3,4,5},$AZ$7,$BA$8,$BB$9,$BC$10,$BD$11)="FREE")+(COUNTIF($J$3:$J6,CHOOSE({1,2,3,4,5},$AZ$7,$BA$8,$BB$9,$BC$10,$BD$11))>0)>0))=5,TRUE,""))} | X6: {=IF(COUNTIF($M$3:$X5,TRUE)>0,"",IF(SUM(--((CHOOSE({1,2,3,4,5},$BD$7,$BC$8,$BB$9,$BA$10,$AZ$11)="FREE")+(COUNTIF($J$3:$J6,CHOOSE({1,2,3,4,5},$BD$7,$BC$8,$BB$9,$BA$10,$AZ$11))>0)>0))=5,TRUE,""))} | Y6: {=IF(COUNTIF($Y$3:$AJ5,TRUE)>0,"",IF(SUM(--((AZ$21:AZ$25="FREE")+(COUNTIF($J$3:$J6,AZ$21:AZ$25)>0)>0))=5,TRUE,""))} | Z6: {=IF(COUNTIF($Y$3:$AJ5,TRUE)>0,"",IF(SUM(--((BA$21:BA$25="FREE")+(COUNTIF($J$3:$J6,BA$21:BA$25)>0)>0))=5,TRUE,""))} | AA6: {=IF(COUNTIF($Y$3:$AJ5,TRUE)>0,"",IF(SUM(--((BB$21:BB$25="FREE")+(COUNTIF($J$3:$J6,BB$21:BB$25)>0)>0))=5,TRUE,""))} | AB6: {=IF(COUNTIF($Y$3:$AJ5,TRUE)>0,"",IF(SUM(--((BC$21:BC$25="FREE")+(COUNTIF($J$3:$J6,BC$21:BC$25)>0)>0))=5,TRUE,""))} | AC6: {=IF(COUNTIF($Y$3:$AJ5,TRUE)>0,"",IF(SUM(--((BD$21:BD$25="FREE")+(COUNTIF($J$3:$J6,BD$21:BD$25)>0)>0))=5,TRUE,""))} | AD6: {=IF(COUNTIF($Y$3:$AJ5,TRUE)>0,"",IF(SUM(--(($AZ$21:$BD$21="FREE")+(COUNTIF($J$3:$J6,$AZ$21:$BD$21)>0)>0))=5,TRUE,""))} | AE6: {=IF(COUNTIF($Y$3:$AJ5,TRUE)>0,"",IF(SUM(--(($AZ$22:$BD$22="FREE")+(COUNTIF($J$3:$J6,$AZ$22:$BD$22)>0)>0))=5,TRUE,""))} | AF6: {=IF(COUNTIF($Y$3:$AJ5,TRUE)>0,"",IF(SUM(--(($AZ$23:$BD$23="FREE")+(COUNTIF($J$3:$J6,$AZ$23:$BD$23)>0)>0))=5,TRUE,""))} | AG6: {=IF(COUNTIF($Y$3:$AJ5,TRUE)>0,"",IF(SUM(--(($AZ$24:$BD$24="FREE")+(COUNTIF($J$3:$J6,$AZ$24:$BD$24)>0)>0))=5,TRUE,""))} | AH6: {=IF(COUNTIF($Y$3:$AJ5,TRUE)>0,"",IF(SUM(--(($AZ$25:$BD$25="FREE")+(COUNTIF($J$3:$J6,$AZ$25:$BD$25)>0)>0))=5,TRUE,""))} | AI6: {=IF(COUNTIF($Y$3:$AJ5,TRUE)>0,"",IF(SUM(--((CHOOSE({1,2,3,4,5},$AZ$21,$BA$22,$BB$23,$BC$24,$BD$25)="FREE")+(COUNTIF($J$3:$J6,CHOOSE({1,2,3,4,5},$AZ$21,$BA$22,$BB$23,$BC$24,$BD$25))>0)>0))=5,TRUE,""))} | AJ6: {=IF(COUNTIF($Y$3:$AJ5,TRUE)>0,"",IF(SUM(--((CHOOSE({1,2,3,4,5},$BD$21,$BC$22,$BB$23,$BA$24,$AZ$25)="FREE")+(COUNTIF($J$3:$J6,CHOOSE({1,2,3,4,5},$BD$21,$BC$22,$BB$23,$BA$24,$AZ$25))>0)>0))=5,TRUE,""))} | AK6: {=IF(COUNTIF($AK$3:$AV5,TRUE)>0,"",IF(SUM(--((AZ$35:AZ$39="FREE")+(COUNTIF($J$3:$J6,AZ$35:AZ$39)>0)>0))=5,TRUE,""))} | AL6: {=IF(COUNTIF($AK$3:$AV5,TRUE)>0,"",IF(SUM(--((BA$35:BA$39="FREE")+(COUNTIF($J$3:$J6,BA$35:BA$39)>0)>0))=5,TRUE,""))} | AM6: {=IF(COUNTIF($AK$3:$AV5,TRUE)>0,"",IF(SUM(--((BB$35:BB$39="FREE")+(COUNTIF($J$3:$J6,BB$35:BB$39)>0)>0))=5,TRUE,""))} | AN6: {=IF(COUNTIF($AK$3:$AV5,TRUE)>0,"",IF(SUM(--((BC$35:BC$39="FREE")+(COUNTIF($J$3:$J6,BC$35:BC$39)>0)>0))=5,TRUE,""))} | AO6: {=IF(COUNTIF($AK$3:$AV5,TRUE)>0,"",IF(SUM(--((BD$35:BD$39="FREE")+(COUNTIF($J$3:$J6,BD$35:BD$39)>0)>0))=5,TRUE,""))} | AP6: {=IF(COUNTIF($AK$3:$AV5,TRUE)>0,"",IF(SUM(--(($AZ$35:$BD$35="FREE")+(COUNTIF($J$3:$J6,$AZ$35:$BD$35)>0)>0))=5,TRUE,""))} | AQ6: {=IF(COUNTIF($AK$3:$AV5,TRUE)>0,"",IF(SUM(--(($AZ$36:$BD$36="FREE")+(COUNTIF($J$3:$J6,$AZ$36:$BD$36)>0)>0))=5,TRUE,""))} | AR6: {=IF(COUNTIF($AK$3:$AV5,TRUE)>0,"",IF(SUM(--(($AZ$37:$BD$37="FREE")+(COUNTIF($J$3:$J6,$AZ$37:$BD$37)>0)>0))=5,TRUE,""))} | AS6: {=IF(COUNTIF($AK$3:$AV5,TRUE)>0,"",IF(SUM(--(($AZ$38:$BD$38="FREE")+(COUNTIF($J$3:$J6,$AZ$38:$BD$38)>0)>0))=5,TRUE,""))} | AT6: {=IF(COUNTIF($AK$3:$AV5,TRUE)>0,"",IF(SUM(--(($AZ$39:$BD$39="FREE")+(COUNTIF($J$3:$J6,$AZ$39:$BD$39)>0)>0))=5,TRUE,""))} | AU6: {=IF(COUNTIF($AK$3:$AV5,TRUE)>0,"",IF(SUM(--((CHOOSE({1,2,3,4,5},$AZ$35,$BA$36,$BB$37,$BC$38,$BD$39)="FREE")+(COUNTIF($J$3:$J6,CHOOSE({1,2,3,4,5},$AZ$35,$BA$36,$BB$37,$BC$38,$BD$39))>0)>0))=5,TRUE,""))} | AV6: {=IF(COUNTIF($AK$3:$AV5,TRUE)>0,"",IF(SUM(--((CHOOSE({1,2,3,4,5},$BD$35,$BC$36,$BB$37,$BA$38,$AZ$39)="FREE")+(COUNTIF($J$3:$J6,CHOOSE({1,2,3,4,5},$BD$35,$BC$36,$BB$37,$BA$38,$AZ$39))>0)>0))=5,TRUE,""))} | AZ6: B | BA6: I | BB6: N | BC6: G | BD6: O | BG6: N | BH6: BLUE HAIR BINGO | BI6: =BB12 -> 0 | BJ6: =_xlfn.IFNA(IF(_xlfn.XLOOKUP($A$1&"-"&A6,#REF!,#REF!)="D","D",""),"") -> #REF! | BK6: =IF(BL6="DP","Duplicate Bonus",IF(BJ6="","",_xlfn.IFNA(_xlfn.XLOOKUP($A$1&"-"&A6,#REF!,#REF!),""))) -> Duplicate Bonus | BL6: =IF(AND(C6<>"",E6=""),"DP","") -> DP | BM6: =IF(OR(BJ6="D",BL6="DP"),"D","") -> #REF! | BN6: =IF(BM6="","","D"&COUNTIF($BM$3:BM6,"D")) -> #REF!
A7: 5 | B7: =ScoreHelper!C18 -> 0 | C7: =IF(B7="","",B7) -> 0 | D7: =A7 -> 5 | E7: =IF(C7="","",IF(COUNTIF($C$3:C7,C7)>1,"",C7)) | F7: 5 | G7: =_xlfn.IFNA(_xlfn.XLOOKUP(F7,$D$3:$D$50,$E$3:$E$50),"") | H7: =IF(G7="","",COUNTIF($G$3:G7,"?*")) | I7: 5 | J7: =_xlfn.IFNA(_xlfn.XLOOKUP(I7,$H$3:$H$54,$G$3:$G$54),"") | K7: =IF(J7="","",_xlfn.IFNA(_xlfn.XLOOKUP(J7,$E$3:$E$54,$D$3:$D$54),"")) | L7: =IF(J7="","",_xlfn.IFNA(_xlfn.XLOOKUP(J7,Bonuses!$A$3:$A$54,Bonuses!$H$3:$H$54),"")) | M7: {=IF(COUNTIF($M$3:$X6,TRUE)>0,"",IF(SUM(--((AZ$7:AZ$11="FREE")+(COUNTIF($J$3:$J7,AZ$7:AZ$11)>0)>0))=5,TRUE,""))} | N7: {=IF(COUNTIF($M$3:$X6,TRUE)>0,"",IF(SUM(--((BA$7:BA$11="FREE")+(COUNTIF($J$3:$J7,BA$7:BA$11)>0)>0))=5,TRUE,""))} | O7: {=IF(COUNTIF($M$3:$X6,TRUE)>0,"",IF(SUM(--((BB$7:BB$11="FREE")+(COUNTIF($J$3:$J7,BB$7:BB$11)>0)>0))=5,TRUE,""))} | P7: {=IF(COUNTIF($M$3:$X6,TRUE)>0,"",IF(SUM(--((BC$7:BC$11="FREE")+(COUNTIF($J$3:$J7,BC$7:BC$11)>0)>0))=5,TRUE,""))} | Q7: {=IF(COUNTIF($M$3:$X6,TRUE)>0,"",IF(SUM(--((BD$7:BD$11="FREE")+(COUNTIF($J$3:$J7,BD$7:BD$11)>0)>0))=5,TRUE,""))} | R7: {=IF(COUNTIF($M$3:$X6,TRUE)>0,"",IF(SUM(--(($AZ$7:$BD$7="FREE")+(COUNTIF($J$3:$J7,$AZ$7:$BD$7)>0)>0))=5,TRUE,""))} | S7: {=IF(COUNTIF($M$3:$X6,TRUE)>0,"",IF(SUM(--(($AZ$8:$BD$8="FREE")+(COUNTIF($J$3:$J7,$AZ$8:$BD$8)>0)>0))=5,TRUE,""))} | T7: {=IF(COUNTIF($M$3:$X6,TRUE)>0,"",IF(SUM(--(($AZ$9:$BD$9="FREE")+(COUNTIF($J$3:$J7,$AZ$9:$BD$9)>0)>0))=5,TRUE,""))} | U7: {=IF(COUNTIF($M$3:$X6,TRUE)>0,"",IF(SUM(--(($AZ$10:$BD$10="FREE")+(COUNTIF($J$3:$J7,$AZ$10:$BD$10)>0)>0))=5,TRUE,""))} | V7: {=IF(COUNTIF($M$3:$X6,TRUE)>0,"",IF(SUM(--(($AZ$11:$BD$11="FREE")+(COUNTIF($J$3:$J7,$AZ$11:$BD$11)>0)>0))=5,TRUE,""))} | W7: {=IF(COUNTIF($M$3:$X6,TRUE)>0,"",IF(SUM(--((CHOOSE({1,2,3,4,5},$AZ$7,$BA$8,$BB$9,$BC$10,$BD$11)="FREE")+(COUNTIF($J$3:$J7,CHOOSE({1,2,3,4,5},$AZ$7,$BA$8,$BB$9,$BC$10,$BD$11))>0)>0))=5,TRUE,""))} | X7: {=IF(COUNTIF($M$3:$X6,TRUE)>0,"",IF(SUM(--((CHOOSE({1,2,3,4,5},$BD$7,$BC$8,$BB$9,$BA$10,$AZ$11)="FREE")+(COUNTIF($J$3:$J7,CHOOSE({1,2,3,4,5},$BD$7,$BC$8,$BB$9,$BA$10,$AZ$11))>0)>0))=5,TRUE,""))} | Y7: {=IF(COUNTIF($Y$3:$AJ6,TRUE)>0,"",IF(SUM(--((AZ$21:AZ$25="FREE")+(COUNTIF($J$3:$J7,AZ$21:AZ$25)>0)>0))=5,TRUE,""))} | Z7: {=IF(COUNTIF($Y$3:$AJ6,TRUE)>0,"",IF(SUM(--((BA$21:BA$25="FREE")+(COUNTIF($J$3:$J7,BA$21:BA$25)>0)>0))=5,TRUE,""))} | AA7: {=IF(COUNTIF($Y$3:$AJ6,TRUE)>0,"",IF(SUM(--((BB$21:BB$25="FREE")+(COUNTIF($J$3:$J7,BB$21:BB$25)>0)>0))=5,TRUE,""))} | AB7: {=IF(COUNTIF($Y$3:$AJ6,TRUE)>0,"",IF(SUM(--((BC$21:BC$25="FREE")+(COUNTIF($J$3:$J7,BC$21:BC$25)>0)>0))=5,TRUE,""))} | AC7: {=IF(COUNTIF($Y$3:$AJ6,TRUE)>0,"",IF(SUM(--((BD$21:BD$25="FREE")+(COUNTIF($J$3:$J7,BD$21:BD$25)>0)>0))=5,TRUE,""))} | AD7: {=IF(COUNTIF($Y$3:$AJ6,TRUE)>0,"",IF(SUM(--(($AZ$21:$BD$21="FREE")+(COUNTIF($J$3:$J7,$AZ$21:$BD$21)>0)>0))=5,TRUE,""))} | AE7: {=IF(COUNTIF($Y$3:$AJ6,TRUE)>0,"",IF(SUM(--(($AZ$22:$BD$22="FREE")+(COUNTIF($J$3:$J7,$AZ$22:$BD$22)>0)>0))=5,TRUE,""))} | AF7: {=IF(COUNTIF($Y$3:$AJ6,TRUE)>0,"",IF(SUM(--(($AZ$23:$BD$23="FREE")+(COUNTIF($J$3:$J7,$AZ$23:$BD$23)>0)>0))=5,TRUE,""))} | AG7: {=IF(COUNTIF($Y$3:$AJ6,TRUE)>0,"",IF(SUM(--(($AZ$24:$BD$24="FREE")+(COUNTIF($J$3:$J7,$AZ$24:$BD$24)>0)>0))=5,TRUE,""))} | AH7: {=IF(COUNTIF($Y$3:$AJ6,TRUE)>0,"",IF(SUM(--(($AZ$25:$BD$25="FREE")+(COUNTIF($J$3:$J7,$AZ$25:$BD$25)>0)>0))=5,TRUE,""))} | AI7: {=IF(COUNTIF($Y$3:$AJ6,TRUE)>0,"",IF(SUM(--((CHOOSE({1,2,3,4,5},$AZ$21,$BA$22,$BB$23,$BC$24,$BD$25)="FREE")+(COUNTIF($J$3:$J7,CHOOSE({1,2,3,4,5},$AZ$21,$BA$22,$BB$23,$BC$24,$BD$25))>0)>0))=5,TRUE,""))} | AJ7: {=IF(COUNTIF($Y$3:$AJ6,TRUE)>0,"",IF(SUM(--((CHOOSE({1,2,3,4,5},$BD$21,$BC$22,$BB$23,$BA$24,$AZ$25)="FREE")+(COUNTIF($J$3:$J7,CHOOSE({1,2,3,4,5},$BD$21,$BC$22,$BB$23,$BA$24,$AZ$25))>0)>0))=5,TRUE,""))} | AK7: {=IF(COUNTIF($AK$3:$AV6,TRUE)>0,"",IF(SUM(--((AZ$35:AZ$39="FREE")+(COUNTIF($J$3:$J7,AZ$35:AZ$39)>0)>0))=5,TRUE,""))} | AL7: {=IF(COUNTIF($AK$3:$AV6,TRUE)>0,"",IF(SUM(--((BA$35:BA$39="FREE")+(COUNTIF($J$3:$J7,BA$35:BA$39)>0)>0))=5,TRUE,""))} | AM7: {=IF(COUNTIF($AK$3:$AV6,TRUE)>0,"",IF(SUM(--((BB$35:BB$39="FREE")+(COUNTIF($J$3:$J7,BB$35:BB$39)>0)>0))=5,TRUE,""))} | AN7: {=IF(COUNTIF($AK$3:$AV6,TRUE)>0,"",IF(SUM(--((BC$35:BC$39="FREE")+(COUNTIF($J$3:$J7,BC$35:BC$39)>0)>0))=5,TRUE,""))} | AO7: {=IF(COUNTIF($AK$3:$AV6,TRUE)>0,"",IF(SUM(--((BD$35:BD$39="FREE")+(COUNTIF($J$3:$J7,BD$35:BD$39)>0)>0))=5,TRUE,""))} | AP7: {=IF(COUNTIF($AK$3:$AV6,TRUE)>0,"",IF(SUM(--(($AZ$35:$BD$35="FREE")+(COUNTIF($J$3:$J7,$AZ$35:$BD$35)>0)>0))=5,TRUE,""))} | AQ7: {=IF(COUNTIF($AK$3:$AV6,TRUE)>0,"",IF(SUM(--(($AZ$36:$BD$36="FREE")+(COUNTIF($J$3:$J7,$AZ$36:$BD$36)>0)>0))=5,TRUE,""))} | AR7: {=IF(COUNTIF($AK$3:$AV6,TRUE)>0,"",IF(SUM(--(($AZ$37:$BD$37="FREE")+(COUNTIF($J$3:$J7,$AZ$37:$BD$37)>0)>0))=5,TRUE,""))} | AS7: {=IF(COUNTIF($AK$3:$AV6,TRUE)>0,"",IF(SUM(--(($AZ$38:$BD$38="FREE")+(COUNTIF($J$3:$J7,$AZ$38:$BD$38)>0)>0))=5,TRUE,""))} | AT7: {=IF(COUNTIF($AK$3:$AV6,TRUE)>0,"",IF(SUM(--(($AZ$39:$BD$39="FREE")+(COUNTIF($J$3:$J7,$AZ$39:$BD$39)>0)>0))=5,TRUE,""))} | AU7: {=IF(COUNTIF($AK$3:$AV6,TRUE)>0,"",IF(SUM(--((CHOOSE({1,2,3,4,5},$AZ$35,$BA$36,$BB$37,$BC$38,$BD$39)="FREE")+(COUNTIF($J$3:$J7,CHOOSE({1,2,3,4,5},$AZ$35,$BA$36,$BB$37,$BC$38,$BD$39))>0)>0))=5,TRUE,""))} | AV7: {=IF(COUNTIF($AK$3:$AV6,TRUE)>0,"",IF(SUM(--((CHOOSE({1,2,3,4,5},$BD$35,$BC$36,$BB$37,$BA$38,$AZ$39)="FREE")+(COUNTIF($J$3:$J7,CHOOSE({1,2,3,4,5},$BD$35,$BC$36,$BB$37,$BA$38,$AZ$39))>0)>0))=5,TRUE,""))} | AY7: Row 1 | AZ7: DB002 | BA7: DB012 | BB7: DB027 | BC7: DB026 | BD7: DB030 | BE7: {=IF(SUM(--((AZ7:BD7="FREE")+(COUNTIF($J$3:$J$52,AZ7:BD7)>0)>0))=5,$BC$4,0)} -> 0 | BF7: =R1 | BG7: G | BH7: BLUE HAIR BINGO | BI7: =BC12 -> 0 | BJ7: =_xlfn.IFNA(IF(_xlfn.XLOOKUP($A$1&"-"&A7,#REF!,#REF!)="D","D",""),"") -> #REF! | BK7: =IF(BL7="DP","Duplicate Bonus",IF(BJ7="","",_xlfn.IFNA(_xlfn.XLOOKUP($A$1&"-"&A7,#REF!,#REF!),""))) -> Duplicate Bonus | BL7: =IF(AND(C7<>"",E7=""),"DP","") -> DP | BM7: =IF(OR(BJ7="D",BL7="DP"),"D","") -> #REF! | BN7: =IF(BM7="","","D"&COUNTIF($BM$3:BM7,"D")) -> #REF!
A8: 6 | B8: =ScoreHelper!C19 -> 0 | C8: =IF(B8="","",B8) -> 0 | D8: =A8 -> 6 | E8: =IF(C8="","",IF(COUNTIF($C$3:C8,C8)>1,"",C8)) | F8: 6 | G8: =_xlfn.IFNA(_xlfn.XLOOKUP(F8,$D$3:$D$50,$E$3:$E$50),"") | H8: =IF(G8="","",COUNTIF($G$3:G8,"?*")) | I8: 6 | J8: =_xlfn.IFNA(_xlfn.XLOOKUP(I8,$H$3:$H$54,$G$3:$G$54),"") | K8: =IF(J8="","",_xlfn.IFNA(_xlfn.XLOOKUP(J8,$E$3:$E$54,$D$3:$D$54),"")) | L8: =IF(J8="","",_xlfn.IFNA(_xlfn.XLOOKUP(J8,Bonuses!$A$3:$A$54,Bonuses!$H$3:$H$54),"")) | M8: {=IF(COUNTIF($M$3:$X7,TRUE)>0,"",IF(SUM(--((AZ$7:AZ$11="FREE")+(COUNTIF($J$3:$J8,AZ$7:AZ$11)>0)>0))=5,TRUE,""))} | N8: {=IF(COUNTIF($M$3:$X7,TRUE)>0,"",IF(SUM(--((BA$7:BA$11="FREE")+(COUNTIF($J$3:$J8,BA$7:BA$11)>0)>0))=5,TRUE,""))} | O8: {=IF(COUNTIF($M$3:$X7,TRUE)>0,"",IF(SUM(--((BB$7:BB$11="FREE")+(COUNTIF($J$3:$J8,BB$7:BB$11)>0)>0))=5,TRUE,""))} | P8: {=IF(COUNTIF($M$3:$X7,TRUE)>0,"",IF(SUM(--((BC$7:BC$11="FREE")+(COUNTIF($J$3:$J8,BC$7:BC$11)>0)>0))=5,TRUE,""))} | Q8: {=IF(COUNTIF($M$3:$X7,TRUE)>0,"",IF(SUM(--((BD$7:BD$11="FREE")+(COUNTIF($J$3:$J8,BD$7:BD$11)>0)>0))=5,TRUE,""))} | R8: {=IF(COUNTIF($M$3:$X7,TRUE)>0,"",IF(SUM(--(($AZ$7:$BD$7="FREE")+(COUNTIF($J$3:$J8,$AZ$7:$BD$7)>0)>0))=5,TRUE,""))} | S8: {=IF(COUNTIF($M$3:$X7,TRUE)>0,"",IF(SUM(--(($AZ$8:$BD$8="FREE")+(COUNTIF($J$3:$J8,$AZ$8:$BD$8)>0)>0))=5,TRUE,""))} | T8: {=IF(COUNTIF($M$3:$X7,TRUE)>0,"",IF(SUM(--(($AZ$9:$BD$9="FREE")+(COUNTIF($J$3:$J8,$AZ$9:$BD$9)>0)>0))=5,TRUE,""))} | U8: {=IF(COUNTIF($M$3:$X7,TRUE)>0,"",IF(SUM(--(($AZ$10:$BD$10="FREE")+(COUNTIF($J$3:$J8,$AZ$10:$BD$10)>0)>0))=5,TRUE,""))} | V8: {=IF(COUNTIF($M$3:$X7,TRUE)>0,"",IF(SUM(--(($AZ$11:$BD$11="FREE")+(COUNTIF($J$3:$J8,$AZ$11:$BD$11)>0)>0))=5,TRUE,""))} | W8: {=IF(COUNTIF($M$3:$X7,TRUE)>0,"",IF(SUM(--((CHOOSE({1,2,3,4,5},$AZ$7,$BA$8,$BB$9,$BC$10,$BD$11)="FREE")+(COUNTIF($J$3:$J8,CHOOSE({1,2,3,4,5},$AZ$7,$BA$8,$BB$9,$BC$10,$BD$11))>0)>0))=5,TRUE,""))} | X8: {=IF(COUNTIF($M$3:$X7,TRUE)>0,"",IF(SUM(--((CHOOSE({1,2,3,4,5},$BD$7,$BC$8,$BB$9,$BA$10,$AZ$11)="FREE")+(COUNTIF($J$3:$J8,CHOOSE({1,2,3,4,5},$BD$7,$BC$8,$BB$9,$BA$10,$AZ$11))>0)>0))=5,TRUE,""))} | Y8: {=IF(COUNTIF($Y$3:$AJ7,TRUE)>0,"",IF(SUM(--((AZ$21:AZ$25="FREE")+(COUNTIF($J$3:$J8,AZ$21:AZ$25)>0)>0))=5,TRUE,""))} | Z8: {=IF(COUNTIF($Y$3:$AJ7,TRUE)>0,"",IF(SUM(--((BA$21:BA$25="FREE")+(COUNTIF($J$3:$J8,BA$21:BA$25)>0)>0))=5,TRUE,""))} | AA8: {=IF(COUNTIF($Y$3:$AJ7,TRUE)>0,"",IF(SUM(--((BB$21:BB$25="FREE")+(COUNTIF($J$3:$J8,BB$21:BB$25)>0)>0))=5,TRUE,""))} | AB8: {=IF(COUNTIF($Y$3:$AJ7,TRUE)>0,"",IF(SUM(--((BC$21:BC$25="FREE")+(COUNTIF($J$3:$J8,BC$21:BC$25)>0)>0))=5,TRUE,""))} | AC8: {=IF(COUNTIF($Y$3:$AJ7,TRUE)>0,"",IF(SUM(--((BD$21:BD$25="FREE")+(COUNTIF($J$3:$J8,BD$21:BD$25)>0)>0))=5,TRUE,""))} | AD8: {=IF(COUNTIF($Y$3:$AJ7,TRUE)>0,"",IF(SUM(--(($AZ$21:$BD$21="FREE")+(COUNTIF($J$3:$J8,$AZ$21:$BD$21)>0)>0))=5,TRUE,""))} | AE8: {=IF(COUNTIF($Y$3:$AJ7,TRUE)>0,"",IF(SUM(--(($AZ$22:$BD$22="FREE")+(COUNTIF($J$3:$J8,$AZ$22:$BD$22)>0)>0))=5,TRUE,""))} | AF8: {=IF(COUNTIF($Y$3:$AJ7,TRUE)>0,"",IF(SUM(--(($AZ$23:$BD$23="FREE")+(COUNTIF($J$3:$J8,$AZ$23:$BD$23)>0)>0))=5,TRUE,""))} | AG8: {=IF(COUNTIF($Y$3:$AJ7,TRUE)>0,"",IF(SUM(--(($AZ$24:$BD$24="FREE")+(COUNTIF($J$3:$J8,$AZ$24:$BD$24)>0)>0))=5,TRUE,""))} | AH8: {=IF(COUNTIF($Y$3:$AJ7,TRUE)>0,"",IF(SUM(--(($AZ$25:$BD$25="FREE")+(COUNTIF($J$3:$J8,$AZ$25:$BD$25)>0)>0))=5,TRUE,""))} | AI8: {=IF(COUNTIF($Y$3:$AJ7,TRUE)>0,"",IF(SUM(--((CHOOSE({1,2,3,4,5},$AZ$21,$BA$22,$BB$23,$BC$24,$BD$25)="FREE")+(COUNTIF($J$3:$J8,CHOOSE({1,2,3,4,5},$AZ$21,$BA$22,$BB$23,$BC$24,$BD$25))>0)>0))=5,TRUE,""))} | AJ8: {=IF(COUNTIF($Y$3:$AJ7,TRUE)>0,"",IF(SUM(--((CHOOSE({1,2,3,4,5},$BD$21,$BC$22,$BB$23,$BA$24,$AZ$25)="FREE")+(COUNTIF($J$3:$J8,CHOOSE({1,2,3,4,5},$BD$21,$BC$22,$BB$23,$BA$24,$AZ$25))>0)>0))=5,TRUE,""))} | AK8: {=IF(COUNTIF($AK$3:$AV7,TRUE)>0,"",IF(SUM(--((AZ$35:AZ$39="FREE")+(COUNTIF($J$3:$J8,AZ$35:AZ$39)>0)>0))=5,TRUE,""))} | AL8: {=IF(COUNTIF($AK$3:$AV7,TRUE)>0,"",IF(SUM(--((BA$35:BA$39="FREE")+(COUNTIF($J$3:$J8,BA$35:BA$39)>0)>0))=5,TRUE,""))} | AM8: {=IF(COUNTIF($AK$3:$AV7,TRUE)>0,"",IF(SUM(--((BB$35:BB$39="FREE")+(COUNTIF($J$3:$J8,BB$35:BB$39)>0)>0))=5,TRUE,""))} | AN8: {=IF(COUNTIF($AK$3:$AV7,TRUE)>0,"",IF(SUM(--((BC$35:BC$39="FREE")+(COUNTIF($J$3:$J8,BC$35:BC$39)>0)>0))=5,TRUE,""))} | AO8: {=IF(COUNTIF($AK$3:$AV7,TRUE)>0,"",IF(SUM(--((BD$35:BD$39="FREE")+(COUNTIF($J$3:$J8,BD$35:BD$39)>0)>0))=5,TRUE,""))} | AP8: {=IF(COUNTIF($AK$3:$AV7,TRUE)>0,"",IF(SUM(--(($AZ$35:$BD$35="FREE")+(COUNTIF($J$3:$J8,$AZ$35:$BD$35)>0)>0))=5,TRUE,""))} | AQ8: {=IF(COUNTIF($AK$3:$AV7,TRUE)>0,"",IF(SUM(--(($AZ$36:$BD$36="FREE")+(COUNTIF($J$3:$J8,$AZ$36:$BD$36)>0)>0))=5,TRUE,""))} | AR8: {=IF(COUNTIF($AK$3:$AV7,TRUE)>0,"",IF(SUM(--(($AZ$37:$BD$37="FREE")+(COUNTIF($J$3:$J8,$AZ$37:$BD$37)>0)>0))=5,TRUE,""))} | AS8: {=IF(COUNTIF($AK$3:$AV7,TRUE)>0,"",IF(SUM(--(($AZ$38:$BD$38="FREE")+(COUNTIF($J$3:$J8,$AZ$38:$BD$38)>0)>0))=5,TRUE,""))} | AT8: {=IF(COUNTIF($AK$3:$AV7,TRUE)>0,"",IF(SUM(--(($AZ$39:$BD$39="FREE")+(COUNTIF($J$3:$J8,$AZ$39:$BD$39)>0)>0))=5,TRUE,""))} | AU8: {=IF(COUNTIF($AK$3:$AV7,TRUE)>0,"",IF(SUM(--((CHOOSE({1,2,3,4,5},$AZ$35,$BA$36,$BB$37,$BC$38,$BD$39)="FREE")+(COUNTIF($J$3:$J8,CHOOSE({1,2,3,4,5},$AZ$35,$BA$36,$BB$37,$BC$38,$BD$39))>0)>0))=5,TRUE,""))} | AV8: {=IF(COUNTIF($AK$3:$AV7,TRUE)>0,"",IF(SUM(--((CHOOSE({1,2,3,4,5},$BD$35,$BC$36,$BB$37,$BA$38,$AZ$39)="FREE")+(COUNTIF($J$3:$J8,CHOOSE({1,2,3,4,5},$BD$35,$BC$36,$BB$37,$BA$38,$AZ$39))>0)>0))=5,TRUE,""))} | AY8: Row 2 | AZ8: DB042 | BA8: DB050 | BB8: DB051 | BC8: DB043 | BD8: DB046 | BE8: {=IF(SUM(--((AZ8:BD8="FREE")+(COUNTIF($J$3:$J$52,AZ8:BD8)>0)>0))=5,$BC$4,0)} -> 0 | BF8: =S1 | BG8: O | BH8: BLUE HAIR BINGO | BI8: =BD12 -> 0 | BJ8: =_xlfn.IFNA(IF(_xlfn.XLOOKUP($A$1&"-"&A8,#REF!,#REF!)="D","D",""),"") -> #REF! | BK8: =IF(BL8="DP","Duplicate Bonus",IF(BJ8="","",_xlfn.IFNA(_xlfn.XLOOKUP($A$1&"-"&A8,#REF!,#REF!),""))) -> Duplicate Bonus | BL8: =IF(AND(C8<>"",E8=""),"DP","") -> DP | BM8: =IF(OR(BJ8="D",BL8="DP"),"D","") -> #REF! | BN8: =IF(BM8="","","D"&COUNTIF($BM$3:BM8,"D")) -> #REF!
A9: 7 | B9: =ScoreHelper!C20 -> 0 | C9: =IF(B9="","",B9) -> 0 | D9: =A9 -> 7 | E9: =IF(C9="","",IF(COUNTIF($C$3:C9,C9)>1,"",C9)) | F9: 7 | G9: =_xlfn.IFNA(_xlfn.XLOOKUP(F9,$D$3:$D$50,$E$3:$E$50),"") | H9: =IF(G9="","",COUNTIF($G$3:G9,"?*")) | I9: 7 | J9: =_xlfn.IFNA(_xlfn.XLOOKUP(I9,$H$3:$H$54,$G$3:$G$54),"") | K9: =IF(J9="","",_xlfn.IFNA(_xlfn.XLOOKUP(J9,$E$3:$E$54,$D$3:$D$54),"")) | L9: =IF(J9="","",_xlfn.IFNA(_xlfn.XLOOKUP(J9,Bonuses!$A$3:$A$54,Bonuses!$H$3:$H$54),"")) | M9: {=IF(COUNTIF($M$3:$X8,TRUE)>0,"",IF(SUM(--((AZ$7:AZ$11="FREE")+(COUNTIF($J$3:$J9,AZ$7:AZ$11)>0)>0))=5,TRUE,""))} | N9: {=IF(COUNTIF($M$3:$X8,TRUE)>0,"",IF(SUM(--((BA$7:BA$11="FREE")+(COUNTIF($J$3:$J9,BA$7:BA$11)>0)>0))=5,TRUE,""))} | O9: {=IF(COUNTIF($M$3:$X8,TRUE)>0,"",IF(SUM(--((BB$7:BB$11="FREE")+(COUNTIF($J$3:$J9,BB$7:BB$11)>0)>0))=5,TRUE,""))} | P9: {=IF(COUNTIF($M$3:$X8,TRUE)>0,"",IF(SUM(--((BC$7:BC$11="FREE")+(COUNTIF($J$3:$J9,BC$7:BC$11)>0)>0))=5,TRUE,""))} | Q9: {=IF(COUNTIF($M$3:$X8,TRUE)>0,"",IF(SUM(--((BD$7:BD$11="FREE")+(COUNTIF($J$3:$J9,BD$7:BD$11)>0)>0))=5,TRUE,""))} | R9: {=IF(COUNTIF($M$3:$X8,TRUE)>0,"",IF(SUM(--(($AZ$7:$BD$7="FREE")+(COUNTIF($J$3:$J9,$AZ$7:$BD$7)>0)>0))=5,TRUE,""))} | S9: {=IF(COUNTIF($M$3:$X8,TRUE)>0,"",IF(SUM(--(($AZ$8:$BD$8="FREE")+(COUNTIF($J$3:$J9,$AZ$8:$BD$8)>0)>0))=5,TRUE,""))} | T9: {=IF(COUNTIF($M$3:$X8,TRUE)>0,"",IF(SUM(--(($AZ$9:$BD$9="FREE")+(COUNTIF($J$3:$J9,$AZ$9:$BD$9)>0)>0))=5,TRUE,""))} | U9: {=IF(COUNTIF($M$3:$X8,TRUE)>0,"",IF(SUM(--(($AZ$10:$BD$10="FREE")+(COUNTIF($J$3:$J9,$AZ$10:$BD$10)>0)>0))=5,TRUE,""))} | V9: {=IF(COUNTIF($M$3:$X8,TRUE)>0,"",IF(SUM(--(($AZ$11:$BD$11="FREE")+(COUNTIF($J$3:$J9,$AZ$11:$BD$11)>0)>0))=5,TRUE,""))} | W9: {=IF(COUNTIF($M$3:$X8,TRUE)>0,"",IF(SUM(--((CHOOSE({1,2,3,4,5},$AZ$7,$BA$8,$BB$9,$BC$10,$BD$11)="FREE")+(COUNTIF($J$3:$J9,CHOOSE({1,2,3,4,5},$AZ$7,$BA$8,$BB$9,$BC$10,$BD$11))>0)>0))=5,TRUE,""))} | X9: {=IF(COUNTIF($M$3:$X8,TRUE)>0,"",IF(SUM(--((CHOOSE({1,2,3,4,5},$BD$7,$BC$8,$BB$9,$BA$10,$AZ$11)="FREE")+(COUNTIF($J$3:$J9,CHOOSE({1,2,3,4,5},$BD$7,$BC$8,$BB$9,$BA$10,$AZ$11))>0)>0))=5,TRUE,""))} | Y9: {=IF(COUNTIF($Y$3:$AJ8,TRUE)>0,"",IF(SUM(--((AZ$21:AZ$25="FREE")+(COUNTIF($J$3:$J9,AZ$21:AZ$25)>0)>0))=5,TRUE,""))} | Z9: {=IF(COUNTIF($Y$3:$AJ8,TRUE)>0,"",IF(SUM(--((BA$21:BA$25="FREE")+(COUNTIF($J$3:$J9,BA$21:BA$25)>0)>0))=5,TRUE,""))} | AA9: {=IF(COUNTIF($Y$3:$AJ8,TRUE)>0,"",IF(SUM(--((BB$21:BB$25="FREE")+(COUNTIF($J$3:$J9,BB$21:BB$25)>0)>0))=5,TRUE,""))} | AB9: {=IF(COUNTIF($Y$3:$AJ8,TRUE)>0,"",IF(SUM(--((BC$21:BC$25="FREE")+(COUNTIF($J$3:$J9,BC$21:BC$25)>0)>0))=5,TRUE,""))} | AC9: {=IF(COUNTIF($Y$3:$AJ8,TRUE)>0,"",IF(SUM(--((BD$21:BD$25="FREE")+(COUNTIF($J$3:$J9,BD$21:BD$25)>0)>0))=5,TRUE,""))} | AD9: {=IF(COUNTIF($Y$3:$AJ8,TRUE)>0,"",IF(SUM(--(($AZ$21:$BD$21="FREE")+(COUNTIF($J$3:$J9,$AZ$21:$BD$21)>0)>0))=5,TRUE,""))} | AE9: {=IF(COUNTIF($Y$3:$AJ8,TRUE)>0,"",IF(SUM(--(($AZ$22:$BD$22="FREE")+(COUNTIF($J$3:$J9,$AZ$22:$BD$22)>0)>0))=5,TRUE,""))} | AF9: {=IF(COUNTIF($Y$3:$AJ8,TRUE)>0,"",IF(SUM(--(($AZ$23:$BD$23="FREE")+(COUNTIF($J$3:$J9,$AZ$23:$BD$23)>0)>0))=5,TRUE,""))} | AG9: {=IF(COUNTIF($Y$3:$AJ8,TRUE)>0,"",IF(SUM(--(($AZ$24:$BD$24="FREE")+(COUNTIF($J$3:$J9,$AZ$24:$BD$24)>0)>0))=5,TRUE,""))} | AH9: {=IF(COUNTIF($Y$3:$AJ8,TRUE)>0,"",IF(SUM(--(($AZ$25:$BD$25="FREE")+(COUNTIF($J$3:$J9,$AZ$25:$BD$25)>0)>0))=5,TRUE,""))} | AI9: {=IF(COUNTIF($Y$3:$AJ8,TRUE)>0,"",IF(SUM(--((CHOOSE({1,2,3,4,5},$AZ$21,$BA$22,$BB$23,$BC$24,$BD$25)="FREE")+(COUNTIF($J$3:$J9,CHOOSE({1,2,3,4,5},$AZ$21,$BA$22,$BB$23,$BC$24,$BD$25))>0)>0))=5,TRUE,""))} | AJ9: {=IF(COUNTIF($Y$3:$AJ8,TRUE)>0,"",IF(SUM(--((CHOOSE({1,2,3,4,5},$BD$21,$BC$22,$BB$23,$BA$24,$AZ$25)="FREE")+(COUNTIF($J$3:$J9,CHOOSE({1,2,3,4,5},$BD$21,$BC$22,$BB$23,$BA$24,$AZ$25))>0)>0))=5,TRUE,""))} | AK9: {=IF(COUNTIF($AK$3:$AV8,TRUE)>0,"",IF(SUM(--((AZ$35:AZ$39="FREE")+(COUNTIF($J$3:$J9,AZ$35:AZ$39)>0)>0))=5,TRUE,""))} | AL9: {=IF(COUNTIF($AK$3:$AV8,TRUE)>0,"",IF(SUM(--((BA$35:BA$39="FREE")+(COUNTIF($J$3:$J9,BA$35:BA$39)>0)>0))=5,TRUE,""))} | AM9: {=IF(COUNTIF($AK$3:$AV8,TRUE)>0,"",IF(SUM(--((BB$35:BB$39="FREE")+(COUNTIF($J$3:$J9,BB$35:BB$39)>0)>0))=5,TRUE,""))} | AN9: {=IF(COUNTIF($AK$3:$AV8,TRUE)>0,"",IF(SUM(--((BC$35:BC$39="FREE")+(COUNTIF($J$3:$J9,BC$35:BC$39)>0)>0))=5,TRUE,""))} | AO9: {=IF(COUNTIF($AK$3:$AV8,TRUE)>0,"",IF(SUM(--((BD$35:BD$39="FREE")+(COUNTIF($J$3:$J9,BD$35:BD$39)>0)>0))=5,TRUE,""))} | AP9: {=IF(COUNTIF($AK$3:$AV8,TRUE)>0,"",IF(SUM(--(($AZ$35:$BD$35="FREE")+(COUNTIF($J$3:$J9,$AZ$35:$BD$35)>0)>0))=5,TRUE,""))} | AQ9: {=IF(COUNTIF($AK$3:$AV8,TRUE)>0,"",IF(SUM(--(($AZ$36:$BD$36="FREE")+(COUNTIF($J$3:$J9,$AZ$36:$BD$36)>0)>0))=5,TRUE,""))} | AR9: {=IF(COUNTIF($AK$3:$AV8,TRUE)>0,"",IF(SUM(--(($AZ$37:$BD$37="FREE")+(COUNTIF($J$3:$J9,$AZ$37:$BD$37)>0)>0))=5,TRUE,""))} | AS9: {=IF(COUNTIF($AK$3:$AV8,TRUE)>0,"",IF(SUM(--(($AZ$38:$BD$38="FREE")+(COUNTIF($J$3:$J9,$AZ$38:$BD$38)>0)>0))=5,TRUE,""))} | AT9: {=IF(COUNTIF($AK$3:$AV8,TRUE)>0,"",IF(SUM(--(($AZ$39:$BD$39="FREE")+(COUNTIF($J$3:$J9,$AZ$39:$BD$39)>0)>0))=5,TRUE,""))} | AU9: {=IF(COUNTIF($AK$3:$AV8,TRUE)>0,"",IF(SUM(--((CHOOSE({1,2,3,4,5},$AZ$35,$BA$36,$BB$37,$BC$38,$BD$39)="FREE")+(COUNTIF($J$3:$J9,CHOOSE({1,2,3,4,5},$AZ$35,$BA$36,$BB$37,$BC$38,$BD$39))>0)>0))=5,TRUE,""))} | AV9: {=IF(COUNTIF($AK$3:$AV8,TRUE)>0,"",IF(SUM(--((CHOOSE({1,2,3,4,5},$BD$35,$BC$36,$BB$37,$BA$38,$AZ$39)="FREE")+(COUNTIF($J$3:$J9,CHOOSE({1,2,3,4,5},$BD$35,$BC$36,$BB$37,$BA$38,$AZ$39))>0)>0))=5,TRUE,""))} | AY9: Row 3 | AZ9: DB028 | BA9: DB015 | BB9: FREE | BC9: DB031 | BD9: DB032 | BE9: {=IF(SUM(--((AZ9:BD9="FREE")+(COUNTIF($J$3:$J$52,AZ9:BD9)>0)>0))=5,$BC$4,0)} -> 0 | BF9: =T1 | BG9: Row 1 | BH9: BLUE HAIR BINGO | BI9: =BE7 -> 0 | BJ9: =_xlfn.IFNA(IF(_xlfn.XLOOKUP($A$1&"-"&A9,#REF!,#REF!)="D","D",""),"") -> #REF! | BK9: =IF(BL9="DP","Duplicate Bonus",IF(BJ9="","",_xlfn.IFNA(_xlfn.XLOOKUP($A$1&"-"&A9,#REF!,#REF!),""))) -> Duplicate Bonus | BL9: =IF(AND(C9<>"",E9=""),"DP","") -> DP | BM9: =IF(OR(BJ9="D",BL9="DP"),"D","") -> #REF! | BN9: =IF(BM9="","","D"&COUNTIF($BM$3:BM9,"D")) -> #REF!
A10: 8 | B10: =ScoreHelper!C21 -> 0 | C10: =IF(B10="","",B10) -> 0 | D10: =A10 -> 8 | E10: =IF(C10="","",IF(COUNTIF($C$3:C10,C10)>1,"",C10)) | F10: 8 | G10: =_xlfn.IFNA(_xlfn.XLOOKUP(F10,$D$3:$D$50,$E$3:$E$50),"") | H10: =IF(G10="","",COUNTIF($G$3:G10,"?*")) | I10: 8 | J10: =_xlfn.IFNA(_xlfn.XLOOKUP(I10,$H$3:$H$54,$G$3:$G$54),"") | K10: =IF(J10="","",_xlfn.IFNA(_xlfn.XLOOKUP(J10,$E$3:$E$54,$D$3:$D$54),"")) | L10: =IF(J10="","",_xlfn.IFNA(_xlfn.XLOOKUP(J10,Bonuses!$A$3:$A$54,Bonuses!$H$3:$H$54),"")) | M10: {=IF(COUNTIF($M$3:$X9,TRUE)>0,"",IF(SUM(--((AZ$7:AZ$11="FREE")+(COUNTIF($J$3:$J10,AZ$7:AZ$11)>0)>0))=5,TRUE,""))} | N10: {=IF(COUNTIF($M$3:$X9,TRUE)>0,"",IF(SUM(--((BA$7:BA$11="FREE")+(COUNTIF($J$3:$J10,BA$7:BA$11)>0)>0))=5,TRUE,""))} | O10: {=IF(COUNTIF($M$3:$X9,TRUE)>0,"",IF(SUM(--((BB$7:BB$11="FREE")+(COUNTIF($J$3:$J10,BB$7:BB$11)>0)>0))=5,TRUE,""))} | P10: {=IF(COUNTIF($M$3:$X9,TRUE)>0,"",IF(SUM(--((BC$7:BC$11="FREE")+(COUNTIF($J$3:$J10,BC$7:BC$11)>0)>0))=5,TRUE,""))} | Q10: {=IF(COUNTIF($M$3:$X9,TRUE)>0,"",IF(SUM(--((BD$7:BD$11="FREE")+(COUNTIF($J$3:$J10,BD$7:BD$11)>0)>0))=5,TRUE,""))} | R10: {=IF(COUNTIF($M$3:$X9,TRUE)>0,"",IF(SUM(--(($AZ$7:$BD$7="FREE")+(COUNTIF($J$3:$J10,$AZ$7:$BD$7)>0)>0))=5,TRUE,""))} | S10: {=IF(COUNTIF($M$3:$X9,TRUE)>0,"",IF(SUM(--(($AZ$8:$BD$8="FREE")+(COUNTIF($J$3:$J10,$AZ$8:$BD$8)>0)>0))=5,TRUE,""))} | T10: {=IF(COUNTIF($M$3:$X9,TRUE)>0,"",IF(SUM(--(($AZ$9:$BD$9="FREE")+(COUNTIF($J$3:$J10,$AZ$9:$BD$9)>0)>0))=5,TRUE,""))} | U10: {=IF(COUNTIF($M$3:$X9,TRUE)>0,"",IF(SUM(--(($AZ$10:$BD$10="FREE")+(COUNTIF($J$3:$J10,$AZ$10:$BD$10)>0)>0))=5,TRUE,""))} | V10: {=IF(COUNTIF($M$3:$X9,TRUE)>0,"",IF(SUM(--(($AZ$11:$BD$11="FREE")+(COUNTIF($J$3:$J10,$AZ$11:$BD$11)>0)>0))=5,TRUE,""))} | W10: {=IF(COUNTIF($M$3:$X9,TRUE)>0,"",IF(SUM(--((CHOOSE({1,2,3,4,5},$AZ$7,$BA$8,$BB$9,$BC$10,$BD$11)="FREE")+(COUNTIF($J$3:$J10,CHOOSE({1,2,3,4,5},$AZ$7,$BA$8,$BB$9,$BC$10,$BD$11))>0)>0))=5,TRUE,""))} | X10: {=IF(COUNTIF($M$3:$X9,TRUE)>0,"",IF(SUM(--((CHOOSE({1,2,3,4,5},$BD$7,$BC$8,$BB$9,$BA$10,$AZ$11)="FREE")+(COUNTIF($J$3:$J10,CHOOSE({1,2,3,4,5},$BD$7,$BC$8,$BB$9,$BA$10,$AZ$11))>0)>0))=5,TRUE,""))} | Y10: {=IF(COUNTIF($Y$3:$AJ9,TRUE)>0,"",IF(SUM(--((AZ$21:AZ$25="FREE")+(COUNTIF($J$3:$J10,AZ$21:AZ$25)>0)>0))=5,TRUE,""))} | Z10: {=IF(COUNTIF($Y$3:$AJ9,TRUE)>0,"",IF(SUM(--((BA$21:BA$25="FREE")+(COUNTIF($J$3:$J10,BA$21:BA$25)>0)>0))=5,TRUE,""))} | AA10: {=IF(COUNTIF($Y$3:$AJ9,TRUE)>0,"",IF(SUM(--((BB$21:BB$25="FREE")+(COUNTIF($J$3:$J10,BB$21:BB$25)>0)>0))=5,TRUE,""))} | AB10: {=IF(COUNTIF($Y$3:$AJ9,TRUE)>0,"",IF(SUM(--((BC$21:BC$25="FREE")+(COUNTIF($J$3:$J10,BC$21:BC$25)>0)>0))=5,TRUE,""))} | AC10: {=IF(COUNTIF($Y$3:$AJ9,TRUE)>0,"",IF(SUM(--((BD$21:BD$25="FREE")+(COUNTIF($J$3:$J10,BD$21:BD$25)>0)>0))=5,TRUE,""))} | AD10: {=IF(COUNTIF($Y$3:$AJ9,TRUE)>0,"",IF(SUM(--(($AZ$21:$BD$21="FREE")+(COUNTIF($J$3:$J10,$AZ$21:$BD$21)>0)>0))=5,TRUE,""))} | AE10: {=IF(COUNTIF($Y$3:$AJ9,TRUE)>0,"",IF(SUM(--(($AZ$22:$BD$22="FREE")+(COUNTIF($J$3:$J10,$AZ$22:$BD$22)>0)>0))=5,TRUE,""))} | AF10: {=IF(COUNTIF($Y$3:$AJ9,TRUE)>0,"",IF(SUM(--(($AZ$23:$BD$23="FREE")+(COUNTIF($J$3:$J10,$AZ$23:$BD$23)>0)>0))=5,TRUE,""))} | AG10: {=IF(COUNTIF($Y$3:$AJ9,TRUE)>0,"",IF(SUM(--(($AZ$24:$BD$24="FREE")+(COUNTIF($J$3:$J10,$AZ$24:$BD$24)>0)>0))=5,TRUE,""))} | AH10: {=IF(COUNTIF($Y$3:$AJ9,TRUE)>0,"",IF(SUM(--(($AZ$25:$BD$25="FREE")+(COUNTIF($J$3:$J10,$AZ$25:$BD$25)>0)>0))=5,TRUE,""))} | AI10: {=IF(COUNTIF($Y$3:$AJ9,TRUE)>0,"",IF(SUM(--((CHOOSE({1,2,3,4,5},$AZ$21,$BA$22,$BB$23,$BC$24,$BD$25)="FREE")+(COUNTIF($J$3:$J10,CHOOSE({1,2,3,4,5},$AZ$21,$BA$22,$BB$23,$BC$24,$BD$25))>0)>0))=5,TRUE,""))} | AJ10: {=IF(COUNTIF($Y$3:$AJ9,TRUE)>0,"",IF(SUM(--((CHOOSE({1,2,3,4,5},$BD$21,$BC$22,$BB$23,$BA$24,$AZ$25)="FREE")+(COUNTIF($J$3:$J10,CHOOSE({1,2,3,4,5},$BD$21,$BC$22,$BB$23,$BA$24,$AZ$25))>0)>0))=5,TRUE,""))} | AK10: {=IF(COUNTIF($AK$3:$AV9,TRUE)>0,"",IF(SUM(--((AZ$35:AZ$39="FREE")+(COUNTIF($J$3:$J10,AZ$35:AZ$39)>0)>0))=5,TRUE,""))} | AL10: {=IF(COUNTIF($AK$3:$AV9,TRUE)>0,"",IF(SUM(--((BA$35:BA$39="FREE")+(COUNTIF($J$3:$J10,BA$35:BA$39)>0)>0))=5,TRUE,""))} | AM10: {=IF(COUNTIF($AK$3:$AV9,TRUE)>0,"",IF(SUM(--((BB$35:BB$39="FREE")+(COUNTIF($J$3:$J10,BB$35:BB$39)>0)>0))=5,TRUE,""))} | AN10: {=IF(COUNTIF($AK$3:$AV9,TRUE)>0,"",IF(SUM(--((BC$35:BC$39="FREE")+(COUNTIF($J$3:$J10,BC$35:BC$39)>0)>0))=5,TRUE,""))} | AO10: {=IF(COUNTIF($AK$3:$AV9,TRUE)>0,"",IF(SUM(--((BD$35:BD$39="FREE")+(COUNTIF($J$3:$J10,BD$35:BD$39)>0)>0))=5,TRUE,""))} | AP10: {=IF(COUNTIF($AK$3:$AV9,TRUE)>0,"",IF(SUM(--(($AZ$35:$BD$35="FREE")+(COUNTIF($J$3:$J10,$AZ$35:$BD$35)>0)>0))=5,TRUE,""))} | AQ10: {=IF(COUNTIF($AK$3:$AV9,TRUE)>0,"",IF(SUM(--(($AZ$36:$BD$36="FREE")+(COUNTIF($J$3:$J10,$AZ$36:$BD$36)>0)>0))=5,TRUE,""))} | AR10: {=IF(COUNTIF($AK$3:$AV9,TRUE)>0,"",IF(SUM(--(($AZ$37:$BD$37="FREE")+(COUNTIF($J$3:$J10,$AZ$37:$BD$37)>0)>0))=5,TRUE,""))} | AS10: {=IF(COUNTIF($AK$3:$AV9,TRUE)>0,"",IF(SUM(--(($AZ$38:$BD$38="FREE")+(COUNTIF($J$3:$J10,$AZ$38:$BD$38)>0)>0))=5,TRUE,""))} | AT10: {=IF(COUNTIF($AK$3:$AV9,TRUE)>0,"",IF(SUM(--(($AZ$39:$BD$39="FREE")+(COUNTIF($J$3:$J10,$AZ$39:$BD$39)>0)>0))=5,TRUE,""))} | AU10: {=IF(COUNTIF($AK$3:$AV9,TRUE)>0,"",IF(SUM(--((CHOOSE({1,2,3,4,5},$AZ$35,$BA$36,$BB$37,$BC$38,$BD$39)="FREE")+(COUNTIF($J$3:$J10,CHOOSE({1,2,3,4,5},$AZ$35,$BA$36,$BB$37,$BC$38,$BD$39))>0)>0))=5,TRUE,""))} | AV10: {=IF(COUNTIF($AK$3:$AV9,TRUE)>0,"",IF(SUM(--((CHOOSE({1,2,3,4,5},$BD$35,$BC$36,$BB$37,$BA$38,$AZ$39)="FREE")+(COUNTIF($J$3:$J10,CHOOSE({1,2,3,4,5},$BD$35,$BC$36,$BB$37,$BA$38,$AZ$39))>0)>0))=5,TRUE,""))} | AY10: Row 4 | AZ10: DB001 | BA10: DB004 | BB10: DB029 | BC10: DB005 | BD10: DB006 | BE10: {=IF(SUM(--((AZ10:BD10="FREE")+(COUNTIF($J$3:$J$52,AZ10:BD10)>0)>0))=5,$BC$4,0)} -> 0 | BF10: =U1 | BG10: Row 2 | BH10: BLUE HAIR BINGO | BI10: =BE8 -> 0 | BJ10: =_xlfn.IFNA(IF(_xlfn.XLOOKUP($A$1&"-"&A10,#REF!,#REF!)="D","D",""),"") -> #REF! | BK10: =IF(BL10="DP","Duplicate Bonus",IF(BJ10="","",_xlfn.IFNA(_xlfn.XLOOKUP($A$1&"-"&A10,#REF!,#REF!),""))) -> Duplicate Bonus | BL10: =IF(AND(C10<>"",E10=""),"DP","") -> DP | BM10: =IF(OR(BJ10="D",BL10="DP"),"D","") -> #REF! | BN10: =IF(BM10="","","D"&COUNTIF($BM$3:BM10,"D")) -> #REF!
A11: 9 | B11: =ScoreHelper!C22 -> 0 | C11: =IF(B11="","",B11) -> 0 | D11: =A11 -> 9 | E11: =IF(C11="","",IF(COUNTIF($C$3:C11,C11)>1,"",C11)) | F11: 9 | G11: =_xlfn.IFNA(_xlfn.XLOOKUP(F11,$D$3:$D$50,$E$3:$E$50),"") | H11: =IF(G11="","",COUNTIF($G$3:G11,"?*")) | I11: 9 | J11: =_xlfn.IFNA(_xlfn.XLOOKUP(I11,$H$3:$H$54,$G$3:$G$54),"") | K11: =IF(J11="","",_xlfn.IFNA(_xlfn.XLOOKUP(J11,$E$3:$E$54,$D$3:$D$54),"")) | L11: =IF(J11="","",_xlfn.IFNA(_xlfn.XLOOKUP(J11,Bonuses!$A$3:$A$54,Bonuses!$H$3:$H$54),"")) | M11: {=IF(COUNTIF($M$3:$X10,TRUE)>0,"",IF(SUM(--((AZ$7:AZ$11="FREE")+(COUNTIF($J$3:$J11,AZ$7:AZ$11)>0)>0))=5,TRUE,""))} | N11: {=IF(COUNTIF($M$3:$X10,TRUE)>0,"",IF(SUM(--((BA$7:BA$11="FREE")+(COUNTIF($J$3:$J11,BA$7:BA$11)>0)>0))=5,TRUE,""))} | O11: {=IF(COUNTIF($M$3:$X10,TRUE)>0,"",IF(SUM(--((BB$7:BB$11="FREE")+(COUNTIF($J$3:$J11,BB$7:BB$11)>0)>0))=5,TRUE,""))} | P11: {=IF(COUNTIF($M$3:$X10,TRUE)>0,"",IF(SUM(--((BC$7:BC$11="FREE")+(COUNTIF($J$3:$J11,BC$7:BC$11)>0)>0))=5,TRUE,""))} | Q11: {=IF(COUNTIF($M$3:$X10,TRUE)>0,"",IF(SUM(--((BD$7:BD$11="FREE")+(COUNTIF($J$3:$J11,BD$7:BD$11)>0)>0))=5,TRUE,""))} | R11: {=IF(COUNTIF($M$3:$X10,TRUE)>0,"",IF(SUM(--(($AZ$7:$BD$7="FREE")+(COUNTIF($J$3:$J11,$AZ$7:$BD$7)>0)>0))=5,TRUE,""))} | S11: {=IF(COUNTIF($M$3:$X10,TRUE)>0,"",IF(SUM(--(($AZ$8:$BD$8="FREE")+(COUNTIF($J$3:$J11,$AZ$8:$BD$8)>0)>0))=5,TRUE,""))} | T11: {=IF(COUNTIF($M$3:$X10,TRUE)>0,"",IF(SUM(--(($AZ$9:$BD$9="FREE")+(COUNTIF($J$3:$J11,$AZ$9:$BD$9)>0)>0))=5,TRUE,""))} | U11: {=IF(COUNTIF($M$3:$X10,TRUE)>0,"",IF(SUM(--(($AZ$10:$BD$10="FREE")+(COUNTIF($J$3:$J11,$AZ$10:$BD$10)>0)>0))=5,TRUE,""))} | V11: {=IF(COUNTIF($M$3:$X10,TRUE)>0,"",IF(SUM(--(($AZ$11:$BD$11="FREE")+(COUNTIF($J$3:$J11,$AZ$11:$BD$11)>0)>0))=5,TRUE,""))} | W11: {=IF(COUNTIF($M$3:$X10,TRUE)>0,"",IF(SUM(--((CHOOSE({1,2,3,4,5},$AZ$7,$BA$8,$BB$9,$BC$10,$BD$11)="FREE")+(COUNTIF($J$3:$J11,CHOOSE({1,2,3,4,5},$AZ$7,$BA$8,$BB$9,$BC$10,$BD$11))>0)>0))=5,TRUE,""))} | X11: {=IF(COUNTIF($M$3:$X10,TRUE)>0,"",IF(SUM(--((CHOOSE({1,2,3,4,5},$BD$7,$BC$8,$BB$9,$BA$10,$AZ$11)="FREE")+(COUNTIF($J$3:$J11,CHOOSE({1,2,3,4,5},$BD$7,$BC$8,$BB$9,$BA$10,$AZ$11))>0)>0))=5,TRUE,""))} | Y11: {=IF(COUNTIF($Y$3:$AJ10,TRUE)>0,"",IF(SUM(--((AZ$21:AZ$25="FREE")+(COUNTIF($J$3:$J11,AZ$21:AZ$25)>0)>0))=5,TRUE,""))} | Z11: {=IF(COUNTIF($Y$3:$AJ10,TRUE)>0,"",IF(SUM(--((BA$21:BA$25="FREE")+(COUNTIF($J$3:$J11,BA$21:BA$25)>0)>0))=5,TRUE,""))} | AA11: {=IF(COUNTIF($Y$3:$AJ10,TRUE)>0,"",IF(SUM(--((BB$21:BB$25="FREE")+(COUNTIF($J$3:$J11,BB$21:BB$25)>0)>0))=5,TRUE,""))} | AB11: {=IF(COUNTIF($Y$3:$AJ10,TRUE)>0,"",IF(SUM(--((BC$21:BC$25="FREE")+(COUNTIF($J$3:$J11,BC$21:BC$25)>0)>0))=5,TRUE,""))} | AC11: {=IF(COUNTIF($Y$3:$AJ10,TRUE)>0,"",IF(SUM(--((BD$21:BD$25="FREE")+(COUNTIF($J$3:$J11,BD$21:BD$25)>0)>0))=5,TRUE,""))} | AD11: {=IF(COUNTIF($Y$3:$AJ10,TRUE)>0,"",IF(SUM(--(($AZ$21:$BD$21="FREE")+(COUNTIF($J$3:$J11,$AZ$21:$BD$21)>0)>0))=5,TRUE,""))} | AE11: {=IF(COUNTIF($Y$3:$AJ10,TRUE)>0,"",IF(SUM(--(($AZ$22:$BD$22="FREE")+(COUNTIF($J$3:$J11,$AZ$22:$BD$22)>0)>0))=5,TRUE,""))} | AF11: {=IF(COUNTIF($Y$3:$AJ10,TRUE)>0,"",IF(SUM(--(($AZ$23:$BD$23="FREE")+(COUNTIF($J$3:$J11,$AZ$23:$BD$23)>0)>0))=5,TRUE,""))} | AG11: {=IF(COUNTIF($Y$3:$AJ10,TRUE)>0,"",IF(SUM(--(($AZ$24:$BD$24="FREE")+(COUNTIF($J$3:$J11,$AZ$24:$BD$24)>0)>0))=5,TRUE,""))} | AH11: {=IF(COUNTIF($Y$3:$AJ10,TRUE)>0,"",IF(SUM(--(($AZ$25:$BD$25="FREE")+(COUNTIF($J$3:$J11,$AZ$25:$BD$25)>0)>0))=5,TRUE,""))} | AI11: {=IF(COUNTIF($Y$3:$AJ10,TRUE)>0,"",IF(SUM(--((CHOOSE({1,2,3,4,5},$AZ$21,$BA$22,$BB$23,$BC$24,$BD$25)="FREE")+(COUNTIF($J$3:$J11,CHOOSE({1,2,3,4,5},$AZ$21,$BA$22,$BB$23,$BC$24,$BD$25))>0)>0))=5,TRUE,""))} | AJ11: {=IF(COUNTIF($Y$3:$AJ10,TRUE)>0,"",IF(SUM(--((CHOOSE({1,2,3,4,5},$BD$21,$BC$22,$BB$23,$BA$24,$AZ$25)="FREE")+(COUNTIF($J$3:$J11,CHOOSE({1,2,3,4,5},$BD$21,$BC$22,$BB$23,$BA$24,$AZ$25))>0)>0))=5,TRUE,""))} | AK11: {=IF(COUNTIF($AK$3:$AV10,TRUE)>0,"",IF(SUM(--((AZ$35:AZ$39="FREE")+(COUNTIF($J$3:$J11,AZ$35:AZ$39)>0)>0))=5,TRUE,""))} | AL11: {=IF(COUNTIF($AK$3:$AV10,TRUE)>0,"",IF(SUM(--((BA$35:BA$39="FREE")+(COUNTIF($J$3:$J11,BA$35:BA$39)>0)>0))=5,TRUE,""))} | AM11: {=IF(COUNTIF($AK$3:$AV10,TRUE)>0,"",IF(SUM(--((BB$35:BB$39="FREE")+(COUNTIF($J$3:$J11,BB$35:BB$39)>0)>0))=5,TRUE,""))} | AN11: {=IF(COUNTIF($AK$3:$AV10,TRUE)>0,"",IF(SUM(--((BC$35:BC$39="FREE")+(COUNTIF($J$3:$J11,BC$35:BC$39)>0)>0))=5,TRUE,""))} | AO11: {=IF(COUNTIF($AK$3:$AV10,TRUE)>0,"",IF(SUM(--((BD$35:BD$39="FREE")+(COUNTIF($J$3:$J11,BD$35:BD$39)>0)>0))=5,TRUE,""))} | AP11: {=IF(COUNTIF($AK$3:$AV10,TRUE)>0,"",IF(SUM(--(($AZ$35:$BD$35="FREE")+(COUNTIF($J$3:$J11,$AZ$35:$BD$35)>0)>0))=5,TRUE,""))} | AQ11: {=IF(COUNTIF($AK$3:$AV10,TRUE)>0,"",IF(SUM(--(($AZ$36:$BD$36="FREE")+(COUNTIF($J$3:$J11,$AZ$36:$BD$36)>0)>0))=5,TRUE,""))} | AR11: {=IF(COUNTIF($AK$3:$AV10,TRUE)>0,"",IF(SUM(--(($AZ$37:$BD$37="FREE")+(COUNTIF($J$3:$J11,$AZ$37:$BD$37)>0)>0))=5,TRUE,""))} | AS11: {=IF(COUNTIF($AK$3:$AV10,TRUE)>0,"",IF(SUM(--(($AZ$38:$BD$38="FREE")+(COUNTIF($J$3:$J11,$AZ$38:$BD$38)>0)>0))=5,TRUE,""))} | AT11: {=IF(COUNTIF($AK$3:$AV10,TRUE)>0,"",IF(SUM(--(($AZ$39:$BD$39="FREE")+(COUNTIF($J$3:$J11,$AZ$39:$BD$39)>0)>0))=5,TRUE,""))} | AU11: {=IF(COUNTIF($AK$3:$AV10,TRUE)>0,"",IF(SUM(--((CHOOSE({1,2,3,4,5},$AZ$35,$BA$36,$BB$37,$BC$38,$BD$39)="FREE")+(COUNTIF($J$3:$J11,CHOOSE({1,2,3,4,5},$AZ$35,$BA$36,$BB$37,$BC$38,$BD$39))>0)>0))=5,TRUE,""))} | AV11: {=IF(COUNTIF($AK$3:$AV10,TRUE)>0,"",IF(SUM(--((CHOOSE({1,2,3,4,5},$BD$35,$BC$36,$BB$37,$BA$38,$AZ$39)="FREE")+(COUNTIF($J$3:$J11,CHOOSE({1,2,3,4,5},$BD$35,$BC$36,$BB$37,$BA$38,$AZ$39))>0)>0))=5,TRUE,""))} | AY11: Row 5 | AZ11: DB017 | BA11: DB018 | BB11: DB025 | BC11: DB016 | BD11: DB019 | BE11: {=IF(SUM(--((AZ11:BD11="FREE")+(COUNTIF($J$3:$J$52,AZ11:BD11)>0)>0))=5,$BC$4,0)} -> 0 | BF11: =V1 | BG11: Row 3 | BH11: BLUE HAIR BINGO | BI11: =BE9 -> 0 | BJ11: =_xlfn.IFNA(IF(_xlfn.XLOOKUP($A$1&"-"&A11,#REF!,#REF!)="D","D",""),"") -> #REF! | BK11: =IF(BL11="DP","Duplicate Bonus",IF(BJ11="","",_xlfn.IFNA(_xlfn.XLOOKUP($A$1&"-"&A11,#REF!,#REF!),""))) -> Duplicate Bonus | BL11: =IF(AND(C11<>"",E11=""),"DP","") -> DP | BM11: =IF(OR(BJ11="D",BL11="DP"),"D","") -> #REF! | BN11: =IF(BM11="","","D"&COUNTIF($BM$3:BM11,"D")) -> #REF!
A12: 10 | B12: =ScoreHelper!C23 -> 0 | C12: =IF(B12="","",B12) -> 0 | D12: =A12 -> 10 | E12: =IF(C12="","",IF(COUNTIF($C$3:C12,C12)>1,"",C12)) | F12: 10 | G12: =_xlfn.IFNA(_xlfn.XLOOKUP(F12,$D$3:$D$50,$E$3:$E$50),"") | H12: =IF(G12="","",COUNTIF($G$3:G12,"?*")) | I12: 10 | J12: =_xlfn.IFNA(_xlfn.XLOOKUP(I12,$H$3:$H$54,$G$3:$G$54),"") | K12: =IF(J12="","",_xlfn.IFNA(_xlfn.XLOOKUP(J12,$E$3:$E$54,$D$3:$D$54),"")) | L12: =IF(J12="","",_xlfn.IFNA(_xlfn.XLOOKUP(J12,Bonuses!$A$3:$A$54,Bonuses!$H$3:$H$54),"")) | M12: {=IF(COUNTIF($M$3:$X11,TRUE)>0,"",IF(SUM(--((AZ$7:AZ$11="FREE")+(COUNTIF($J$3:$J12,AZ$7:AZ$11)>0)>0))=5,TRUE,""))} | N12: {=IF(COUNTIF($M$3:$X11,TRUE)>0,"",IF(SUM(--((BA$7:BA$11="FREE")+(COUNTIF($J$3:$J12,BA$7:BA$11)>0)>0))=5,TRUE,""))} | O12: {=IF(COUNTIF($M$3:$X11,TRUE)>0,"",IF(SUM(--((BB$7:BB$11="FREE")+(COUNTIF($J$3:$J12,BB$7:BB$11)>0)>0))=5,TRUE,""))} | P12: {=IF(COUNTIF($M$3:$X11,TRUE)>0,"",IF(SUM(--((BC$7:BC$11="FREE")+(COUNTIF($J$3:$J12,BC$7:BC$11)>0)>0))=5,TRUE,""))} | Q12: {=IF(COUNTIF($M$3:$X11,TRUE)>0,"",IF(SUM(--((BD$7:BD$11="FREE")+(COUNTIF($J$3:$J12,BD$7:BD$11)>0)>0))=5,TRUE,""))} | R12: {=IF(COUNTIF($M$3:$X11,TRUE)>0,"",IF(SUM(--(($AZ$7:$BD$7="FREE")+(COUNTIF($J$3:$J12,$AZ$7:$BD$7)>0)>0))=5,TRUE,""))} | S12: {=IF(COUNTIF($M$3:$X11,TRUE)>0,"",IF(SUM(--(($AZ$8:$BD$8="FREE")+(COUNTIF($J$3:$J12,$AZ$8:$BD$8)>0)>0))=5,TRUE,""))} | T12: {=IF(COUNTIF($M$3:$X11,TRUE)>0,"",IF(SUM(--(($AZ$9:$BD$9="FREE")+(COUNTIF($J$3:$J12,$AZ$9:$BD$9)>0)>0))=5,TRUE,""))} | U12: {=IF(COUNTIF($M$3:$X11,TRUE)>0,"",IF(SUM(--(($AZ$10:$BD$10="FREE")+(COUNTIF($J$3:$J12,$AZ$10:$BD$10)>0)>0))=5,TRUE,""))} | V12: {=IF(COUNTIF($M$3:$X11,TRUE)>0,"",IF(SUM(--(($AZ$11:$BD$11="FREE")+(COUNTIF($J$3:$J12,$AZ$11:$BD$11)>0)>0))=5,TRUE,""))} | W12: {=IF(COUNTIF($M$3:$X11,TRUE)>0,"",IF(SUM(--((CHOOSE({1,2,3,4,5},$AZ$7,$BA$8,$BB$9,$BC$10,$BD$11)="FREE")+(COUNTIF($J$3:$J12,CHOOSE({1,2,3,4,5},$AZ$7,$BA$8,$BB$9,$BC$10,$BD$11))>0)>0))=5,TRUE,""))} | X12: {=IF(COUNTIF($M$3:$X11,TRUE)>0,"",IF(SUM(--((CHOOSE({1,2,3,4,5},$BD$7,$BC$8,$BB$9,$BA$10,$AZ$11)="FREE")+(COUNTIF($J$3:$J12,CHOOSE({1,2,3,4,5},$BD$7,$BC$8,$BB$9,$BA$10,$AZ$11))>0)>0))=5,TRUE,""))} | Y12: {=IF(COUNTIF($Y$3:$AJ11,TRUE)>0,"",IF(SUM(--((AZ$21:AZ$25="FREE")+(COUNTIF($J$3:$J12,AZ$21:AZ$25)>0)>0))=5,TRUE,""))} | Z12: {=IF(COUNTIF($Y$3:$AJ11,TRUE)>0,"",IF(SUM(--((BA$21:BA$25="FREE")+(COUNTIF($J$3:$J12,BA$21:BA$25)>0)>0))=5,TRUE,""))} | AA12: {=IF(COUNTIF($Y$3:$AJ11,TRUE)>0,"",IF(SUM(--((BB$21:BB$25="FREE")+(COUNTIF($J$3:$J12,BB$21:BB$25)>0)>0))=5,TRUE,""))} | AB12: {=IF(COUNTIF($Y$3:$AJ11,TRUE)>0,"",IF(SUM(--((BC$21:BC$25="FREE")+(COUNTIF($J$3:$J12,BC$21:BC$25)>0)>0))=5,TRUE,""))} | AC12: {=IF(COUNTIF($Y$3:$AJ11,TRUE)>0,"",IF(SUM(--((BD$21:BD$25="FREE")+(COUNTIF($J$3:$J12,BD$21:BD$25)>0)>0))=5,TRUE,""))} | AD12: {=IF(COUNTIF($Y$3:$AJ11,TRUE)>0,"",IF(SUM(--(($AZ$21:$BD$21="FREE")+(COUNTIF($J$3:$J12,$AZ$21:$BD$21)>0)>0))=5,TRUE,""))} | AE12: {=IF(COUNTIF($Y$3:$AJ11,TRUE)>0,"",IF(SUM(--(($AZ$22:$BD$22="FREE")+(COUNTIF($J$3:$J12,$AZ$22:$BD$22)>0)>0))=5,TRUE,""))} | AF12: {=IF(COUNTIF($Y$3:$AJ11,TRUE)>0,"",IF(SUM(--(($AZ$23:$BD$23="FREE")+(COUNTIF($J$3:$J12,$AZ$23:$BD$23)>0)>0))=5,TRUE,""))} | AG12: {=IF(COUNTIF($Y$3:$AJ11,TRUE)>0,"",IF(SUM(--(($AZ$24:$BD$24="FREE")+(COUNTIF($J$3:$J12,$AZ$24:$BD$24)>0)>0))=5,TRUE,""))} | AH12: {=IF(COUNTIF($Y$3:$AJ11,TRUE)>0,"",IF(SUM(--(($AZ$25:$BD$25="FREE")+(COUNTIF($J$3:$J12,$AZ$25:$BD$25)>0)>0))=5,TRUE,""))} | AI12: {=IF(COUNTIF($Y$3:$AJ11,TRUE)>0,"",IF(SUM(--((CHOOSE({1,2,3,4,5},$AZ$21,$BA$22,$BB$23,$BC$24,$BD$25)="FREE")+(COUNTIF($J$3:$J12,CHOOSE({1,2,3,4,5},$AZ$21,$BA$22,$BB$23,$BC$24,$BD$25))>0)>0))=5,TRUE,""))} | AJ12: {=IF(COUNTIF($Y$3:$AJ11,TRUE)>0,"",IF(SUM(--((CHOOSE({1,2,3,4,5},$BD$21,$BC$22,$BB$23,$BA$24,$AZ$25)="FREE")+(COUNTIF($J$3:$J12,CHOOSE({1,2,3,4,5},$BD$21,$BC$22,$BB$23,$BA$24,$AZ$25))>0)>0))=5,TRUE,""))} | AK12: {=IF(COUNTIF($AK$3:$AV11,TRUE)>0,"",IF(SUM(--((AZ$35:AZ$39="FREE")+(COUNTIF($J$3:$J12,AZ$35:AZ$39)>0)>0))=5,TRUE,""))} | AL12: {=IF(COUNTIF($AK$3:$AV11,TRUE)>0,"",IF(SUM(--((BA$35:BA$39="FREE")+(COUNTIF($J$3:$J12,BA$35:BA$39)>0)>0))=5,TRUE,""))} | AM12: {=IF(COUNTIF($AK$3:$AV11,TRUE)>0,"",IF(SUM(--((BB$35:BB$39="FREE")+(COUNTIF($J$3:$J12,BB$35:BB$39)>0)>0))=5,TRUE,""))} | AN12: {=IF(COUNTIF($AK$3:$AV11,TRUE)>0,"",IF(SUM(--((BC$35:BC$39="FREE")+(COUNTIF($J$3:$J12,BC$35:BC$39)>0)>0))=5,TRUE,""))} | AO12: {=IF(COUNTIF($AK$3:$AV11,TRUE)>0,"",IF(SUM(--((BD$35:BD$39="FREE")+(COUNTIF($J$3:$J12,BD$35:BD$39)>0)>0))=5,TRUE,""))} | AP12: {=IF(COUNTIF($AK$3:$AV11,TRUE)>0,"",IF(SUM(--(($AZ$35:$BD$35="FREE")+(COUNTIF($J$3:$J12,$AZ$35:$BD$35)>0)>0))=5,TRUE,""))} | AQ12: {=IF(COUNTIF($AK$3:$AV11,TRUE)>0,"",IF(SUM(--(($AZ$36:$BD$36="FREE")+(COUNTIF($J$3:$J12,$AZ$36:$BD$36)>0)>0))=5,TRUE,""))} | AR12: {=IF(COUNTIF($AK$3:$AV11,TRUE)>0,"",IF(SUM(--(($AZ$37:$BD$37="FREE")+(COUNTIF($J$3:$J12,$AZ$37:$BD$37)>0)>0))=5,TRUE,""))} | AS12: {=IF(COUNTIF($AK$3:$AV11,TRUE)>0,"",IF(SUM(--(($AZ$38:$BD$38="FREE")+(COUNTIF($J$3:$J12,$AZ$38:$BD$38)>0)>0))=5,TRUE,""))} | AT12: {=IF(COUNTIF($AK$3:$AV11,TRUE)>0,"",IF(SUM(--(($AZ$39:$BD$39="FREE")+(COUNTIF($J$3:$J12,$AZ$39:$BD$39)>0)>0))=5,TRUE,""))} | AU12: {=IF(COUNTIF($AK$3:$AV11,TRUE)>0,"",IF(SUM(--((CHOOSE({1,2,3,4,5},$AZ$35,$BA$36,$BB$37,$BC$38,$BD$39)="FREE")+(COUNTIF($J$3:$J12,CHOOSE({1,2,3,4,5},$AZ$35,$BA$36,$BB$37,$BC$38,$BD$39))>0)>0))=5,TRUE,""))} | AV12: {=IF(COUNTIF($AK$3:$AV11,TRUE)>0,"",IF(SUM(--((CHOOSE({1,2,3,4,5},$BD$35,$BC$36,$BB$37,$BA$38,$AZ$39)="FREE")+(COUNTIF($J$3:$J12,CHOOSE({1,2,3,4,5},$BD$35,$BC$36,$BB$37,$BA$38,$AZ$39))>0)>0))=5,TRUE,""))} | AY12: {=IF(SUM(--((CHOOSE({1,2,3,4,5},BD7,BC8,BB9,BA10,AZ11)="FREE")+(COUNTIF($J$3:$J52,CHOOSE({1,2,3,4,5},BD7,BC8,BB9,BA10,AZ11))>0)>0))=5,$BC$4,0)} -> 0 | AZ12: {=IF(SUM(--((AZ7:AZ11="FREE")+(COUNTIF($J$3:$J$52,AZ7:AZ11)>0)>0))=5,$BC$4,0)} -> 0 | BA12: {=IF(SUM(--((BA7:BA11="FREE")+(COUNTIF($J$3:$J$52,BA7:BA11)>0)>0))=5,$BC$4,0)} -> 0 | BB12: {=IF(SUM(--((BB7:BB11="FREE")+(COUNTIF($J$3:$J$52,BB7:BB11)>0)>0))=5,$BC$4,0)} -> 0 | BC12: {=IF(SUM(--((BC7:BC11="FREE")+(COUNTIF($J$3:$J$52,BC7:BC11)>0)>0))=5,$BC$4,0)} -> 0 | BD12: {=IF(SUM(--((BD7:BD11="FREE")+(COUNTIF($J$3:$J$52,BD7:BD11)>0)>0))=5,$BC$4,0)} -> 0 | BE12: {=IF(SUM(--((CHOOSE({1,2,3,4,5},AZ7,BA8,BB9,BC10,BD11)="FREE")+(COUNTIF($J$3:$J$52,CHOOSE({1,2,3,4,5},AZ7,BA8,BB9,BC10,BD11))>0)>0))=5,$BC$4,0)} -> 0 | BF12: =W1 | BG12: Row 4 | BH12: BLUE HAIR BINGO | BI12: =BE10 -> 0 | BJ12: =_xlfn.IFNA(IF(_xlfn.XLOOKUP($A$1&"-"&A12,#REF!,#REF!)="D","D",""),"") -> #REF! | BK12: =IF(BL12="DP","Duplicate Bonus",IF(BJ12="","",_xlfn.IFNA(_xlfn.XLOOKUP($A$1&"-"&A12,#REF!,#REF!),""))) -> Duplicate Bonus | BL12: =IF(AND(C12<>"",E12=""),"DP","") -> DP | BM12: =IF(OR(BJ12="D",BL12="DP"),"D","") -> #REF! | BN12: =IF(BM12="","","D"&COUNTIF($BM$3:BM12,"D")) -> #REF!
A13: 11 | B13: =ScoreHelper!C24 -> 0 | C13: =IF(B13="","",B13) -> 0 | D13: =A13 -> 11 | E13: =IF(C13="","",IF(COUNTIF($C$3:C13,C13)>1,"",C13)) | F13: 11 | G13: =_xlfn.IFNA(_xlfn.XLOOKUP(F13,$D$3:$D$50,$E$3:$E$50),"") | H13: =IF(G13="","",COUNTIF($G$3:G13,"?*")) | I13: 11 | J13: =_xlfn.IFNA(_xlfn.XLOOKUP(I13,$H$3:$H$54,$G$3:$G$54),"") | K13: =IF(J13="","",_xlfn.IFNA(_xlfn.XLOOKUP(J13,$E$3:$E$54,$D$3:$D$54),"")) | L13: =IF(J13="","",_xlfn.IFNA(_xlfn.XLOOKUP(J13,Bonuses!$A$3:$A$54,Bonuses!$H$3:$H$54),"")) | M13: {=IF(COUNTIF($M$3:$X12,TRUE)>0,"",IF(SUM(--((AZ$7:AZ$11="FREE")+(COUNTIF($J$3:$J13,AZ$7:AZ$11)>0)>0))=5,TRUE,""))} | N13: {=IF(COUNTIF($M$3:$X12,TRUE)>0,"",IF(SUM(--((BA$7:BA$11="FREE")+(COUNTIF($J$3:$J13,BA$7:BA$11)>0)>0))=5,TRUE,""))} | O13: {=IF(COUNTIF($M$3:$X12,TRUE)>0,"",IF(SUM(--((BB$7:BB$11="FREE")+(COUNTIF($J$3:$J13,BB$7:BB$11)>0)>0))=5,TRUE,""))} | P13: {=IF(COUNTIF($M$3:$X12,TRUE)>0,"",IF(SUM(--((BC$7:BC$11="FREE")+(COUNTIF($J$3:$J13,BC$7:BC$11)>0)>0))=5,TRUE,""))} | Q13: {=IF(COUNTIF($M$3:$X12,TRUE)>0,"",IF(SUM(--((BD$7:BD$11="FREE")+(COUNTIF($J$3:$J13,BD$7:BD$11)>0)>0))=5,TRUE,""))} | R13: {=IF(COUNTIF($M$3:$X12,TRUE)>0,"",IF(SUM(--(($AZ$7:$BD$7="FREE")+(COUNTIF($J$3:$J13,$AZ$7:$BD$7)>0)>0))=5,TRUE,""))} | S13: {=IF(COUNTIF($M$3:$X12,TRUE)>0,"",IF(SUM(--(($AZ$8:$BD$8="FREE")+(COUNTIF($J$3:$J13,$AZ$8:$BD$8)>0)>0))=5,TRUE,""))} | T13: {=IF(COUNTIF($M$3:$X12,TRUE)>0,"",IF(SUM(--(($AZ$9:$BD$9="FREE")+(COUNTIF($J$3:$J13,$AZ$9:$BD$9)>0)>0))=5,TRUE,""))} | U13: {=IF(COUNTIF($M$3:$X12,TRUE)>0,"",IF(SUM(--(($AZ$10:$BD$10="FREE")+(COUNTIF($J$3:$J13,$AZ$10:$BD$10)>0)>0))=5,TRUE,""))} | V13: {=IF(COUNTIF($M$3:$X12,TRUE)>0,"",IF(SUM(--(($AZ$11:$BD$11="FREE")+(COUNTIF($J$3:$J13,$AZ$11:$BD$11)>0)>0))=5,TRUE,""))} | W13: {=IF(COUNTIF($M$3:$X12,TRUE)>0,"",IF(SUM(--((CHOOSE({1,2,3,4,5},$AZ$7,$BA$8,$BB$9,$BC$10,$BD$11)="FREE")+(COUNTIF($J$3:$J13,CHOOSE({1,2,3,4,5},$AZ$7,$BA$8,$BB$9,$BC$10,$BD$11))>0)>0))=5,TRUE,""))} | X13: {=IF(COUNTIF($M$3:$X12,TRUE)>0,"",IF(SUM(--((CHOOSE({1,2,3,4,5},$BD$7,$BC$8,$BB$9,$BA$10,$AZ$11)="FREE")+(COUNTIF($J$3:$J13,CHOOSE({1,2,3,4,5},$BD$7,$BC$8,$BB$9,$BA$10,$AZ$11))>0)>0))=5,TRUE,""))} | Y13: {=IF(COUNTIF($Y$3:$AJ12,TRUE)>0,"",IF(SUM(--((AZ$21:AZ$25="FREE")+(COUNTIF($J$3:$J13,AZ$21:AZ$25)>0)>0))=5,TRUE,""))} | Z13: {=IF(COUNTIF($Y$3:$AJ12,TRUE)>0,"",IF(SUM(--((BA$21:BA$25="FREE")+(COUNTIF($J$3:$J13,BA$21:BA$25)>0)>0))=5,TRUE,""))} | AA13: {=IF(COUNTIF($Y$3:$AJ12,TRUE)>0,"",IF(SUM(--((BB$21:BB$25="FREE")+(COUNTIF($J$3:$J13,BB$21:BB$25)>0)>0))=5,TRUE,""))} | AB13: {=IF(COUNTIF($Y$3:$AJ12,TRUE)>0,"",IF(SUM(--((BC$21:BC$25="FREE")+(COUNTIF($J$3:$J13,BC$21:BC$25)>0)>0))=5,TRUE,""))} | AC13: {=IF(COUNTIF($Y$3:$AJ12,TRUE)>0,"",IF(SUM(--((BD$21:BD$25="FREE")+(COUNTIF($J$3:$J13,BD$21:BD$25)>0)>0))=5,TRUE,""))} | AD13: {=IF(COUNTIF($Y$3:$AJ12,TRUE)>0,"",IF(SUM(--(($AZ$21:$BD$21="FREE")+(COUNTIF($J$3:$J13,$AZ$21:$BD$21)>0)>0))=5,TRUE,""))} | AE13: {=IF(COUNTIF($Y$3:$AJ12,TRUE)>0,"",IF(SUM(--(($AZ$22:$BD$22="FREE")+(COUNTIF($J$3:$J13,$AZ$22:$BD$22)>0)>0))=5,TRUE,""))} | AF13: {=IF(COUNTIF($Y$3:$AJ12,TRUE)>0,"",IF(SUM(--(($AZ$23:$BD$23="FREE")+(COUNTIF($J$3:$J13,$AZ$23:$BD$23)>0)>0))=5,TRUE,""))} | AG13: {=IF(COUNTIF($Y$3:$AJ12,TRUE)>0,"",IF(SUM(--(($AZ$24:$BD$24="FREE")+(COUNTIF($J$3:$J13,$AZ$24:$BD$24)>0)>0))=5,TRUE,""))} | AH13: {=IF(COUNTIF($Y$3:$AJ12,TRUE)>0,"",IF(SUM(--(($AZ$25:$BD$25="FREE")+(COUNTIF($J$3:$J13,$AZ$25:$BD$25)>0)>0))=5,TRUE,""))} | AI13: {=IF(COUNTIF($Y$3:$AJ12,TRUE)>0,"",IF(SUM(--((CHOOSE({1,2,3,4,5},$AZ$21,$BA$22,$BB$23,$BC$24,$BD$25)="FREE")+(COUNTIF($J$3:$J13,CHOOSE({1,2,3,4,5},$AZ$21,$BA$22,$BB$23,$BC$24,$BD$25))>0)>0))=5,TRUE,""))} | AJ13: {=IF(COUNTIF($Y$3:$AJ12,TRUE)>0,"",IF(SUM(--((CHOOSE({1,2,3,4,5},$BD$21,$BC$22,$BB$23,$BA$24,$AZ$25)="FREE")+(COUNTIF($J$3:$J13,CHOOSE({1,2,3,4,5},$BD$21,$BC$22,$BB$23,$BA$24,$AZ$25))>0)>0))=5,TRUE,""))} | AK13: {=IF(COUNTIF($AK$3:$AV12,TRUE)>0,"",IF(SUM(--((AZ$35:AZ$39="FREE")+(COUNTIF($J$3:$J13,AZ$35:AZ$39)>0)>0))=5,TRUE,""))} | AL13: {=IF(COUNTIF($AK$3:$AV12,TRUE)>0,"",IF(SUM(--((BA$35:BA$39="FREE")+(COUNTIF($J$3:$J13,BA$35:BA$39)>0)>0))=5,TRUE,""))} | AM13: {=IF(COUNTIF($AK$3:$AV12,TRUE)>0,"",IF(SUM(--((BB$35:BB$39="FREE")+(COUNTIF($J$3:$J13,BB$35:BB$39)>0)>0))=5,TRUE,""))} | AN13: {=IF(COUNTIF($AK$3:$AV12,TRUE)>0,"",IF(SUM(--((BC$35:BC$39="FREE")+(COUNTIF($J$3:$J13,BC$35:BC$39)>0)>0))=5,TRUE,""))} | AO13: {=IF(COUNTIF($AK$3:$AV12,TRUE)>0,"",IF(SUM(--((BD$35:BD$39="FREE")+(COUNTIF($J$3:$J13,BD$35:BD$39)>0)>0))=5,TRUE,""))} | AP13: {=IF(COUNTIF($AK$3:$AV12,TRUE)>0,"",IF(SUM(--(($AZ$35:$BD$35="FREE")+(COUNTIF($J$3:$J13,$AZ$35:$BD$35)>0)>0))=5,TRUE,""))} | AQ13: {=IF(COUNTIF($AK$3:$AV12,TRUE)>0,"",IF(SUM(--(($AZ$36:$BD$36="FREE")+(COUNTIF($J$3:$J13,$AZ$36:$BD$36)>0)>0))=5,TRUE,""))} | AR13: {=IF(COUNTIF($AK$3:$AV12,TRUE)>0,"",IF(SUM(--(($AZ$37:$BD$37="FREE")+(COUNTIF($J$3:$J13,$AZ$37:$BD$37)>0)>0))=5,TRUE,""))} | AS13: {=IF(COUNTIF($AK$3:$AV12,TRUE)>0,"",IF(SUM(--(($AZ$38:$BD$38="FREE")+(COUNTIF($J$3:$J13,$AZ$38:$BD$38)>0)>0))=5,TRUE,""))} | AT13: {=IF(COUNTIF($AK$3:$AV12,TRUE)>0,"",IF(SUM(--(($AZ$39:$BD$39="FREE")+(COUNTIF($J$3:$J13,$AZ$39:$BD$39)>0)>0))=5,TRUE,""))} | AU13: {=IF(COUNTIF($AK$3:$AV12,TRUE)>0,"",IF(SUM(--((CHOOSE({1,2,3,4,5},$AZ$35,$BA$36,$BB$37,$BC$38,$BD$39)="FREE")+(COUNTIF($J$3:$J13,CHOOSE({1,2,3,4,5},$AZ$35,$BA$36,$BB$37,$BC$38,$BD$39))>0)>0))=5,TRUE,""))} | AV13: {=IF(COUNTIF($AK$3:$AV12,TRUE)>0,"",IF(SUM(--((CHOOSE({1,2,3,4,5},$BD$35,$BC$36,$BB$37,$BA$38,$AZ$39)="FREE")+(COUNTIF($J$3:$J13,CHOOSE({1,2,3,4,5},$BD$35,$BC$36,$BB$37,$BA$38,$AZ$39))>0)>0))=5,TRUE,""))} | AX13: =X1 | AZ13: =M1 | BA13: =N1 | BB13: =O1 | BC13: =P1 | BD13: =Q1 | BF13: =W1 | BG13: Row 5 | BH13: BLUE HAIR BINGO | BI13: =BE11 -> 0 | BJ13: =_xlfn.IFNA(IF(_xlfn.XLOOKUP($A$1&"-"&A13,#REF!,#REF!)="D","D",""),"") -> #REF! | BK13: =IF(BL13="DP","Duplicate Bonus",IF(BJ13="","",_xlfn.IFNA(_xlfn.XLOOKUP($A$1&"-"&A13,#REF!,#REF!),""))) -> Duplicate Bonus | BL13: =IF(AND(C13<>"",E13=""),"DP","") -> DP | BM13: =IF(OR(BJ13="D",BL13="DP"),"D","") -> #REF! | BN13: =IF(BM13="","","D"&COUNTIF($BM$3:BM13,"D")) -> #REF!
A14: 12 | B14: =ScoreHelper!C25 -> 0 | C14: =IF(B14="","",B14) -> 0 | D14: =A14 -> 12 | E14: =IF(C14="","",IF(COUNTIF($C$3:C14,C14)>1,"",C14)) | F14: 12 | G14: =_xlfn.IFNA(_xlfn.XLOOKUP(F14,$D$3:$D$50,$E$3:$E$50),"") | H14: =IF(G14="","",COUNTIF($G$3:G14,"?*")) | I14: 12 | J14: =_xlfn.IFNA(_xlfn.XLOOKUP(I14,$H$3:$H$54,$G$3:$G$54),"") | K14: =IF(J14="","",_xlfn.IFNA(_xlfn.XLOOKUP(J14,$E$3:$E$54,$D$3:$D$54),"")) | L14: =IF(J14="","",_xlfn.IFNA(_xlfn.XLOOKUP(J14,Bonuses!$A$3:$A$54,Bonuses!$H$3:$H$54),"")) | M14: {=IF(COUNTIF($M$3:$X13,TRUE)>0,"",IF(SUM(--((AZ$7:AZ$11="FREE")+(COUNTIF($J$3:$J14,AZ$7:AZ$11)>0)>0))=5,TRUE,""))} | N14: {=IF(COUNTIF($M$3:$X13,TRUE)>0,"",IF(SUM(--((BA$7:BA$11="FREE")+(COUNTIF($J$3:$J14,BA$7:BA$11)>0)>0))=5,TRUE,""))} | O14: {=IF(COUNTIF($M$3:$X13,TRUE)>0,"",IF(SUM(--((BB$7:BB$11="FREE")+(COUNTIF($J$3:$J14,BB$7:BB$11)>0)>0))=5,TRUE,""))} | P14: {=IF(COUNTIF($M$3:$X13,TRUE)>0,"",IF(SUM(--((BC$7:BC$11="FREE")+(COUNTIF($J$3:$J14,BC$7:BC$11)>0)>0))=5,TRUE,""))} | Q14: {=IF(COUNTIF($M$3:$X13,TRUE)>0,"",IF(SUM(--((BD$7:BD$11="FREE")+(COUNTIF($J$3:$J14,BD$7:BD$11)>0)>0))=5,TRUE,""))} | R14: {=IF(COUNTIF($M$3:$X13,TRUE)>0,"",IF(SUM(--(($AZ$7:$BD$7="FREE")+(COUNTIF($J$3:$J14,$AZ$7:$BD$7)>0)>0))=5,TRUE,""))} | S14: {=IF(COUNTIF($M$3:$X13,TRUE)>0,"",IF(SUM(--(($AZ$8:$BD$8="FREE")+(COUNTIF($J$3:$J14,$AZ$8:$BD$8)>0)>0))=5,TRUE,""))} | T14: {=IF(COUNTIF($M$3:$X13,TRUE)>0,"",IF(SUM(--(($AZ$9:$BD$9="FREE")+(COUNTIF($J$3:$J14,$AZ$9:$BD$9)>0)>0))=5,TRUE,""))} | U14: {=IF(COUNTIF($M$3:$X13,TRUE)>0,"",IF(SUM(--(($AZ$10:$BD$10="FREE")+(COUNTIF($J$3:$J14,$AZ$10:$BD$10)>0)>0))=5,TRUE,""))} | V14: {=IF(COUNTIF($M$3:$X13,TRUE)>0,"",IF(SUM(--(($AZ$11:$BD$11="FREE")+(COUNTIF($J$3:$J14,$AZ$11:$BD$11)>0)>0))=5,TRUE,""))} | W14: {=IF(COUNTIF($M$3:$X13,TRUE)>0,"",IF(SUM(--((CHOOSE({1,2,3,4,5},$AZ$7,$BA$8,$BB$9,$BC$10,$BD$11)="FREE")+(COUNTIF($J$3:$J14,CHOOSE({1,2,3,4,5},$AZ$7,$BA$8,$BB$9,$BC$10,$BD$11))>0)>0))=5,TRUE,""))} | X14: {=IF(COUNTIF($M$3:$X13,TRUE)>0,"",IF(SUM(--((CHOOSE({1,2,3,4,5},$BD$7,$BC$8,$BB$9,$BA$10,$AZ$11)="FREE")+(COUNTIF($J$3:$J14,CHOOSE({1,2,3,4,5},$BD$7,$BC$8,$BB$9,$BA$10,$AZ$11))>0)>0))=5,TRUE,""))} | Y14: {=IF(COUNTIF($Y$3:$AJ13,TRUE)>0,"",IF(SUM(--((AZ$21:AZ$25="FREE")+(COUNTIF($J$3:$J14,AZ$21:AZ$25)>0)>0))=5,TRUE,""))} | Z14: {=IF(COUNTIF($Y$3:$AJ13,TRUE)>0,"",IF(SUM(--((BA$21:BA$25="FREE")+(COUNTIF($J$3:$J14,BA$21:BA$25)>0)>0))=5,TRUE,""))} | AA14: {=IF(COUNTIF($Y$3:$AJ13,TRUE)>0,"",IF(SUM(--((BB$21:BB$25="FREE")+(COUNTIF($J$3:$J14,BB$21:BB$25)>0)>0))=5,TRUE,""))} | AB14: {=IF(COUNTIF($Y$3:$AJ13,TRUE)>0,"",IF(SUM(--((BC$21:BC$25="FREE")+(COUNTIF($J$3:$J14,BC$21:BC$25)>0)>0))=5,TRUE,""))} | AC14: {=IF(COUNTIF($Y$3:$AJ13,TRUE)>0,"",IF(SUM(--((BD$21:BD$25="FREE")+(COUNTIF($J$3:$J14,BD$21:BD$25)>0)>0))=5,TRUE,""))} | AD14: {=IF(COUNTIF($Y$3:$AJ13,TRUE)>0,"",IF(SUM(--(($AZ$21:$BD$21="FREE")+(COUNTIF($J$3:$J14,$AZ$21:$BD$21)>0)>0))=5,TRUE,""))} | AE14: {=IF(COUNTIF($Y$3:$AJ13,TRUE)>0,"",IF(SUM(--(($AZ$22:$BD$22="FREE")+(COUNTIF($J$3:$J14,$AZ$22:$BD$22)>0)>0))=5,TRUE,""))} | AF14: {=IF(COUNTIF($Y$3:$AJ13,TRUE)>0,"",IF(SUM(--(($AZ$23:$BD$23="FREE")+(COUNTIF($J$3:$J14,$AZ$23:$BD$23)>0)>0))=5,TRUE,""))} | AG14: {=IF(COUNTIF($Y$3:$AJ13,TRUE)>0,"",IF(SUM(--(($AZ$24:$BD$24="FREE")+(COUNTIF($J$3:$J14,$AZ$24:$BD$24)>0)>0))=5,TRUE,""))} | AH14: {=IF(COUNTIF($Y$3:$AJ13,TRUE)>0,"",IF(SUM(--(($AZ$25:$BD$25="FREE")+(COUNTIF($J$3:$J14,$AZ$25:$BD$25)>0)>0))=5,TRUE,""))} | AI14: {=IF(COUNTIF($Y$3:$AJ13,TRUE)>0,"",IF(SUM(--((CHOOSE({1,2,3,4,5},$AZ$21,$BA$22,$BB$23,$BC$24,$BD$25)="FREE")+(COUNTIF($J$3:$J14,CHOOSE({1,2,3,4,5},$AZ$21,$BA$22,$BB$23,$BC$24,$BD$25))>0)>0))=5,TRUE,""))} | AJ14: {=IF(COUNTIF($Y$3:$AJ13,TRUE)>0,"",IF(SUM(--((CHOOSE({1,2,3,4,5},$BD$21,$BC$22,$BB$23,$BA$24,$AZ$25)="FREE")+(COUNTIF($J$3:$J14,CHOOSE({1,2,3,4,5},$BD$21,$BC$22,$BB$23,$BA$24,$AZ$25))>0)>0))=5,TRUE,""))} | AK14: {=IF(COUNTIF($AK$3:$AV13,TRUE)>0,"",IF(SUM(--((AZ$35:AZ$39="FREE")+(COUNTIF($J$3:$J14,AZ$35:AZ$39)>0)>0))=5,TRUE,""))} | AL14: {=IF(COUNTIF($AK$3:$AV13,TRUE)>0,"",IF(SUM(--((BA$35:BA$39="FREE")+(COUNTIF($J$3:$J14,BA$35:BA$39)>0)>0))=5,TRUE,""))} | AM14: {=IF(COUNTIF($AK$3:$AV13,TRUE)>0,"",IF(SUM(--((BB$35:BB$39="FREE")+(COUNTIF($J$3:$J14,BB$35:BB$39)>0)>0))=5,TRUE,""))} | AN14: {=IF(COUNTIF($AK$3:$AV13,TRUE)>0,"",IF(SUM(--((BC$35:BC$39="FREE")+(COUNTIF($J$3:$J14,BC$35:BC$39)>0)>0))=5,TRUE,""))} | AO14: {=IF(COUNTIF($AK$3:$AV13,TRUE)>0,"",IF(SUM(--((BD$35:BD$39="FREE")+(COUNTIF($J$3:$J14,BD$35:BD$39)>0)>0))=5,TRUE,""))} | AP14: {=IF(COUNTIF($AK$3:$AV13,TRUE)>0,"",IF(SUM(--(($AZ$35:$BD$35="FREE")+(COUNTIF($J$3:$J14,$AZ$35:$BD$35)>0)>0))=5,TRUE,""))} | AQ14: {=IF(COUNTIF($AK$3:$AV13,TRUE)>0,"",IF(SUM(--(($AZ$36:$BD$36="FREE")+(COUNTIF($J$3:$J14,$AZ$36:$BD$36)>0)>0))=5,TRUE,""))} | AR14: {=IF(COUNTIF($AK$3:$AV13,TRUE)>0,"",IF(SUM(--(($AZ$37:$BD$37="FREE")+(COUNTIF($J$3:$J14,$AZ$37:$BD$37)>0)>0))=5,TRUE,""))} | AS14: {=IF(COUNTIF($AK$3:$AV13,TRUE)>0,"",IF(SUM(--(($AZ$38:$BD$38="FREE")+(COUNTIF($J$3:$J14,$AZ$38:$BD$38)>0)>0))=5,TRUE,""))} | AT14: {=IF(COUNTIF($AK$3:$AV13,TRUE)>0,"",IF(SUM(--(($AZ$39:$BD$39="FREE")+(COUNTIF($J$3:$J14,$AZ$39:$BD$39)>0)>0))=5,TRUE,""))} | AU14: {=IF(COUNTIF($AK$3:$AV13,TRUE)>0,"",IF(SUM(--((CHOOSE({1,2,3,4,5},$AZ$35,$BA$36,$BB$37,$BC$38,$BD$39)="FREE")+(COUNTIF($J$3:$J14,CHOOSE({1,2,3,4,5},$AZ$35,$BA$36,$BB$37,$BC$38,$BD$39))>0)>0))=5,TRUE,""))} | AV14: {=IF(COUNTIF($AK$3:$AV13,TRUE)>0,"",IF(SUM(--((CHOOSE({1,2,3,4,5},$BD$35,$BC$36,$BB$37,$BA$38,$AZ$39)="FREE")+(COUNTIF($J$3:$J14,CHOOSE({1,2,3,4,5},$BD$35,$BC$36,$BB$37,$BA$38,$AZ$39))>0)>0))=5,TRUE,""))} | AZ14: Theme: Local/Northern Kentucky and easy regional routes. | BG14: TopLeftBottomRight | BH14: BLUE HAIR BINGO | BI14: =BE12 -> 0 | BJ14: =_xlfn.IFNA(IF(_xlfn.XLOOKUP($A$1&"-"&A14,#REF!,#REF!)="D","D",""),"") -> #REF! | BK14: =IF(BL14="DP","Duplicate Bonus",IF(BJ14="","",_xlfn.IFNA(_xlfn.XLOOKUP($A$1&"-"&A14,#REF!,#REF!),""))) -> Duplicate Bonus | BL14: =IF(AND(C14<>"",E14=""),"DP","") -> DP | BM14: =IF(OR(BJ14="D",BL14="DP"),"D","") -> #REF! | BN14: =IF(BM14="","","D"&COUNTIF($BM$3:BM14,"D")) -> #REF!
A15: 13 | B15: =ScoreHelper!C26 -> 0 | C15: =IF(B15="","",B15) -> 0 | D15: =A15 -> 13 | E15: =IF(C15="","",IF(COUNTIF($C$3:C15,C15)>1,"",C15)) | F15: 13 | G15: =_xlfn.IFNA(_xlfn.XLOOKUP(F15,$D$3:$D$50,$E$3:$E$50),"") | H15: =IF(G15="","",COUNTIF($G$3:G15,"?*")) | I15: 13 | J15: =_xlfn.IFNA(_xlfn.XLOOKUP(I15,$H$3:$H$54,$G$3:$G$54),"") | K15: =IF(J15="","",_xlfn.IFNA(_xlfn.XLOOKUP(J15,$E$3:$E$54,$D$3:$D$54),"")) | L15: =IF(J15="","",_xlfn.IFNA(_xlfn.XLOOKUP(J15,Bonuses!$A$3:$A$54,Bonuses!$H$3:$H$54),"")) | M15: {=IF(COUNTIF($M$3:$X14,TRUE)>0,"",IF(SUM(--((AZ$7:AZ$11="FREE")+(COUNTIF($J$3:$J15,AZ$7:AZ$11)>0)>0))=5,TRUE,""))} | N15: {=IF(COUNTIF($M$3:$X14,TRUE)>0,"",IF(SUM(--((BA$7:BA$11="FREE")+(COUNTIF($J$3:$J15,BA$7:BA$11)>0)>0))=5,TRUE,""))} | O15: {=IF(COUNTIF($M$3:$X14,TRUE)>0,"",IF(SUM(--((BB$7:BB$11="FREE")+(COUNTIF($J$3:$J15,BB$7:BB$11)>0)>0))=5,TRUE,""))} | P15: {=IF(COUNTIF($M$3:$X14,TRUE)>0,"",IF(SUM(--((BC$7:BC$11="FREE")+(COUNTIF($J$3:$J15,BC$7:BC$11)>0)>0))=5,TRUE,""))} | Q15: {=IF(COUNTIF($M$3:$X14,TRUE)>0,"",IF(SUM(--((BD$7:BD$11="FREE")+(COUNTIF($J$3:$J15,BD$7:BD$11)>0)>0))=5,TRUE,""))} | R15: {=IF(COUNTIF($M$3:$X14,TRUE)>0,"",IF(SUM(--(($AZ$7:$BD$7="FREE")+(COUNTIF($J$3:$J15,$AZ$7:$BD$7)>0)>0))=5,TRUE,""))} | S15: {=IF(COUNTIF($M$3:$X14,TRUE)>0,"",IF(SUM(--(($AZ$8:$BD$8="FREE")+(COUNTIF($J$3:$J15,$AZ$8:$BD$8)>0)>0))=5,TRUE,""))} | T15: {=IF(COUNTIF($M$3:$X14,TRUE)>0,"",IF(SUM(--(($AZ$9:$BD$9="FREE")+(COUNTIF($J$3:$J15,$AZ$9:$BD$9)>0)>0))=5,TRUE,""))} | U15: {=IF(COUNTIF($M$3:$X14,TRUE)>0,"",IF(SUM(--(($AZ$10:$BD$10="FREE")+(COUNTIF($J$3:$J15,$AZ$10:$BD$10)>0)>0))=5,TRUE,""))} | V15: {=IF(COUNTIF($M$3:$X14,TRUE)>0,"",IF(SUM(--(($AZ$11:$BD$11="FREE")+(COUNTIF($J$3:$J15,$AZ$11:$BD$11)>0)>0))=5,TRUE,""))} | W15: {=IF(COUNTIF($M$3:$X14,TRUE)>0,"",IF(SUM(--((CHOOSE({1,2,3,4,5},$AZ$7,$BA$8,$BB$9,$BC$10,$BD$11)="FREE")+(COUNTIF($J$3:$J15,CHOOSE({1,2,3,4,5},$AZ$7,$BA$8,$BB$9,$BC$10,$BD$11))>0)>0))=5,TRUE,""))} | X15: {=IF(COUNTIF($M$3:$X14,TRUE)>0,"",IF(SUM(--((CHOOSE({1,2,3,4,5},$BD$7,$BC$8,$BB$9,$BA$10,$AZ$11)="FREE")+(COUNTIF($J$3:$J15,CHOOSE({1,2,3,4,5},$BD$7,$BC$8,$BB$9,$BA$10,$AZ$11))>0)>0))=5,TRUE,""))} | Y15: {=IF(COUNTIF($Y$3:$AJ14,TRUE)>0,"",IF(SUM(--((AZ$21:AZ$25="FREE")+(COUNTIF($J$3:$J15,AZ$21:AZ$25)>0)>0))=5,TRUE,""))} | Z15: {=IF(COUNTIF($Y$3:$AJ14,TRUE)>0,"",IF(SUM(--((BA$21:BA$25="FREE")+(COUNTIF($J$3:$J15,BA$21:BA$25)>0)>0))=5,TRUE,""))} | AA15: {=IF(COUNTIF($Y$3:$AJ14,TRUE)>0,"",IF(SUM(--((BB$21:BB$25="FREE")+(COUNTIF($J$3:$J15,BB$21:BB$25)>0)>0))=5,TRUE,""))} | AB15: {=IF(COUNTIF($Y$3:$AJ14,TRUE)>0,"",IF(SUM(--((BC$21:BC$25="FREE")+(COUNTIF($J$3:$J15,BC$21:BC$25)>0)>0))=5,TRUE,""))} | AC15: {=IF(COUNTIF($Y$3:$AJ14,TRUE)>0,"",IF(SUM(--((BD$21:BD$25="FREE")+(COUNTIF($J$3:$J15,BD$21:BD$25)>0)>0))=5,TRUE,""))} | AD15: {=IF(COUNTIF($Y$3:$AJ14,TRUE)>0,"",IF(SUM(--(($AZ$21:$BD$21="FREE")+(COUNTIF($J$3:$J15,$AZ$21:$BD$21)>0)>0))=5,TRUE,""))} | AE15: {=IF(COUNTIF($Y$3:$AJ14,TRUE)>0,"",IF(SUM(--(($AZ$22:$BD$22="FREE")+(COUNTIF($J$3:$J15,$AZ$22:$BD$22)>0)>0))=5,TRUE,""))} | AF15: {=IF(COUNTIF($Y$3:$AJ14,TRUE)>0,"",IF(SUM(--(($AZ$23:$BD$23="FREE")+(COUNTIF($J$3:$J15,$AZ$23:$BD$23)>0)>0))=5,TRUE,""))} | AG15: {=IF(COUNTIF($Y$3:$AJ14,TRUE)>0,"",IF(SUM(--(($AZ$24:$BD$24="FREE")+(COUNTIF($J$3:$J15,$AZ$24:$BD$24)>0)>0))=5,TRUE,""))} | AH15: {=IF(COUNTIF($Y$3:$AJ14,TRUE)>0,"",IF(SUM(--(($AZ$25:$BD$25="FREE")+(COUNTIF($J$3:$J15,$AZ$25:$BD$25)>0)>0))=5,TRUE,""))} | AI15: {=IF(COUNTIF($Y$3:$AJ14,TRUE)>0,"",IF(SUM(--((CHOOSE({1,2,3,4,5},$AZ$21,$BA$22,$BB$23,$BC$24,$BD$25)="FREE")+(COUNTIF($J$3:$J15,CHOOSE({1,2,3,4,5},$AZ$21,$BA$22,$BB$23,$BC$24,$BD$25))>0)>0))=5,TRUE,""))} | AJ15: {=IF(COUNTIF($Y$3:$AJ14,TRUE)>0,"",IF(SUM(--((CHOOSE({1,2,3,4,5},$BD$21,$BC$22,$BB$23,$BA$24,$AZ$25)="FREE")+(COUNTIF($J$3:$J15,CHOOSE({1,2,3,4,5},$BD$21,$BC$22,$BB$23,$BA$24,$AZ$25))>0)>0))=5,TRUE,""))} | AK15: {=IF(COUNTIF($AK$3:$AV14,TRUE)>0,"",IF(SUM(--((AZ$35:AZ$39="FREE")+(COUNTIF($J$3:$J15,AZ$35:AZ$39)>0)>0))=5,TRUE,""))} | AL15: {=IF(COUNTIF($AK$3:$AV14,TRUE)>0,"",IF(SUM(--((BA$35:BA$39="FREE")+(COUNTIF($J$3:$J15,BA$35:BA$39)>0)>0))=5,TRUE,""))} | AM15: {=IF(COUNTIF($AK$3:$AV14,TRUE)>0,"",IF(SUM(--((BB$35:BB$39="FREE")+(COUNTIF($J$3:$J15,BB$35:BB$39)>0)>0))=5,TRUE,""))} | AN15: {=IF(COUNTIF($AK$3:$AV14,TRUE)>0,"",IF(SUM(--((BC$35:BC$39="FREE")+(COUNTIF($J$3:$J15,BC$35:BC$39)>0)>0))=5,TRUE,""))} | AO15: {=IF(COUNTIF($AK$3:$AV14,TRUE)>0,"",IF(SUM(--((BD$35:BD$39="FREE")+(COUNTIF($J$3:$J15,BD$35:BD$39)>0)>0))=5,TRUE,""))} | AP15: {=IF(COUNTIF($AK$3:$AV14,TRUE)>0,"",IF(SUM(--(($AZ$35:$BD$35="FREE")+(COUNTIF($J$3:$J15,$AZ$35:$BD$35)>0)>0))=5,TRUE,""))} | AQ15: {=IF(COUNTIF($AK$3:$AV14,TRUE)>0,"",IF(SUM(--(($AZ$36:$BD$36="FREE")+(COUNTIF($J$3:$J15,$AZ$36:$BD$36)>0)>0))=5,TRUE,""))} | AR15: {=IF(COUNTIF($AK$3:$AV14,TRUE)>0,"",IF(SUM(--(($AZ$37:$BD$37="FREE")+(COUNTIF($J$3:$J15,$AZ$37:$BD$37)>0)>0))=5,TRUE,""))} | AS15: {=IF(COUNTIF($AK$3:$AV14,TRUE)>0,"",IF(SUM(--(($AZ$38:$BD$38="FREE")+(COUNTIF($J$3:$J15,$AZ$38:$BD$38)>0)>0))=5,TRUE,""))} | AT15: {=IF(COUNTIF($AK$3:$AV14,TRUE)>0,"",IF(SUM(--(($AZ$39:$BD$39="FREE")+(COUNTIF($J$3:$J15,$AZ$39:$BD$39)>0)>0))=5,TRUE,""))} | AU15: {=IF(COUNTIF($AK$3:$AV14,TRUE)>0,"",IF(SUM(--((CHOOSE({1,2,3,4,5},$AZ$35,$BA$36,$BB$37,$BC$38,$BD$39)="FREE")+(COUNTIF($J$3:$J15,CHOOSE({1,2,3,4,5},$AZ$35,$BA$36,$BB$37,$BC$38,$BD$39))>0)>0))=5,TRUE,""))} | AV15: {=IF(COUNTIF($AK$3:$AV14,TRUE)>0,"",IF(SUM(--((CHOOSE({1,2,3,4,5},$BD$35,$BC$36,$BB$37,$BA$38,$AZ$39)="FREE")+(COUNTIF($J$3:$J15,CHOOSE({1,2,3,4,5},$BD$35,$BC$36,$BB$37,$BA$38,$AZ$39))>0)>0))=5,TRUE,""))} | BG15: TopRightBottomLeft | BH15: BLUE HAIR BINGO | BI15: =AY12 -> 0 | BJ15: =_xlfn.IFNA(IF(_xlfn.XLOOKUP($A$1&"-"&A15,#REF!,#REF!)="D","D",""),"") -> #REF! | BK15: =IF(BL15="DP","Duplicate Bonus",IF(BJ15="","",_xlfn.IFNA(_xlfn.XLOOKUP($A$1&"-"&A15,#REF!,#REF!),""))) -> Duplicate Bonus | BL15: =IF(AND(C15<>"",E15=""),"DP","") -> DP | BM15: =IF(OR(BJ15="D",BL15="DP"),"D","") -> #REF! | BN15: =IF(BM15="","","D"&COUNTIF($BM$3:BM15,"D")) -> #REF!
A16: 14 | B16: =ScoreHelper!C27 -> 0 | C16: =IF(B16="","",B16) -> 0 | D16: =A16 -> 14 | E16: =IF(C16="","",IF(COUNTIF($C$3:C16,C16)>1,"",C16)) | F16: 14 | G16: =_xlfn.IFNA(_xlfn.XLOOKUP(F16,$D$3:$D$50,$E$3:$E$50),"") | H16: =IF(G16="","",COUNTIF($G$3:G16,"?*")) | I16: 14 | J16: =_xlfn.IFNA(_xlfn.XLOOKUP(I16,$H$3:$H$54,$G$3:$G$54),"") | K16: =IF(J16="","",_xlfn.IFNA(_xlfn.XLOOKUP(J16,$E$3:$E$54,$D$3:$D$54),"")) | L16: =IF(J16="","",_xlfn.IFNA(_xlfn.XLOOKUP(J16,Bonuses!$A$3:$A$54,Bonuses!$H$3:$H$54),"")) | M16: {=IF(COUNTIF($M$3:$X15,TRUE)>0,"",IF(SUM(--((AZ$7:AZ$11="FREE")+(COUNTIF($J$3:$J16,AZ$7:AZ$11)>0)>0))=5,TRUE,""))} | N16: {=IF(COUNTIF($M$3:$X15,TRUE)>0,"",IF(SUM(--((BA$7:BA$11="FREE")+(COUNTIF($J$3:$J16,BA$7:BA$11)>0)>0))=5,TRUE,""))} | O16: {=IF(COUNTIF($M$3:$X15,TRUE)>0,"",IF(SUM(--((BB$7:BB$11="FREE")+(COUNTIF($J$3:$J16,BB$7:BB$11)>0)>0))=5,TRUE,""))} | P16: {=IF(COUNTIF($M$3:$X15,TRUE)>0,"",IF(SUM(--((BC$7:BC$11="FREE")+(COUNTIF($J$3:$J16,BC$7:BC$11)>0)>0))=5,TRUE,""))} | Q16: {=IF(COUNTIF($M$3:$X15,TRUE)>0,"",IF(SUM(--((BD$7:BD$11="FREE")+(COUNTIF($J$3:$J16,BD$7:BD$11)>0)>0))=5,TRUE,""))} | R16: {=IF(COUNTIF($M$3:$X15,TRUE)>0,"",IF(SUM(--(($AZ$7:$BD$7="FREE")+(COUNTIF($J$3:$J16,$AZ$7:$BD$7)>0)>0))=5,TRUE,""))} | S16: {=IF(COUNTIF($M$3:$X15,TRUE)>0,"",IF(SUM(--(($AZ$8:$BD$8="FREE")+(COUNTIF($J$3:$J16,$AZ$8:$BD$8)>0)>0))=5,TRUE,""))} | T16: {=IF(COUNTIF($M$3:$X15,TRUE)>0,"",IF(SUM(--(($AZ$9:$BD$9="FREE")+(COUNTIF($J$3:$J16,$AZ$9:$BD$9)>0)>0))=5,TRUE,""))} | U16: {=IF(COUNTIF($M$3:$X15,TRUE)>0,"",IF(SUM(--(($AZ$10:$BD$10="FREE")+(COUNTIF($J$3:$J16,$AZ$10:$BD$10)>0)>0))=5,TRUE,""))} | V16: {=IF(COUNTIF($M$3:$X15,TRUE)>0,"",IF(SUM(--(($AZ$11:$BD$11="FREE")+(COUNTIF($J$3:$J16,$AZ$11:$BD$11)>0)>0))=5,TRUE,""))} | W16: {=IF(COUNTIF($M$3:$X15,TRUE)>0,"",IF(SUM(--((CHOOSE({1,2,3,4,5},$AZ$7,$BA$8,$BB$9,$BC$10,$BD$11)="FREE")+(COUNTIF($J$3:$J16,CHOOSE({1,2,3,4,5},$AZ$7,$BA$8,$BB$9,$BC$10,$BD$11))>0)>0))=5,TRUE,""))} | X16: {=IF(COUNTIF($M$3:$X15,TRUE)>0,"",IF(SUM(--((CHOOSE({1,2,3,4,5},$BD$7,$BC$8,$BB$9,$BA$10,$AZ$11)="FREE")+(COUNTIF($J$3:$J16,CHOOSE({1,2,3,4,5},$BD$7,$BC$8,$BB$9,$BA$10,$AZ$11))>0)>0))=5,TRUE,""))} | Y16: {=IF(COUNTIF($Y$3:$AJ15,TRUE)>0,"",IF(SUM(--((AZ$21:AZ$25="FREE")+(COUNTIF($J$3:$J16,AZ$21:AZ$25)>0)>0))=5,TRUE,""))} | Z16: {=IF(COUNTIF($Y$3:$AJ15,TRUE)>0,"",IF(SUM(--((BA$21:BA$25="FREE")+(COUNTIF($J$3:$J16,BA$21:BA$25)>0)>0))=5,TRUE,""))} | AA16: {=IF(COUNTIF($Y$3:$AJ15,TRUE)>0,"",IF(SUM(--((BB$21:BB$25="FREE")+(COUNTIF($J$3:$J16,BB$21:BB$25)>0)>0))=5,TRUE,""))} | AB16: {=IF(COUNTIF($Y$3:$AJ15,TRUE)>0,"",IF(SUM(--((BC$21:BC$25="FREE")+(COUNTIF($J$3:$J16,BC$21:BC$25)>0)>0))=5,TRUE,""))} | AC16: {=IF(COUNTIF($Y$3:$AJ15,TRUE)>0,"",IF(SUM(--((BD$21:BD$25="FREE")+(COUNTIF($J$3:$J16,BD$21:BD$25)>0)>0))=5,TRUE,""))} | AD16: {=IF(COUNTIF($Y$3:$AJ15,TRUE)>0,"",IF(SUM(--(($AZ$21:$BD$21="FREE")+(COUNTIF($J$3:$J16,$AZ$21:$BD$21)>0)>0))=5,TRUE,""))} | AE16: {=IF(COUNTIF($Y$3:$AJ15,TRUE)>0,"",IF(SUM(--(($AZ$22:$BD$22="FREE")+(COUNTIF($J$3:$J16,$AZ$22:$BD$22)>0)>0))=5,TRUE,""))} | AF16: {=IF(COUNTIF($Y$3:$AJ15,TRUE)>0,"",IF(SUM(--(($AZ$23:$BD$23="FREE")+(COUNTIF($J$3:$J16,$AZ$23:$BD$23)>0)>0))=5,TRUE,""))} | AG16: {=IF(COUNTIF($Y$3:$AJ15,TRUE)>0,"",IF(SUM(--(($AZ$24:$BD$24="FREE")+(COUNTIF($J$3:$J16,$AZ$24:$BD$24)>0)>0))=5,TRUE,""))} | AH16: {=IF(COUNTIF($Y$3:$AJ15,TRUE)>0,"",IF(SUM(--(($AZ$25:$BD$25="FREE")+(COUNTIF($J$3:$J16,$AZ$25:$BD$25)>0)>0))=5,TRUE,""))} | AI16: {=IF(COUNTIF($Y$3:$AJ15,TRUE)>0,"",IF(SUM(--((CHOOSE({1,2,3,4,5},$AZ$21,$BA$22,$BB$23,$BC$24,$BD$25)="FREE")+(COUNTIF($J$3:$J16,CHOOSE({1,2,3,4,5},$AZ$21,$BA$22,$BB$23,$BC$24,$BD$25))>0)>0))=5,TRUE,""))} | AJ16: {=IF(COUNTIF($Y$3:$AJ15,TRUE)>0,"",IF(SUM(--((CHOOSE({1,2,3,4,5},$BD$21,$BC$22,$BB$23,$BA$24,$AZ$25)="FREE")+(COUNTIF($J$3:$J16,CHOOSE({1,2,3,4,5},$BD$21,$BC$22,$BB$23,$BA$24,$AZ$25))>0)>0))=5,TRUE,""))} | AK16: {=IF(COUNTIF($AK$3:$AV15,TRUE)>0,"",IF(SUM(--((AZ$35:AZ$39="FREE")+(COUNTIF($J$3:$J16,AZ$35:AZ$39)>0)>0))=5,TRUE,""))} | AL16: {=IF(COUNTIF($AK$3:$AV15,TRUE)>0,"",IF(SUM(--((BA$35:BA$39="FREE")+(COUNTIF($J$3:$J16,BA$35:BA$39)>0)>0))=5,TRUE,""))} | AM16: {=IF(COUNTIF($AK$3:$AV15,TRUE)>0,"",IF(SUM(--((BB$35:BB$39="FREE")+(COUNTIF($J$3:$J16,BB$35:BB$39)>0)>0))=5,TRUE,""))} | AN16: {=IF(COUNTIF($AK$3:$AV15,TRUE)>0,"",IF(SUM(--((BC$35:BC$39="FREE")+(COUNTIF($J$3:$J16,BC$35:BC$39)>0)>0))=5,TRUE,""))} | AO16: {=IF(COUNTIF($AK$3:$AV15,TRUE)>0,"",IF(SUM(--((BD$35:BD$39="FREE")+(COUNTIF($J$3:$J16,BD$35:BD$39)>0)>0))=5,TRUE,""))} | AP16: {=IF(COUNTIF($AK$3:$AV15,TRUE)>0,"",IF(SUM(--(($AZ$35:$BD$35="FREE")+(COUNTIF($J$3:$J16,$AZ$35:$BD$35)>0)>0))=5,TRUE,""))} | AQ16: {=IF(COUNTIF($AK$3:$AV15,TRUE)>0,"",IF(SUM(--(($AZ$36:$BD$36="FREE")+(COUNTIF($J$3:$J16,$AZ$36:$BD$36)>0)>0))=5,TRUE,""))} | AR16: {=IF(COUNTIF($AK$3:$AV15,TRUE)>0,"",IF(SUM(--(($AZ$37:$BD$37="FREE")+(COUNTIF($J$3:$J16,$AZ$37:$BD$37)>0)>0))=5,TRUE,""))} | AS16: {=IF(COUNTIF($AK$3:$AV15,TRUE)>0,"",IF(SUM(--(($AZ$38:$BD$38="FREE")+(COUNTIF($J$3:$J16,$AZ$38:$BD$38)>0)>0))=5,TRUE,""))} | AT16: {=IF(COUNTIF($AK$3:$AV15,TRUE)>0,"",IF(SUM(--(($AZ$39:$BD$39="FREE")+(COUNTIF($J$3:$J16,$AZ$39:$BD$39)>0)>0))=5,TRUE,""))} | AU16: {=IF(COUNTIF($AK$3:$AV15,TRUE)>0,"",IF(SUM(--((CHOOSE({1,2,3,4,5},$AZ$35,$BA$36,$BB$37,$BC$38,$BD$39)="FREE")+(COUNTIF($J$3:$J16,CHOOSE({1,2,3,4,5},$AZ$35,$BA$36,$BB$37,$BC$38,$BD$39))>0)>0))=5,TRUE,""))} | AV16: {=IF(COUNTIF($AK$3:$AV15,TRUE)>0,"",IF(SUM(--((CHOOSE({1,2,3,4,5},$BD$35,$BC$36,$BB$37,$BA$38,$AZ$39)="FREE")+(COUNTIF($J$3:$J16,CHOOSE({1,2,3,4,5},$BD$35,$BC$36,$BB$37,$BA$38,$AZ$39))>0)>0))=5,TRUE,""))} | AZ16: DAUB OR DIE | BC16: =IF(COUNTIF(Y1:AJ1,"X")=1,BC18,0) -> 0 | BJ16: =_xlfn.IFNA(IF(_xlfn.XLOOKUP($A$1&"-"&A16,#REF!,#REF!)="D","D",""),"") -> #REF! | BK16: =IF(BL16="DP","Duplicate Bonus",IF(BJ16="","",_xlfn.IFNA(_xlfn.XLOOKUP($A$1&"-"&A16,#REF!,#REF!),""))) -> Duplicate Bonus | BL16: =IF(AND(C16<>"",E16=""),"DP","") -> DP | BM16: =IF(OR(BJ16="D",BL16="DP"),"D","") -> #REF! | BN16: =IF(BM16="","","D"&COUNTIF($BM$3:BM16,"D")) -> #REF!
A17: 15 | B17: =ScoreHelper!C28 -> 0 | C17: =IF(B17="","",B17) -> 0 | D17: =A17 -> 15 | E17: =IF(C17="","",IF(COUNTIF($C$3:C17,C17)>1,"",C17)) | F17: 15 | G17: =_xlfn.IFNA(_xlfn.XLOOKUP(F17,$D$3:$D$50,$E$3:$E$50),"") | H17: =IF(G17="","",COUNTIF($G$3:G17,"?*")) | I17: 15 | J17: =_xlfn.IFNA(_xlfn.XLOOKUP(I17,$H$3:$H$54,$G$3:$G$54),"") | K17: =IF(J17="","",_xlfn.IFNA(_xlfn.XLOOKUP(J17,$E$3:$E$54,$D$3:$D$54),"")) | L17: =IF(J17="","",_xlfn.IFNA(_xlfn.XLOOKUP(J17,Bonuses!$A$3:$A$54,Bonuses!$H$3:$H$54),"")) | M17: {=IF(COUNTIF($M$3:$X16,TRUE)>0,"",IF(SUM(--((AZ$7:AZ$11="FREE")+(COUNTIF($J$3:$J17,AZ$7:AZ$11)>0)>0))=5,TRUE,""))} | N17: {=IF(COUNTIF($M$3:$X16,TRUE)>0,"",IF(SUM(--((BA$7:BA$11="FREE")+(COUNTIF($J$3:$J17,BA$7:BA$11)>0)>0))=5,TRUE,""))} | O17: {=IF(COUNTIF($M$3:$X16,TRUE)>0,"",IF(SUM(--((BB$7:BB$11="FREE")+(COUNTIF($J$3:$J17,BB$7:BB$11)>0)>0))=5,TRUE,""))} | P17: {=IF(COUNTIF($M$3:$X16,TRUE)>0,"",IF(SUM(--((BC$7:BC$11="FREE")+(COUNTIF($J$3:$J17,BC$7:BC$11)>0)>0))=5,TRUE,""))} | Q17: {=IF(COUNTIF($M$3:$X16,TRUE)>0,"",IF(SUM(--((BD$7:BD$11="FREE")+(COUNTIF($J$3:$J17,BD$7:BD$11)>0)>0))=5,TRUE,""))} | R17: {=IF(COUNTIF($M$3:$X16,TRUE)>0,"",IF(SUM(--(($AZ$7:$BD$7="FREE")+(COUNTIF($J$3:$J17,$AZ$7:$BD$7)>0)>0))=5,TRUE,""))} | S17: {=IF(COUNTIF($M$3:$X16,TRUE)>0,"",IF(SUM(--(($AZ$8:$BD$8="FREE")+(COUNTIF($J$3:$J17,$AZ$8:$BD$8)>0)>0))=5,TRUE,""))} | T17: {=IF(COUNTIF($M$3:$X16,TRUE)>0,"",IF(SUM(--(($AZ$9:$BD$9="FREE")+(COUNTIF($J$3:$J17,$AZ$9:$BD$9)>0)>0))=5,TRUE,""))} | U17: {=IF(COUNTIF($M$3:$X16,TRUE)>0,"",IF(SUM(--(($AZ$10:$BD$10="FREE")+(COUNTIF($J$3:$J17,$AZ$10:$BD$10)>0)>0))=5,TRUE,""))} | V17: {=IF(COUNTIF($M$3:$X16,TRUE)>0,"",IF(SUM(--(($AZ$11:$BD$11="FREE")+(COUNTIF($J$3:$J17,$AZ$11:$BD$11)>0)>0))=5,TRUE,""))} | W17: {=IF(COUNTIF($M$3:$X16,TRUE)>0,"",IF(SUM(--((CHOOSE({1,2,3,4,5},$AZ$7,$BA$8,$BB$9,$BC$10,$BD$11)="FREE")+(COUNTIF($J$3:$J17,CHOOSE({1,2,3,4,5},$AZ$7,$BA$8,$BB$9,$BC$10,$BD$11))>0)>0))=5,TRUE,""))} | X17: {=IF(COUNTIF($M$3:$X16,TRUE)>0,"",IF(SUM(--((CHOOSE({1,2,3,4,5},$BD$7,$BC$8,$BB$9,$BA$10,$AZ$11)="FREE")+(COUNTIF($J$3:$J17,CHOOSE({1,2,3,4,5},$BD$7,$BC$8,$BB$9,$BA$10,$AZ$11))>0)>0))=5,TRUE,""))} | Y17: {=IF(COUNTIF($Y$3:$AJ16,TRUE)>0,"",IF(SUM(--((AZ$21:AZ$25="FREE")+(COUNTIF($J$3:$J17,AZ$21:AZ$25)>0)>0))=5,TRUE,""))} | Z17: {=IF(COUNTIF($Y$3:$AJ16,TRUE)>0,"",IF(SUM(--((BA$21:BA$25="FREE")+(COUNTIF($J$3:$J17,BA$21:BA$25)>0)>0))=5,TRUE,""))} | AA17: {=IF(COUNTIF($Y$3:$AJ16,TRUE)>0,"",IF(SUM(--((BB$21:BB$25="FREE")+(COUNTIF($J$3:$J17,BB$21:BB$25)>0)>0))=5,TRUE,""))} | AB17: {=IF(COUNTIF($Y$3:$AJ16,TRUE)>0,"",IF(SUM(--((BC$21:BC$25="FREE")+(COUNTIF($J$3:$J17,BC$21:BC$25)>0)>0))=5,TRUE,""))} | AC17: {=IF(COUNTIF($Y$3:$AJ16,TRUE)>0,"",IF(SUM(--((BD$21:BD$25="FREE")+(COUNTIF($J$3:$J17,BD$21:BD$25)>0)>0))=5,TRUE,""))} | AD17: {=IF(COUNTIF($Y$3:$AJ16,TRUE)>0,"",IF(SUM(--(($AZ$21:$BD$21="FREE")+(COUNTIF($J$3:$J17,$AZ$21:$BD$21)>0)>0))=5,TRUE,""))} | AE17: {=IF(COUNTIF($Y$3:$AJ16,TRUE)>0,"",IF(SUM(--(($AZ$22:$BD$22="FREE")+(COUNTIF($J$3:$J17,$AZ$22:$BD$22)>0)>0))=5,TRUE,""))} | AF17: {=IF(COUNTIF($Y$3:$AJ16,TRUE)>0,"",IF(SUM(--(($AZ$23:$BD$23="FREE")+(COUNTIF($J$3:$J17,$AZ$23:$BD$23)>0)>0))=5,TRUE,""))} | AG17: {=IF(COUNTIF($Y$3:$AJ16,TRUE)>0,"",IF(SUM(--(($AZ$24:$BD$24="FREE")+(COUNTIF($J$3:$J17,$AZ$24:$BD$24)>0)>0))=5,TRUE,""))} | AH17: {=IF(COUNTIF($Y$3:$AJ16,TRUE)>0,"",IF(SUM(--(($AZ$25:$BD$25="FREE")+(COUNTIF($J$3:$J17,$AZ$25:$BD$25)>0)>0))=5,TRUE,""))} | AI17: {=IF(COUNTIF($Y$3:$AJ16,TRUE)>0,"",IF(SUM(--((CHOOSE({1,2,3,4,5},$AZ$21,$BA$22,$BB$23,$BC$24,$BD$25)="FREE")+(COUNTIF($J$3:$J17,CHOOSE({1,2,3,4,5},$AZ$21,$BA$22,$BB$23,$BC$24,$BD$25))>0)>0))=5,TRUE,""))} | AJ17: {=IF(COUNTIF($Y$3:$AJ16,TRUE)>0,"",IF(SUM(--((CHOOSE({1,2,3,4,5},$BD$21,$BC$22,$BB$23,$BA$24,$AZ$25)="FREE")+(COUNTIF($J$3:$J17,CHOOSE({1,2,3,4,5},$BD$21,$BC$22,$BB$23,$BA$24,$AZ$25))>0)>0))=5,TRUE,""))} | AK17: {=IF(COUNTIF($AK$3:$AV16,TRUE)>0,"",IF(SUM(--((AZ$35:AZ$39="FREE")+(COUNTIF($J$3:$J17,AZ$35:AZ$39)>0)>0))=5,TRUE,""))} | AL17: {=IF(COUNTIF($AK$3:$AV16,TRUE)>0,"",IF(SUM(--((BA$35:BA$39="FREE")+(COUNTIF($J$3:$J17,BA$35:BA$39)>0)>0))=5,TRUE,""))} | AM17: {=IF(COUNTIF($AK$3:$AV16,TRUE)>0,"",IF(SUM(--((BB$35:BB$39="FREE")+(COUNTIF($J$3:$J17,BB$35:BB$39)>0)>0))=5,TRUE,""))} | AN17: {=IF(COUNTIF($AK$3:$AV16,TRUE)>0,"",IF(SUM(--((BC$35:BC$39="FREE")+(COUNTIF($J$3:$J17,BC$35:BC$39)>0)>0))=5,TRUE,""))} | AO17: {=IF(COUNTIF($AK$3:$AV16,TRUE)>0,"",IF(SUM(--((BD$35:BD$39="FREE")+(COUNTIF($J$3:$J17,BD$35:BD$39)>0)>0))=5,TRUE,""))} | AP17: {=IF(COUNTIF($AK$3:$AV16,TRUE)>0,"",IF(SUM(--(($AZ$35:$BD$35="FREE")+(COUNTIF($J$3:$J17,$AZ$35:$BD$35)>0)>0))=5,TRUE,""))} | AQ17: {=IF(COUNTIF($AK$3:$AV16,TRUE)>0,"",IF(SUM(--(($AZ$36:$BD$36="FREE")+(COUNTIF($J$3:$J17,$AZ$36:$BD$36)>0)>0))=5,TRUE,""))} | AR17: {=IF(COUNTIF($AK$3:$AV16,TRUE)>0,"",IF(SUM(--(($AZ$37:$BD$37="FREE")+(COUNTIF($J$3:$J17,$AZ$37:$BD$37)>0)>0))=5,TRUE,""))} | AS17: {=IF(COUNTIF($AK$3:$AV16,TRUE)>0,"",IF(SUM(--(($AZ$38:$BD$38="FREE")+(COUNTIF($J$3:$J17,$AZ$38:$BD$38)>0)>0))=5,TRUE,""))} | AT17: {=IF(COUNTIF($AK$3:$AV16,TRUE)>0,"",IF(SUM(--(($AZ$39:$BD$39="FREE")+(COUNTIF($J$3:$J17,$AZ$39:$BD$39)>0)>0))=5,TRUE,""))} | AU17: {=IF(COUNTIF($AK$3:$AV16,TRUE)>0,"",IF(SUM(--((CHOOSE({1,2,3,4,5},$AZ$35,$BA$36,$BB$37,$BC$38,$BD$39)="FREE")+(COUNTIF($J$3:$J17,CHOOSE({1,2,3,4,5},$AZ$35,$BA$36,$BB$37,$BC$38,$BD$39))>0)>0))=5,TRUE,""))} | AV17: {=IF(COUNTIF($AK$3:$AV16,TRUE)>0,"",IF(SUM(--((CHOOSE({1,2,3,4,5},$BD$35,$BC$36,$BB$37,$BA$38,$AZ$39)="FREE")+(COUNTIF($J$3:$J17,CHOOSE({1,2,3,4,5},$BD$35,$BC$36,$BB$37,$BA$38,$AZ$39))>0)>0))=5,TRUE,""))} | BJ17: =_xlfn.IFNA(IF(_xlfn.XLOOKUP($A$1&"-"&A17,#REF!,#REF!)="D","D",""),"") -> #REF! | BK17: =IF(BL17="DP","Duplicate Bonus",IF(BJ17="","",_xlfn.IFNA(_xlfn.XLOOKUP($A$1&"-"&A17,#REF!,#REF!),""))) -> Duplicate Bonus | BL17: =IF(AND(C17<>"",E17=""),"DP","") -> DP | BM17: =IF(OR(BJ17="D",BL17="DP"),"D","") -> #REF! | BN17: =IF(BM17="","","D"&COUNTIF($BM$3:BM17,"D")) -> #REF!
A18: 16 | B18: =ScoreHelper!C29 -> 0 | C18: =IF(B18="","",B18) -> 0 | D18: =A18 -> 16 | E18: =IF(C18="","",IF(COUNTIF($C$3:C18,C18)>1,"",C18)) | F18: 16 | G18: =_xlfn.IFNA(_xlfn.XLOOKUP(F18,$D$3:$D$50,$E$3:$E$50),"") | H18: =IF(G18="","",COUNTIF($G$3:G18,"?*")) | I18: 16 | J18: =_xlfn.IFNA(_xlfn.XLOOKUP(I18,$H$3:$H$54,$G$3:$G$54),"") | K18: =IF(J18="","",_xlfn.IFNA(_xlfn.XLOOKUP(J18,$E$3:$E$54,$D$3:$D$54),"")) | L18: =IF(J18="","",_xlfn.IFNA(_xlfn.XLOOKUP(J18,Bonuses!$A$3:$A$54,Bonuses!$H$3:$H$54),"")) | M18: {=IF(COUNTIF($M$3:$X17,TRUE)>0,"",IF(SUM(--((AZ$7:AZ$11="FREE")+(COUNTIF($J$3:$J18,AZ$7:AZ$11)>0)>0))=5,TRUE,""))} | N18: {=IF(COUNTIF($M$3:$X17,TRUE)>0,"",IF(SUM(--((BA$7:BA$11="FREE")+(COUNTIF($J$3:$J18,BA$7:BA$11)>0)>0))=5,TRUE,""))} | O18: {=IF(COUNTIF($M$3:$X17,TRUE)>0,"",IF(SUM(--((BB$7:BB$11="FREE")+(COUNTIF($J$3:$J18,BB$7:BB$11)>0)>0))=5,TRUE,""))} | P18: {=IF(COUNTIF($M$3:$X17,TRUE)>0,"",IF(SUM(--((BC$7:BC$11="FREE")+(COUNTIF($J$3:$J18,BC$7:BC$11)>0)>0))=5,TRUE,""))} | Q18: {=IF(COUNTIF($M$3:$X17,TRUE)>0,"",IF(SUM(--((BD$7:BD$11="FREE")+(COUNTIF($J$3:$J18,BD$7:BD$11)>0)>0))=5,TRUE,""))} | R18: {=IF(COUNTIF($M$3:$X17,TRUE)>0,"",IF(SUM(--(($AZ$7:$BD$7="FREE")+(COUNTIF($J$3:$J18,$AZ$7:$BD$7)>0)>0))=5,TRUE,""))} | S18: {=IF(COUNTIF($M$3:$X17,TRUE)>0,"",IF(SUM(--(($AZ$8:$BD$8="FREE")+(COUNTIF($J$3:$J18,$AZ$8:$BD$8)>0)>0))=5,TRUE,""))} | T18: {=IF(COUNTIF($M$3:$X17,TRUE)>0,"",IF(SUM(--(($AZ$9:$BD$9="FREE")+(COUNTIF($J$3:$J18,$AZ$9:$BD$9)>0)>0))=5,TRUE,""))} | U18: {=IF(COUNTIF($M$3:$X17,TRUE)>0,"",IF(SUM(--(($AZ$10:$BD$10="FREE")+(COUNTIF($J$3:$J18,$AZ$10:$BD$10)>0)>0))=5,TRUE,""))} | V18: {=IF(COUNTIF($M$3:$X17,TRUE)>0,"",IF(SUM(--(($AZ$11:$BD$11="FREE")+(COUNTIF($J$3:$J18,$AZ$11:$BD$11)>0)>0))=5,TRUE,""))} | W18: {=IF(COUNTIF($M$3:$X17,TRUE)>0,"",IF(SUM(--((CHOOSE({1,2,3,4,5},$AZ$7,$BA$8,$BB$9,$BC$10,$BD$11)="FREE")+(COUNTIF($J$3:$J18,CHOOSE({1,2,3,4,5},$AZ$7,$BA$8,$BB$9,$BC$10,$BD$11))>0)>0))=5,TRUE,""))} | X18: {=IF(COUNTIF($M$3:$X17,TRUE)>0,"",IF(SUM(--((CHOOSE({1,2,3,4,5},$BD$7,$BC$8,$BB$9,$BA$10,$AZ$11)="FREE")+(COUNTIF($J$3:$J18,CHOOSE({1,2,3,4,5},$BD$7,$BC$8,$BB$9,$BA$10,$AZ$11))>0)>0))=5,TRUE,""))} | Y18: {=IF(COUNTIF($Y$3:$AJ17,TRUE)>0,"",IF(SUM(--((AZ$21:AZ$25="FREE")+(COUNTIF($J$3:$J18,AZ$21:AZ$25)>0)>0))=5,TRUE,""))} | Z18: {=IF(COUNTIF($Y$3:$AJ17,TRUE)>0,"",IF(SUM(--((BA$21:BA$25="FREE")+(COUNTIF($J$3:$J18,BA$21:BA$25)>0)>0))=5,TRUE,""))} | AA18: {=IF(COUNTIF($Y$3:$AJ17,TRUE)>0,"",IF(SUM(--((BB$21:BB$25="FREE")+(COUNTIF($J$3:$J18,BB$21:BB$25)>0)>0))=5,TRUE,""))} | AB18: {=IF(COUNTIF($Y$3:$AJ17,TRUE)>0,"",IF(SUM(--((BC$21:BC$25="FREE")+(COUNTIF($J$3:$J18,BC$21:BC$25)>0)>0))=5,TRUE,""))} | AC18: {=IF(COUNTIF($Y$3:$AJ17,TRUE)>0,"",IF(SUM(--((BD$21:BD$25="FREE")+(COUNTIF($J$3:$J18,BD$21:BD$25)>0)>0))=5,TRUE,""))} | AD18: {=IF(COUNTIF($Y$3:$AJ17,TRUE)>0,"",IF(SUM(--(($AZ$21:$BD$21="FREE")+(COUNTIF($J$3:$J18,$AZ$21:$BD$21)>0)>0))=5,TRUE,""))} | AE18: {=IF(COUNTIF($Y$3:$AJ17,TRUE)>0,"",IF(SUM(--(($AZ$22:$BD$22="FREE")+(COUNTIF($J$3:$J18,$AZ$22:$BD$22)>0)>0))=5,TRUE,""))} | AF18: {=IF(COUNTIF($Y$3:$AJ17,TRUE)>0,"",IF(SUM(--(($AZ$23:$BD$23="FREE")+(COUNTIF($J$3:$J18,$AZ$23:$BD$23)>0)>0))=5,TRUE,""))} | AG18: {=IF(COUNTIF($Y$3:$AJ17,TRUE)>0,"",IF(SUM(--(($AZ$24:$BD$24="FREE")+(COUNTIF($J$3:$J18,$AZ$24:$BD$24)>0)>0))=5,TRUE,""))} | AH18: {=IF(COUNTIF($Y$3:$AJ17,TRUE)>0,"",IF(SUM(--(($AZ$25:$BD$25="FREE")+(COUNTIF($J$3:$J18,$AZ$25:$BD$25)>0)>0))=5,TRUE,""))} | AI18: {=IF(COUNTIF($Y$3:$AJ17,TRUE)>0,"",IF(SUM(--((CHOOSE({1,2,3,4,5},$AZ$21,$BA$22,$BB$23,$BC$24,$BD$25)="FREE")+(COUNTIF($J$3:$J18,CHOOSE({1,2,3,4,5},$AZ$21,$BA$22,$BB$23,$BC$24,$BD$25))>0)>0))=5,TRUE,""))} | AJ18: {=IF(COUNTIF($Y$3:$AJ17,TRUE)>0,"",IF(SUM(--((CHOOSE({1,2,3,4,5},$BD$21,$BC$22,$BB$23,$BA$24,$AZ$25)="FREE")+(COUNTIF($J$3:$J18,CHOOSE({1,2,3,4,5},$BD$21,$BC$22,$BB$23,$BA$24,$AZ$25))>0)>0))=5,TRUE,""))} | AK18: {=IF(COUNTIF($AK$3:$AV17,TRUE)>0,"",IF(SUM(--((AZ$35:AZ$39="FREE")+(COUNTIF($J$3:$J18,AZ$35:AZ$39)>0)>0))=5,TRUE,""))} | AL18: {=IF(COUNTIF($AK$3:$AV17,TRUE)>0,"",IF(SUM(--((BA$35:BA$39="FREE")+(COUNTIF($J$3:$J18,BA$35:BA$39)>0)>0))=5,TRUE,""))} | AM18: {=IF(COUNTIF($AK$3:$AV17,TRUE)>0,"",IF(SUM(--((BB$35:BB$39="FREE")+(COUNTIF($J$3:$J18,BB$35:BB$39)>0)>0))=5,TRUE,""))} | AN18: {=IF(COUNTIF($AK$3:$AV17,TRUE)>0,"",IF(SUM(--((BC$35:BC$39="FREE")+(COUNTIF($J$3:$J18,BC$35:BC$39)>0)>0))=5,TRUE,""))} | AO18: {=IF(COUNTIF($AK$3:$AV17,TRUE)>0,"",IF(SUM(--((BD$35:BD$39="FREE")+(COUNTIF($J$3:$J18,BD$35:BD$39)>0)>0))=5,TRUE,""))} | AP18: {=IF(COUNTIF($AK$3:$AV17,TRUE)>0,"",IF(SUM(--(($AZ$35:$BD$35="FREE")+(COUNTIF($J$3:$J18,$AZ$35:$BD$35)>0)>0))=5,TRUE,""))} | AQ18: {=IF(COUNTIF($AK$3:$AV17,TRUE)>0,"",IF(SUM(--(($AZ$36:$BD$36="FREE")+(COUNTIF($J$3:$J18,$AZ$36:$BD$36)>0)>0))=5,TRUE,""))} | AR18: {=IF(COUNTIF($AK$3:$AV17,TRUE)>0,"",IF(SUM(--(($AZ$37:$BD$37="FREE")+(COUNTIF($J$3:$J18,$AZ$37:$BD$37)>0)>0))=5,TRUE,""))} | AS18: {=IF(COUNTIF($AK$3:$AV17,TRUE)>0,"",IF(SUM(--(($AZ$38:$BD$38="FREE")+(COUNTIF($J$3:$J18,$AZ$38:$BD$38)>0)>0))=5,TRUE,""))} | AT18: {=IF(COUNTIF($AK$3:$AV17,TRUE)>0,"",IF(SUM(--(($AZ$39:$BD$39="FREE")+(COUNTIF($J$3:$J18,$AZ$39:$BD$39)>0)>0))=5,TRUE,""))} | AU18: {=IF(COUNTIF($AK$3:$AV17,TRUE)>0,"",IF(SUM(--((CHOOSE({1,2,3,4,5},$AZ$35,$BA$36,$BB$37,$BC$38,$BD$39)="FREE")+(COUNTIF($J$3:$J18,CHOOSE({1,2,3,4,5},$AZ$35,$BA$36,$BB$37,$BC$38,$BD$39))>0)>0))=5,TRUE,""))} | AV18: {=IF(COUNTIF($AK$3:$AV17,TRUE)>0,"",IF(SUM(--((CHOOSE({1,2,3,4,5},$BD$35,$BC$36,$BB$37,$BA$38,$AZ$39)="FREE")+(COUNTIF($J$3:$J18,CHOOSE({1,2,3,4,5},$BD$35,$BC$36,$BB$37,$BA$38,$AZ$39))>0)>0))=5,TRUE,""))} | AZ18: Complete any Bingo = 2,500 points | BC18: 2500 | BJ18: =_xlfn.IFNA(IF(_xlfn.XLOOKUP($A$1&"-"&A18,#REF!,#REF!)="D","D",""),"") -> #REF! | BK18: =IF(BL18="DP","Duplicate Bonus",IF(BJ18="","",_xlfn.IFNA(_xlfn.XLOOKUP($A$1&"-"&A18,#REF!,#REF!),""))) -> Duplicate Bonus | BL18: =IF(AND(C18<>"",E18=""),"DP","") -> DP | BM18: =IF(OR(BJ18="D",BL18="DP"),"D","") -> #REF! | BN18: =IF(BM18="","","D"&COUNTIF($BM$3:BM18,"D")) -> #REF!
