Workbook
Name Rally_ID: #REF!
Name RallyDropdown: #REF!
Name RallyDropdownNames: #REF!
Name Selected_Rally_Name: #REF!

Sheet Bonuses
A1: BONUS CODE | B1: BONUS NAME | C1: LATITUDE | D1: LONGITUDE | E1: ADDRESS | F1: CITY | G1: ST | H1: POINTS | I1: AVAILABILITY | J1: REQUIREMENT | M1: BLUE HAIR BINGO | W1: BonusCode | X1: BonusName | Y1: Availability | Z1: Requirement | AA1: BonusPic | AB1: BonusLat | AC1: BonusLong | AH1: Leg | AI1: J-List | AJ1: CATEGORY | AK1: POINTS | AL1: CloudinaryRefPic | AM1: CLOCK | AN1: TIMES | AO1: SCORING | AP1: SCORINGcopy | BR1: NAME | BS1: DESC | BT1: LATITUDE | BU1: LONGITUDE
A2: START | B2: Hilton Cincinatti Airport | C2: 39.013548 | D2: -84.633157 | E2: 7373 Turfway Rd | F2: Florence | G2: KY | U2: DB001 | W2: DB001 | X2: Christ Church Episcopal | Y2: anytime | Z2: Take a picture of the historical marker in front of the church. | AB2: 38.048866 | AC2: -84.496701 | AD2: =ROUND(AB2,6)&", "&ROUND(AC2,6) -> 38.048866, -84.496701 | AE2: 155 Market Street, Lexington, KY 40507 | AI2: 1 | AL2: https://res.cloudinary.com/lone-star-long-riders-heart-of-texas-rally/image/upload/v1785176128/Rally/Dartboard%202026/DB001_qowjbq.jpg | AR2: =W2 -> DB001 | AS2: =H3 -> 130 | AT2: =X2 -> Christ Church Episcopal | AU2: =Y2 -> anytime | AV2: =AE2 -> 155 Market Street, Lexington, KY 40507 | AW2: =AD2 -> 38.048866, -84.496701 | AX2: =Z2 -> Take a picture of the historical marker in front of the church. | BR2: =A3&" - "&H3 -> DB001 - 130 | BS2: =B3 -> Christ Church Episcopal | BT2: =C3 -> 38.048866 | BU2: =D3 -> -84.496701
A3: DB001 | B3: Christ Church Episcopal | C3: 38.048866 | D3: -84.496701 | E3: 155 Market Street, Lexington, KY 40507 | F3: Lexington-Fayette | G3: KY | H3: 130 | I3: anytime | J3: =Z2 -> Take a picture of the historical marker in front of the church. | M3: Complete any Bingo = 1,000 points | U3: DB012 | W3: DB002 | X3: Mother of God Roman Catholic Church | Y3: anytime | Z3: Take a picture of the historical marker in front of the church. | AB3: 39.084247 | AC3: -84.512653 | AD3: =ROUND(AB3,6)&", "&ROUND(AC3,6) -> 39.084247, -84.512653 | AE3: 119 West 6th Street, Covington, KY 41011 | AI3: 2 | AL3: https://res.cloudinary.com/lone-star-long-riders-heart-of-texas-rally/image/upload/v1785176128/Rally/Dartboard%202026/DB002_bluwji.jpg | AR3: =W3 -> DB002 | AS3: =H4 -> 225 | AT3: =X3 -> Mother of God Roman Catholic Church | AU3: =Y3 -> anytime | AV3: =AE3 -> 119 West 6th Street, Covington, KY 41011 | AW3: =AD3 -> 39.084247, -84.512653 | AX3: =Z3 -> Take a picture of the historical marker in front of the church. | BR3: =A4&" - "&H4 -> DB002 - 225 | BS3: =B4 -> Mother of God Roman Catholic Church | BT3: =C4 -> 39.084247 | BU3: =D4 -> -84.512653
A4: DB002 | B4: Mother of God Roman Catholic Church | C4: 39.084247 | D4: -84.512653 | E4: 119 West 6th Street, Covington, KY 41011 | F4: Covington | G4: KY | H4: 225 | I4: anytime | J4: =Z3 -> Take a picture of the historical marker in front of the church. | U4: DB003 | W4: DB003 | X4: Old Mulkey Meetinghouse State Historic Site | Y4: 9a-5p | Z4: Take a picture of the front of the old meeting house. | AB4: 36.677583 | AC4: -85.707503 | AD4: =ROUND(AB4,6)&", "&ROUND(AC4,6) -> 36.677583, -85.707503 | AE4: 38 Old Mulkey Park Road, Tompkinsville, KY 42167 | AI4: 3 | AL4: https://res.cloudinary.com/lone-star-long-riders-heart-of-texas-rally/image/upload/v1785176134/Rally/Dartboard%202026/DB003_ntiryf.jpg | AR4: =W4 -> DB003 | AS4: =H5 -> 353 | AT4: =X4 -> Old Mulkey Meetinghouse State Historic Site | AU4: =Y4 -> 9a-5p | AV4: =AE4 -> 38 Old Mulkey Park Road, Tompkinsville, KY 42167 | AW4: =AD4 -> 36.677583, -85.707503 | AX4: =Z4 -> Take a picture of the front of the old meeting house. | BR4: =A5&" - "&H5 -> DB003 - 353 | BS4: =B5 -> Old Mulkey Meetinghouse State Historic Site | BT4: =C5 -> 36.677583 | BU4: =D5 -> -85.707503
A5: DB003 | B5: Old Mulkey Meetinghouse State Historic Site | C5: 36.677583 | D5: -85.707503 | E5: 38 Old Mulkey Park Road, Tompkinsville, KY 42167 | F5: Tompkinsville | G5: KY | H5: 353 | I5: 9a-5p | J5: =Z4 -> Take a picture of the front of the old meeting house. | M5: B | N5: I | O5: N | P5: G | Q5: O | U5: DB014 | W5: DB004 | X5: Cane Ridge Meeting House | Y5: 9a-5p | Z5: Take a picture of the historical marker near the entrance. | AB5: 38.211248 | AC5: -84.118907 | AD5: =ROUND(AB5,6)&", "&ROUND(AC5,6) -> 38.211248, -84.118907 | AE5: 1655 Cane Ridge Road, Paris, KY 40361 | AI5: 4 | AL5: https://res.cloudinary.com/lone-star-long-riders-heart-of-texas-rally/image/upload/v1785176125/Rally/Dartboard%202026/DB004_mvcgdg.jpg | AR5: =W5 -> DB004 | AS5: =H6 -> 320 | AT5: =X5 -> Cane Ridge Meeting House | AU5: =Y5 -> 9a-5p | AV5: =AE5 -> 1655 Cane Ridge Road, Paris, KY 40361 | AW5: =AD5 -> 38.211248, -84.118907 | AX5: =Z5 -> Take a picture of the historical marker near the entrance. | BR5: =A6&" - "&H6 -> DB004 - 320 | BS5: =B6 -> Cane Ridge Meeting House | BT5: =C6 -> 38.211248 | BU5: =D6 -> -84.118907
A6: DB004 | B6: Cane Ridge Meeting House | C6: 38.211248 | D6: -84.118907 | E6: 1655 Cane Ridge Road, Paris, KY 40361 | F6: Paris | G6: KY | H6: 320 | I6: 9a-5p | J6: =Z5 -> Take a picture of the historical marker near the entrance. | M6: DB002 | N6: DB012 | O6: DB027 | P6: DB026 | Q6: DB030 | R6: {=IF(SUM(--((M6:Q6="FREE")+(COUNTIF($U$2:$U$100,M6:Q6)>0)>0))=5,1000,0)} -> 1000 | U6: DB005 | W6: DB005 | X6: Old Mud Meeting House | Y6: anytime | Z6: Take a picture of the marker for the old meeting house near the road. The entrance road is at an incline, so consider how you might stop and get the picture if you need to park and get off the bike. | AB6: 37.724783 | AC6: -84.862942 | AD6: =ROUND(AB6,6)&", "&ROUND(AC6,6) -> 37.724783, -84.862942 | AE6: 730 Dry Branch Road, Harrodsburg, KY 40330 | AI6: 5 | AL6: https://res.cloudinary.com/lone-star-long-riders-heart-of-texas-rally/image/upload/v1785176126/Rally/Dartboard%202026/DB005_lmjvue.jpg | AR6: =W6 -> DB005 | AS6: =H7 -> 425 | AT6: =X6 -> Old Mud Meeting House | AU6: =Y6 -> anytime | AV6: =AE6 -> 730 Dry Branch Road, Harrodsburg, KY 40330 | AW6: =AD6 -> 37.724783, -84.862942 | AX6: =Z6 -> Take a picture of the marker for the old meeting house near the road. The entrance road is at an incline, so consider how you might stop and get the picture if you need to park and get off the bike. | BR6: =A7&" - "&H7 -> DB005 - 425 | BS6: =B7 -> Old Mud Meeting House | BT6: =C7 -> 37.724783 | BU6: =D7 -> -84.862942
A7: DB005 | B7: Old Mud Meeting House | C7: 37.724783 | D7: -84.862942 | E7: 730 Dry Branch Road, Harrodsburg, KY 40330 | F7: Harrodsburg | G7: KY | H7: 425 | I7: anytime | J7: =Z6 -> Take a picture of the marker for the old meeting house near the road. The entrance road is at an incline, so consider how you might stop and get the picture if you need to park and get off the bike. | M7: DB042 | N7: DB050 | O7: DB051 | P7: DB043 | Q7: DB046 | R7: {=IF(SUM(--((M7:Q7="FREE")+(COUNTIF($U$2:$U$100,M7:Q7)>0)>0))=5,1000,0)} -> 1000 | U7: DB016 | W7: DB006 | X7: Stony Point Baptist Church | Y7: anytime | Z7: Take a picture of the front of the old church. This is a back road but still a road. You may want to take the picture on your bike if possible as there does not appear to be any good parking areas. | AB7: 37.668137 | AC7: -84.724405 | AD7: =ROUND(AB7,6)&", "&ROUND(AC7,6) -> 37.668137, -84.724405 | AE7: 51 Stony Point Road, Danville, KY 40422 | AI7: 6 | AL7: https://res.cloudinary.com/lone-star-long-riders-heart-of-texas-rally/image/upload/v1785176126/Rally/Dartboard%202026/DB006_eruj9i.jpg | AR7: =W7 -> DB006 | AS7: =H8 -> 255 | AT7: =X7 -> Stony Point Baptist Church | AU7: =Y7 -> anytime | AV7: =AE7 -> 51 Stony Point Road, Danville, KY 40422 | AW7: =AD7 -> 37.668137, -84.724405 | AX7: =Z7 -> Take a picture of the front of the old church. This is a back road but still a road. You may want to take the picture on your bike if possible as there does not appear to be any good parking areas. | BR7: =A8&" - "&H8 -> DB006 - 255 | BS7: =B8 -> Stony Point Baptist Church | BT7: =C8 -> 37.668137 | BU7: =D8 -> -84.724405
A8: DB006 | B8: Stony Point Baptist Church | C8: 37.668137 | D8: -84.724405 | E8: 51 Stony Point Road, Danville, KY 40422 | F8: Danville | G8: KY | H8: 255 | I8: anytime | J8: =Z7 -> Take a picture of the front of the old church. This is a back road but still a road. You may want to take the picture on your bike if possible as there does not appear to be any good parking areas. | M8: DB028 | N8: DB015 | O8: FREE | P8: DB031 | Q8: DB032 | R8: {=IF(SUM(--((M8:Q8="FREE")+(COUNTIF($U$2:$U$100,M8:Q8)>0)>0))=5,1000,0)} -> 0 | U8: DB007 | W8: DB007 | X8: Abners Mill Fellowship Chapel | Y8: Daylight Only | Z8: Take a picture of the front of the chapel and the well house. | AB8: 38.396599 | AC8: -83.951877 | AD8: =ROUND(AB8,6)&", "&ROUND(AC8,6) -> 38.396599, -83.951877 | AE8: 2350 Abners Mill Road, Ewing, KY 41039 | AI8: 7 | AL8: https://res.cloudinary.com/lone-star-long-riders-heart-of-texas-rally/image/upload/v1785176127/Rally/Dartboard%202026/DB007_lcx2h4.jpg | AR8: =W8 -> DB007 | AS8: =H9 -> 75 | AT8: =X8 -> Abners Mill Fellowship Chapel | AU8: =Y8 -> Daylight Only | AV8: =AE8 -> 2350 Abners Mill Road, Ewing, KY 41039 | AW8: =AD8 -> 38.396599, -83.951877 | AX8: =Z8 -> Take a picture of the front of the chapel and the well house. | BR8: =A9&" - "&H9 -> DB007 - 75 | BS8: =B9 -> Abners Mill Fellowship Chapel | BT8: =C9 -> 38.396599 | BU8: =D9 -> -83.951877
A9: DB007 | B9: Abners Mill Fellowship Chapel | C9: 38.396599 | D9: -83.951877 | E9: 2350 Abners Mill Road, Ewing, KY 41039 | F9: Ewing | G9: KY | H9: 75 | I9: Daylight Only | J9: =Z8 -> Take a picture of the front of the chapel and the well house. | M9: DB001 | N9: DB004 | O9: DB029 | P9: DB005 | Q9: DB006 | R9: {=IF(SUM(--((M9:Q9="FREE")+(COUNTIF($U$2:$U$100,M9:Q9)>0)>0))=5,1000,0)} -> 0 | U9: DB018 | W9: DB008 | X9: Buckhorn Log Cathedral | Y9: Daylight Only | Z9: Take a picture of the side of the church as in the picture. | AB9: 37.347658 | AC9: -83.47593 | AD9: =ROUND(AB9,6)&", "&ROUND(AC9,6) -> 37.347658, -83.47593 | AE9: 300 Buckhorn Lane, Buckhorn, KY 41721 | AI9: 8 | AL9: https://res.cloudinary.com/lone-star-long-riders-heart-of-texas-rally/image/upload/v1785176127/Rally/Dartboard%202026/DB008_kugq7h.jpg | AR9: =W9 -> DB008 | AS9: =H10 -> 225 | AT9: =X9 -> Buckhorn Log Cathedral | AU9: =Y9 -> Daylight Only | AV9: =AE9 -> 300 Buckhorn Lane, Buckhorn, KY 41721 | AW9: =AD9 -> 37.347658, -83.47593 | AX9: =Z9 -> Take a picture of the side of the church as in the picture. | BR9: =A10&" - "&H10 -> DB008 - 225 | BS9: =B10 -> Buckhorn Log Cathedral | BT9: =C10 -> 37.347658 | BU9: =D10 -> -83.47593
A10: DB008 | B10: Buckhorn Log Cathedral | C10: 37.347658 | D10: -83.47593 | E10: 300 Buckhorn Lane, Buckhorn, KY 41721 | F10: Buckhorn | G10: KY | H10: 225 | I10: Daylight Only | J10: =Z9 -> Take a picture of the side of the church as in the picture. | M10: DB017 | N10: DB018 | O10: DB025 | P10: DB016 | Q10: DB019 | R10: {=IF(SUM(--((M10:Q10="FREE")+(COUNTIF($U$2:$U$100,M10:Q10)>0)>0))=5,1000,0)} -> 0 | U10: DB009 | W10: DB009 | X10: Log Courthouse | Y10: 9a-5p | Z10: Take a picture of the historical marker for the log courthouse with the building behind it. | AB10: 37.645014 | AC10: -84.770232 | AD10: =ROUND(AB10,6)&", "&ROUND(AC10,6) -> 37.645014, -84.770232 | AE10: 105 East Walnut Street, Danville, KY 40422 | AI10: 9 | AL10: https://res.cloudinary.com/lone-star-long-riders-heart-of-texas-rally/image/upload/v1785176132/Rally/Dartboard%202026/DB009_ebed43.jpg | AR10: =W10 -> DB009 | AS10: =H11 -> 70 | AT10: =X10 -> Log Courthouse | AU10: =Y10 -> 9a-5p | AV10: =AE10 -> 105 East Walnut Street, Danville, KY 40422 | AW10: =AD10 -> 37.645014, -84.770232 | AX10: =Z10 -> Take a picture of the historical marker for the log courthouse with the building behind it. | BR10: =A11&" - "&H11 -> DB009 - 70 | BS10: =B11 -> Log Courthouse | BT10: =C11 -> 37.645014 | BU10: =D11 -> -84.770232
A11: DB009 | B11: Log Courthouse | C11: 37.645014 | D11: -84.770232 | E11: 105 East Walnut Street, Danville, KY 40422 | F11: Danville | G11: KY | H11: 70 | I11: 9a-5p | J11: =Z10 -> Take a picture of the historical marker for the log courthouse with the building behind it. | L11: {=IF(SUM(--((CHOOSE({1,2,3,4,5},Q6,P7,O8,N9,M10)="FREE")+(COUNTIF($U$2:$U$100,CHOOSE({1,2,3,4,5},Q6,P7,O8,N9,M10))>0)>0))=5,1000,0)} -> 0 | M11: {=IF(SUM(--((M6:M10="FREE")+(COUNTIF($U$2:$U$100,M6:M10)>0)>0))=5,1000,0)} -> 0 | N11: {=IF(SUM(--((N6:N10="FREE")+(COUNTIF($U$2:$U$100,N6:N10)>0)>0))=5,1000,0)} -> 0 | O11: {=IF(SUM(--((O6:O10="FREE")+(COUNTIF($U$2:$U$100,O6:O10)>0)>0))=5,1000,0)} -> 1000 | P11: {=IF(SUM(--((P6:P10="FREE")+(COUNTIF($U$2:$U$100,P6:P10)>0)>0))=5,1000,0)} -> 1000 | Q11: {=IF(SUM(--((Q6:Q10="FREE")+(COUNTIF($U$2:$U$100,Q6:Q10)>0)>0))=5,1000,0)} -> 0 | R11: {=IF(SUM(--((CHOOSE({1,2,3,4,5},M6,N7,O8,P9,Q10)="FREE")+(COUNTIF($U$2:$U$100,CHOOSE({1,2,3,4,5},M6,N7,O8,P9,Q10))>0)>0))=5,1000,0)} -> 1000 | U11: DB020 | W11: DB010 | X11: Hebron Church | Y11: anytime | Z11: Take a picture of the sign for the church cemetery. | AB11: 37.963304 | AC11: -84.875165 | AD11: =ROUND(AB11,6)&", "&ROUND(AC11,6) -> 37.963304, -84.875165 | AE11: 127 McCalls Spring Road, Lawrenceburg, KY 40342 | AI11: 10 | AL11: https://res.cloudinary.com/lone-star-long-riders-heart-of-texas-rally/image/upload/v1785176128/Rally/Dartboard%202026/DB010_ryrnwx.jpg | AR11: =W11 -> DB010 | AS11: =H12 -> 70 | AT11: =X11 -> Hebron Church | AU11: =Y11 -> anytime | AV11: =AE11 -> 127 McCalls Spring Road, Lawrenceburg, KY 40342 | AW11: =AD11 -> 37.963304, -84.875165 | AX11: =Z11 -> Take a picture of the sign for the church cemetery. | BR11: =A12&" - "&H12 -> DB010 - 70 | BS11: =B12 -> Hebron Church | BT11: =C12 -> 37.963304 | BU11: =D12 -> -84.875165
A12: DB010 | B12: Hebron Church | C12: 37.963304 | D12: -84.875165 | E12: 127 McCalls Spring Road, Lawrenceburg, KY 40342 | F12: Lawrenceburg | G12: KY | H12: 70 | I12: anytime | J12: =Z11 -> Take a picture of the sign for the church cemetery. | M12: Theme: Local/Northern Kentucky and easy regional routes. | U12: DB011 | W12: DB011 | X12: St Jerome Catholic Church | Y12: anytime | Z12: Take a picture of the church sign. | AB12: 36.799438 | AC12: -88.791126 | AD12: =ROUND(AB12,6)&", "&ROUND(AC12,6) -> 36.799438, -88.791126 | AE12: 20 State Route 339 North, Fancy Farm, KY 42039 | AI12: 11 | AL12: https://res.cloudinary.com/lone-star-long-riders-heart-of-texas-rally/image/upload/v1785176129/Rally/Dartboard%202026/DB011_hmodiw.jpg | AR12: =W12 -> DB011 | AS12: =H13 -> 750 | AT12: =X12 -> St Jerome Catholic Church | AU12: =Y12 -> anytime | AV12: =AE12 -> 20 State Route 339 North, Fancy Farm, KY 42039 | AW12: =AD12 -> 36.799438, -88.791126 | AX12: =Z12 -> Take a picture of the church sign. | BR12: =A13&" - "&H13 -> DB011 - 750 | BS12: =B13 -> St Jerome Catholic Church | BT12: =C13 -> 36.799438 | BU12: =D13 -> -88.791126
A13: DB011 | B13: St Jerome Catholic Church | C13: 36.799438 | D13: -88.791126 | E13: 20 State Route 339 North, Fancy Farm, KY 42039 | F13: Fancy Farm | G13: KY | H13: 750 | I13: anytime | J13: =Z12 -> Take a picture of the church sign. | U13: DB022 | W13: DB012 | X13: St Joseph Church | Y13: anytime | Z13: Take a picture of the grotto. | AB13: 38.994316 | AC13: -84.361802 | AD13: =ROUND(AB13,6)&", "&ROUND(AC13,6) -> 38.994316, -84.361802 | AE13: Camp Springs Loop, Melbourne, KY 41059 | AI13: 12 | AL13: https://res.cloudinary.com/lone-star-long-riders-heart-of-texas-rally/image/upload/v1785176129/Rally/Dartboard%202026/DB012_opcvb4.jpg | AR13: =W13 -> DB012 | AS13: =H14 -> 35 | AT13: =X13 -> St Joseph Church | AU13: =Y13 -> anytime | AV13: =AE13 -> Camp Springs Loop, Melbourne, KY 41059 | AW13: =AD13 -> 38.994316, -84.361802 | AX13: =Z13 -> Take a picture of the grotto. | BR13: =A14&" - "&H14 -> DB012 - 35 | BS13: =B14 -> St Joseph Church | BT13: =C14 -> 38.994316 | BU13: =D14 -> -84.361802
A14: DB012 | B14: St Joseph Church | C14: 38.994316 | D14: -84.361802 | E14: Camp Springs Loop, Melbourne, KY 41059 | F14: Melbourne | G14: KY | H14: 35 | I14: anytime | J14: =Z13 -> Take a picture of the grotto. | U14: DB013 | W14: DB013 | X14: Old Log Church | Y14: anytime | Z14: Take a picture of the old church with your motorcycle in the picture. | AB14: 37.160273 | AC14: -86.554771 | AD14: =ROUND(AB14,6)&", "&ROUND(AC14,6) -> 37.160273, -86.554771 | AE14: 8657 Richardsville Road, Bowling Green, KY 42101 | AI14: 13 | AL14: https://res.cloudinary.com/lone-star-long-riders-heart-of-texas-rally/image/upload/v1785176130/Rally/Dartboard%202026/DB013_ozeys6.jpg | AR14: =W14 -> DB013 | AS14: =H15 -> 750 | AT14: =X14 -> Old Log Church | AU14: =Y14 -> anytime | AV14: =AE14 -> 8657 Richardsville Road, Bowling Green, KY 42101 | AW14: =AD14 -> 37.160273, -86.554771 | AX14: =Z14 -> Take a picture of the old church with your motorcycle in the picture. | BR14: =A15&" - "&H15 -> DB013 - 750 | BS14: =B15 -> Old Log Church | BT14: =C15 -> 37.160273 | BU14: =D15 -> -86.554771
A15: DB013 | B15: Old Log Church | C15: 37.160273 | D15: -86.554771 | E15: 8657 Richardsville Road, Bowling Green, KY 42101 | F15: Bowling Green | G15: KY | H15: 750 | I15: anytime | J15: =Z14 -> Take a picture of the old church with your motorcycle in the picture. | M15: DAUB OR DIE | U15: DB029 | W15: DB014 | X15: Bethabara Baptist Church | Y15: anytime | Z15: Take a picture of the historical marker for the church with the church in the background. | AB15: 37.69745 | AC15: -86.996308 | AD15: =ROUND(AB15,6)&", "&ROUND(AC15,6) -> 37.69745, -86.996308 | AE15: 6314 State Route 762, Philpot, KY 42366 | AI15: 14 | AL15: https://res.cloudinary.com/lone-star-long-riders-heart-of-texas-rally/image/upload/v1785176130/Rally/Dartboard%202026/DB014_eiaw32.jpg | AR15: =W15 -> DB014 | AS15: =H16 -> 255 | AT15: =X15 -> Bethabara Baptist Church | AU15: =Y15 -> anytime | AV15: =AE15 -> 6314 State Route 762, Philpot, KY 42366 | AW15: =AD15 -> 37.69745, -86.996308 | AX15: =Z15 -> Take a picture of the historical marker for the church with the church in the background. | BR15: =A16&" - "&H16 -> DB014 - 255 | BS15: =B16 -> Bethabara Baptist Church | BT15: =C16 -> 37.69745 | BU15: =D16 -> -86.996308
A16: DB014 | B16: Bethabara Baptist Church | C16: 37.69745 | D16: -86.996308 | E16: 6314 State Route 762, Philpot, KY 42366 | F16: Philpot | G16: KY | H16: 255 | I16: anytime | J16: =Z15 -> Take a picture of the historical marker for the church with the church in the background. | U16: DB030 | W16: DB015 | X16: White Sulphur Baptist Church | Y16: anytime | Z16: Take a picture of the church. | AB16: 38.206626 | AC16: -84.703486 | AD16: =ROUND(AB16,6)&", "&ROUND(AC16,6) -> 38.206626, -84.703486 | AE16: 5300 Iron Works Road, Georgetown, KY 40324 | AI16: 15 | AL16: https://res.cloudinary.com/lone-star-long-riders-heart-of-texas-rally/image/upload/v1785176130/Rally/Dartboard%202026/DB015_va6thq.jpg | AR16: =W16 -> DB015 | AS16: =H17 -> 465 | AT16: =X16 -> White Sulphur Baptist Church | AU16: =Y16 -> anytime | AV16: =AE16 -> 5300 Iron Works Road, Georgetown, KY 40324 | AW16: =AD16 -> 38.206626, -84.703486 | AX16: =Z16 -> Take a picture of the church. | BR16: =A17&" - "&H17 -> DB015 - 465 | BS16: =B17 -> White Sulphur Baptist Church | BT16: =C17 -> 38.206626 | BU16: =D17 -> -84.703486
A17: DB015 | B17: White Sulphur Baptist Church | C17: 38.206626 | D17: -84.703486 | E17: 5300 Iron Works Road, Georgetown, KY 40324 | F17: Georgetown | G17: KY | H17: 465 | I17: anytime | J17: =Z16 -> Take a picture of the church. | M17: Complete any Bingo = 2,500 points | U17: DB031 | W17: DB016 | X17: White Oak Church | Y17: anytime | Z17: Take a picture of the front of the church. | AB17: 38.833537 | AC17: -83.354536 | AD17: =ROUND(AB17,6)&", "&ROUND(AC17,6) -> 38.833537, -83.354536 | AE17: 558 White Oak Road, Blue Creek, OH 45616 | AI17: 16 | AL17: https://res.cloudinary.com/lone-star-long-riders-heart-of-texas-rally/image/upload/v1785176130/Rally/Dartboard%202026/DB016_meiboc.jpg | AR17: =W17 -> DB016 | AS17: =H18 -> 110 | AT17: =X17 -> White Oak Church | AU17: =Y17 -> anytime | AV17: =AE17 -> 558 White Oak Road, Blue Creek, OH 45616 | AW17: =AD17 -> 38.833537, -83.354536 | AX17: =Z17 -> Take a picture of the front of the church. | BR17: =A18&" - "&H18 -> DB016 - 110 | BS17: =B18 -> White Oak Church | BT17: =C18 -> 38.833537 | BU17: =D18 -> -83.354536
A18: DB016 | B18: White Oak Church | C18: 38.833537 | D18: -83.354536 | E18: 558 White Oak Road, Blue Creek, OH 45616 | F18: Blue Creek | G18: OH | H18: 110 | I18: anytime | J18: =Z17 -> Take a picture of the front of the church. | U18: DB032 | W18: DB017 | X18: Ripley First Presbyterian Church | Y18: anytime | Z18: Take a picture of the front of the church. | AB18: 38.748637 | AC18: -83.846171 | AD18: =ROUND(AB18,6)&", "&ROUND(AC18,6) -> 38.748637, -83.846171 | AE18: 114 Mulberry Street, Ripley, OH 45167 | AI18: 17 | AL18: https://res.cloudinary.com/lone-star-long-riders-heart-of-texas-rally/image/upload/v1785176130/Rally/Dartboard%202026/DB017_cxh0ya.jpg | AR18: =W18 -> DB017 | AS18: =H19 -> 200 | AT18: =X18 -> Ripley First Presbyterian Church | AU18: =Y18 -> anytime | AV18: =AE18 -> 114 Mulberry Street, Ripley, OH 45167 | AW18: =AD18 -> 38.748637, -83.846171 | AX18: =Z18 -> Take a picture of the front of the church. | BR18: =A19&" - "&H19 -> DB017 - 200 | BS18: =B19 -> Ripley First Presbyterian Church | BT18: =C19 -> 38.748637 | BU18: =D19 -> -83.846171
A19: DB017 | B19: Ripley First Presbyterian Church | C19: 38.748637 | D19: -83.846171 | E19: 114 Mulberry Street, Ripley, OH 45167 | F19: Ripley | G19: OH | H19: 200 | I19: anytime | J19: =Z18 -> Take a picture of the front of the church. | M19: B | N19: I | O19: N | P19: G | Q19: O | U19: DB033 | W19: DB018 | X19: John Rankin House | Y19: anytime | Z19: Take a picture of the sign for the Rankin House located at the path from the parking lot to the house. | AB19: 38.75064 | AC19: -83.843202 | AD19: =ROUND(AB19,6)&", "&ROUND(AC19,6) -> 38.75064, -83.843202 | AE19: 406 Rankin Hill Road, Ripley, OH 45167 | AI19: 18 | AL19: https://res.cloudinary.com/lone-star-long-riders-heart-of-texas-rally/image/upload/v1785176134/Rally/Dartboard%202026/DB018_o4riwn.jpg | AR19: =W19 -> DB018 | AS19: =H20 -> 195 | AT19: =X19 -> John Rankin House | AU19: =Y19 -> anytime | AV19: =AE19 -> 406 Rankin Hill Road, Ripley, OH 45167 | AW19: =AD19 -> 38.75064, -83.843202 | AX19: =Z19 -> Take a picture of the sign for the Rankin House located at the path from the parking lot to the house. | BR19: =A20&" - "&H20 -> DB018 - 195 | BS19: =B20 -> John Rankin House | BT19: =C20 -> 38.75064 | BU19: =D20 -> -83.843202
A20: DB018 | B20: John Rankin House | C20: 38.75064 | D20: -83.843202 | E20: 406 Rankin Hill Road, Ripley, OH 45167 | F20: Ripley | G20: OH | H20: 195 | I20: anytime | J20: =Z19 -> Take a picture of the sign for the Rankin House located at the path from the parking lot to the house. | M20: DB017 | N20: DB029 | O20: DB033 | P20: DB039 | Q20: DB041 | R20: {=IF(SUM(--((M20:Q20="FREE")+(COUNTIF($U$2:$U$100,M20:Q20)>0)>0))=5,1000,0)} -> 0 | U20: DB034 | W20: DB019 | X20: Phillip Moore Stone House | Y20: anytime | Z20: Take a picture of the sign for the Phillip Moore Stone House. | AB20: 38.743912 | AC20: -83.033121 | AD20: =ROUND(AB20,6)&", "&ROUND(AC20,6) -> 38.743912, -83.033121 | AE20: 470 State Route 239, West Portsmouth, OH 45663 | AI20: 19 | AL20: https://res.cloudinary.com/lone-star-long-riders-heart-of-texas-rally/image/upload/v1785176133/Rally/Dartboard%202026/DB019_alnibu.jpg | AR20: =W20 -> DB019 | AS20: =H21 -> 410 | AT20: =X20 -> Phillip Moore Stone House | AU20: =Y20 -> anytime | AV20: =AE20 -> 470 State Route 239, West Portsmouth, OH 45663 | AW20: =AD20 -> 38.743912, -83.033121 | AX20: =Z20 -> Take a picture of the sign for the Phillip Moore Stone House. | BR20: =A21&" - "&H21 -> DB019 - 410 | BS20: =B21 -> Phillip Moore Stone House | BT20: =C21 -> 38.743912 | BU20: =D21 -> -83.033121
A21: DB019 | B21: Phillip Moore Stone House | C21: 38.743912 | D21: -83.033121 | E21: 470 State Route 239, West Portsmouth, OH 45663 | F21: Washington | G21: OH | H21: 410 | I21: anytime | J21: =Z20 -> Take a picture of the sign for the Phillip Moore Stone House. | M21: DB020 | N21: DB037 | O21: DB023 | P21: DB044 | Q21: DB045 | R21: {=IF(SUM(--((M21:Q21="FREE")+(COUNTIF($U$2:$U$100,M21:Q21)>0)>0))=5,1000,0)} -> 1000 | U21: DB035 | W21: DB020 | X21: Clifty Chapel | Y21: anytime | Z21: Take a picture of the small sign which reads "Old Clifty Church." | AB21: 38.976627 | AC21: -86.761033 | AD21: =ROUND(AB21,6)&", "&ROUND(AC21,6) -> 38.976627, -86.761033 | AE21: 3088 South Old Clifty Road, Bloomfield, IN 47424 | AI21: 20 | AL21: https://res.cloudinary.com/lone-star-long-riders-heart-of-texas-rally/image/upload/v1785176144/Rally/Dartboard%202026/DB020_uboect.jpg | AR21: =W21 -> DB020 | AS21: =H22 -> 115 | AT21: =X21 -> Clifty Chapel | AU21: =Y21 -> anytime | AV21: =AE21 -> 3088 South Old Clifty Road, Bloomfield, IN 47424 | AW21: =AD21 -> 38.976627, -86.761033 | AX21: =Z21 -> Take a picture of the small sign which reads "Old Clifty Church." | BR21: =A22&" - "&H22 -> DB020 - 115 | BS21: =B22 -> Clifty Chapel | BT21: =C22 -> 38.976627 | BU21: =D22 -> -86.761033
A22: DB020 | B22: Clifty Chapel | C22: 38.976627 | D22: -86.761033 | E22: 3088 South Old Clifty Road, Bloomfield, IN 47424 | F22: Jackson | G22: IN | H22: 115 | I22: anytime | J22: =Z21 -> Take a picture of the small sign which reads "Old Clifty Church." | M22: DB021 | N22: DB022 | O22: FREE | P22: DB024 | Q22: DB046 | R22: {=IF(SUM(--((M22:Q22="FREE")+(COUNTIF($U$2:$U$100,M22:Q22)>0)>0))=5,1000,0)} -> 1000 | U22: DB036 | W22: DB021 | X22: St Mary of the Rock | Y22: anytime | Z22: Take a picture of the front of the church. | AB22: 39.347791 | AC22: -85.108525 | AD22: =ROUND(AB22,6)&", "&ROUND(AC22,6) -> 39.347791, -85.108525 | AE22: 17440 Saint Marys Road, Batesville, IN 47006 | AI22: 21 | AL22: https://res.cloudinary.com/lone-star-long-riders-heart-of-texas-rally/image/upload/v1785176132/Rally/Dartboard%202026/DB021_o92gak.jpg | AR22: =W22 -> DB021 | AS22: =H23 -> 70 | AT22: =X22 -> St Mary of the Rock | AU22: =Y22 -> anytime | AV22: =AE22 -> 17440 Saint Marys Road, Batesville, IN 47006 | AW22: =AD22 -> 39.347791, -85.108525 | AX22: =Z22 -> Take a picture of the front of the church. | BR22: =A23&" - "&H23 -> DB021 - 70 | BS22: =B23 -> St Mary of the Rock | BT22: =C23 -> 39.347791 | BU22: =D23 -> -85.108525
A23: DB021 | B23: St Mary of the Rock | C23: 39.347791 | D23: -85.108525 | E23: 17440 Saint Marys Road, Batesville, IN 47006 | F23: Butler | G23: IN | H23: 70 | I23: anytime | J23: =Z22 -> Take a picture of the front of the church. | M23: DB031 | N23: DB007 | O23: DB032 | P23: DB035 | Q23: DB008 | R23: {=IF(SUM(--((M23:Q23="FREE")+(COUNTIF($U$2:$U$100,M23:Q23)>0)>0))=5,1000,0)} -> 0 | U23: DB037 | W23: DB022 | X23: Little Cedar Grove Church | Y23: anytime | Z23: Take a picture of the front of the old church along with its historical marker. | AB23: 39.387262 | AC23: -84.981479 | AD23: =ROUND(AB23,6)&", "&ROUND(AC23,6) -> 39.387262, -84.981479 | AE23: 6102 Little Cedar Road, Brookville, IN 47012 | AI23: 22 | AL23: https://res.cloudinary.com/lone-star-long-riders-heart-of-texas-rally/image/upload/v1785176133/Rally/Dartboard%202026/DB022_oin06m.jpg | AR23: =W23 -> DB022 | AS23: =H24 -> 65 | AT23: =X23 -> Little Cedar Grove Church | AU23: =Y23 -> anytime | AV23: =AE23 -> 6102 Little Cedar Road, Brookville, IN 47012 | AW23: =AD23 -> 39.387262, -84.981479 | AX23: =Z23 -> Take a picture of the front of the old church along with its historical marker. | BR23: =A24&" - "&H24 -> DB022 - 65 | BS23: =B24 -> Little Cedar Grove Church | BT23: =C24 -> 39.387262 | BU23: =D24 -> -84.981479
A24: DB022 | B24: Little Cedar Grove Church | C24: 39.387262 | D24: -84.981479 | E24: 6102 Little Cedar Road, Brookville, IN 47012 | F24: Brookville | G24: IN | H24: 65 | I24: anytime | J24: =Z23 -> Take a picture of the front of the old church along with its historical marker. | M24: DB050 | N24: DB051 | O24: DB043 | P24: DB042 | Q24: DB030 | R24: {=IF(SUM(--((M24:Q24="FREE")+(COUNTIF($U$2:$U$100,M24:Q24)>0)>0))=5,1000,0)} -> 1000 | U24: DB038 | W24: DB023 | X24: Fredonia Baptist Church | Y24: anytime | Z24: Take a picture of the church. | AB24: 38.798783 | AC24: -85.006752 | AD24: =ROUND(AB24,6)&", "&ROUND(AC24,6) -> 38.798783, -85.006752 | AE24: 7831 Tapps Ridge Road, Vevay, IN 47043 | AI24: 23 | AL24: https://res.cloudinary.com/lone-star-long-riders-heart-of-texas-rally/image/upload/v1785176134/Rally/Dartboard%202026/DB023_dehylo.jpg | AR24: =W24 -> DB023 | AS24: =H25 -> 65 | AT24: =X24 -> Fredonia Baptist Church | AU24: =Y24 -> anytime | AV24: =AE24 -> 7831 Tapps Ridge Road, Vevay, IN 47043 | AW24: =AD24 -> 38.798783, -85.006752 | AX24: =Z24 -> Take a picture of the church. | BR24: =A25&" - "&H25 -> DB023 - 65 | BS24: =B25 -> Fredonia Baptist Church | BT24: =C25 -> 38.798783 | BU24: =D25 -> -85.006752
A25: DB023 | B25: Fredonia Baptist Church | C25: 38.798783 | D25: -85.006752 | E25: 7831 Tapps Ridge Road, Vevay, IN 47043 | F25: Jefferson | G25: IN | H25: 65 | I25: anytime | J25: =Z24 -> Take a picture of the church. | L25: {=IF(SUM(--((CHOOSE({1,2,3,4,5},Q20,P21,O22,N23,M24)="FREE")+(COUNTIF($U$2:$U$100,CHOOSE({1,2,3,4,5},Q20,P21,O22,N23,M24))>0)>0))=5,1000,0)} -> 1000 | M25: {=IF(SUM(--((M20:M24="FREE")+(COUNTIF($U$2:$U$100,M20:M24)>0)>0))=5,1000,0)} -> 0 | N25: {=IF(SUM(--((N20:N24="FREE")+(COUNTIF($U$2:$U$100,N20:N24)>0)>0))=5,1000,0)} -> 1000 | O25: {=IF(SUM(--((O20:O24="FREE")+(COUNTIF($U$2:$U$100,O20:O24)>0)>0))=5,1000,0)} -> 1000 | P25: {=IF(SUM(--((P20:P24="FREE")+(COUNTIF($U$2:$U$100,P20:P24)>0)>0))=5,1000,0)} -> 1000 | Q25: {=IF(SUM(--((Q20:Q24="FREE")+(COUNTIF($U$2:$U$100,Q20:Q24)>0)>0))=5,1000,0)} -> 0 | R25: {=IF(SUM(--((CHOOSE({1,2,3,4,5},M20,N21,O22,P23,Q24)="FREE")+(COUNTIF($U$2:$U$100,CHOOSE({1,2,3,4,5},M20,N21,O22,P23,Q24))>0)>0))=5,1000,0)} -> 0 | U25: DB039 | W25: DB024 | X25: Olive Branch Church | Y25: anytime | Z25: Take a picture of the front of the church. | AB25: 38.905474 | AC25: -85.077083 | AD25: =ROUND(AB25,6)&", "&ROUND(AC25,6) -> 38.905474, -85.077083 | AE25: 2370 Milton Bear Branch Road, Dillsboro, IN 47018 | AI25: 24 | AL25: https://res.cloudinary.com/lone-star-long-riders-heart-of-texas-rally/image/upload/v1785176134/Rally/Dartboard%202026/DB024_xzd77e.jpg | AR25: =W25 -> DB024 | AS25: =H26 -> 70 | AT25: =X25 -> Olive Branch Church | AU25: =Y25 -> anytime | AV25: =AE25 -> 2370 Milton Bear Branch Road, Dillsboro, IN 47018 | AW25: =AD25 -> 38.905474, -85.077083 | AX25: =Z25 -> Take a picture of the front of the church. | BR25: =A26&" - "&H26 -> DB024 - 70 | BS25: =B26 -> Olive Branch Church | BT25: =C26 -> 38.905474 | BU25: =D26 -> -85.077083
A26: DB024 | B26: Olive Branch Church | C26: 38.905474 | D26: -85.077083 | E26: 2370 Milton Bear Branch Road, Dillsboro, IN 47018 | F26: Pike | G26: IN | H26: 70 | I26: anytime | J26: =Z25 -> Take a picture of the front of the church. | M26: Theme: Multi-region travel with several routes that intentionally cross the Ohio River or head toward central Kentucky. | U26: DB040 | W26: DB025 | X26: Marble Furnace Church of the Brethren Memorial | Y26: anytime | Z26: Take a picture of the historical marker for the church which no longer stands here. | AB26: 38.974908 | AC26: -83.431522 | AD26: =ROUND(AB26,6)&", "&ROUND(AC26,6) -> 38.974908, -83.431522 | AE26: 6713 Louisville Road, Peebles, OH 45660 | AI26: 25 | AL26: https://res.cloudinary.com/lone-star-long-riders-heart-of-texas-rally/image/upload/v1785176134/Rally/Dartboard%202026/DB025_qtogpi.jpg | AR26: =W26 -> DB025 | AS26: =H27 -> 75 | AT26: =X26 -> Marble Furnace Church of the Brethren Memorial | AU26: =Y26 -> anytime | AV26: =AE26 -> 6713 Louisville Road, Peebles, OH 45660 | AW26: =AD26 -> 38.974908, -83.431522 | AX26: =Z26 -> Take a picture of the historical marker for the church which no longer stands here. | BR26: =A27&" - "&H27 -> DB025 - 75 | BS26: =B27 -> Marble Furnace Church of the Brethren Memorial | BT26: =C27 -> 38.974908 | BU26: =D27 -> -83.431522
A27: DB025 | B27: Marble Furnace Church of the Brethren Memorial | C27: 38.974908 | D27: -83.431522 | E27: 6713 Louisville Road, Peebles, OH 45660 | F27: Bratton | G27: OH | H27: 75 | I27: anytime | J27: =Z26 -> Take a picture of the historical marker for the church which no longer stands here. | U27: DB041 | W27: DB026 | X27: Bullitsburg Baptist Church | Y27: anytime | Z27: Take a picture of the historical marker for the church. | AB27: 39.090062 | AC27: -84.787853 | AD27: =ROUND(AB27,6)&", "&ROUND(AC27,6) -> 39.090062, -84.787853 | AE27: 2616 Bullittsburg Church Road, Petersburg, KY 41080 | AI27: 26 | AL27: https://res.cloudinary.com/lone-star-long-riders-heart-of-texas-rally/image/upload/v1785176137/Rally/Dartboard%202026/DB026_xyzu3z.jpg | AR27: =W27 -> DB026 | AS27: =H28 -> 30 | AT27: =X27 -> Bullitsburg Baptist Church | AU27: =Y27 -> anytime | AV27: =AE27 -> 2616 Bullittsburg Church Road, Petersburg, KY 41080 | AW27: =AD27 -> 39.090062, -84.787853 | AX27: =Z27 -> Take a picture of the historical marker for the church. | BR27: =A28&" - "&H28 -> DB026 - 30 | BS27: =B28 -> Bullitsburg Baptist Church | BT27: =C28 -> 39.090062 | BU27: =D28 -> -84.787853
A28: DB026 | B28: Bullitsburg Baptist Church | C28: 39.090062 | D28: -84.787853 | E28: 2616 Bullittsburg Church Road, Petersburg, KY 41080 | F28: Petersburg | G28: KY | H28: 30 | I28: anytime | J28: =Z27 -> Take a picture of the historical marker for the church. | U28: DB042 | W28: DB027 | X28: St. John the Baptist Roman Catholic Chjurch | Y28: anytime | Z28: Take a picture of the church from across the street. Have your motorcycle in the picture. | AB28: 39.046647 | AC28: -84.485297 | AD28: =ROUND(AB28,6)&", "&ROUND(AC28,6) -> 39.046647, -84.485297 | AE28: 1307 Johns Hill Road, Newport, KY 41076 | AI28: 27 | AL28: https://res.cloudinary.com/lone-star-long-riders-heart-of-texas-rally/image/upload/v1785176136/Rally/Dartboard%202026/DB027_vthnwe.jpg | AR28: =W28 -> DB027 | AS28: =H29 -> 90 | AT28: =X28 -> St. John the Baptist Roman Catholic Chjurch | AU28: =Y28 -> anytime | AV28: =AE28 -> 1307 Johns Hill Road, Newport, KY 41076 | AW28: =AD28 -> 39.046647, -84.485297 | AX28: =Z28 -> Take a picture of the church from across the street. Have your motorcycle in the picture. | BR28: =A29&" - "&H29 -> DB027 - 90 | BS28: =B29 -> St. John the Baptist Roman Catholic Chjurch | BT28: =C29 -> 39.046647 | BU28: =D29 -> -84.485297
A29: DB027 | B29: St. John the Baptist Roman Catholic Chjurch | C29: 39.046647 | D29: -84.485297 | E29: 1307 Johns Hill Road, Newport, KY 41076 | F29: Wilder | G29: KY | H29: 90 | I29: anytime | J29: =Z28 -> Take a picture of the church from across the street. Have your motorcycle in the picture. | M29: IRON CHURCH | U29: DB043 | W29: DB028 | X29: Pisgah Presbyterian Church | Y29: anytime | Z29: Take a picture of the front of the church. | AB29: 38.054112 | AC29: -84.654565 | AD29: =ROUND(AB29,6)&", "&ROUND(AC29,6) -> 38.054112, -84.654565 | AE29: 710 Pisgah Road, Versailles, KY 40383 | AI29: 28 | AL29: https://res.cloudinary.com/lone-star-long-riders-heart-of-texas-rally/image/upload/v1785176142/Rally/Dartboard%202026/DB028_dqm4t4.jpg | AR29: =W29 -> DB028 | AS29: =H30 -> 105 | AT29: =X29 -> Pisgah Presbyterian Church | AU29: =Y29 -> anytime | AV29: =AE29 -> 710 Pisgah Road, Versailles, KY 40383 | AW29: =AD29 -> 38.054112, -84.654565 | AX29: =Z29 -> Take a picture of the front of the church. | BR29: =A30&" - "&H30 -> DB028 - 105 | BS29: =B30 -> Pisgah Presbyterian Church | BT29: =C30 -> 38.054112 | BU29: =D30 -> -84.654565
A30: DB028 | B30: Pisgah Presbyterian Church | C30: 38.054112 | D30: -84.654565 | E30: 710 Pisgah Road, Versailles, KY 40383 | F30: Versailles | G30: KY | H30: 105 | I30: anytime | J30: =Z29 -> Take a picture of the front of the church. | U30: DB044 | W30: DB029 | X30: Doylesville United Methodist Church | Y30: anytime | Z30: Take a picture of the front of the church with your motorcycle in the picture. | AB30: 37.848578 | AC30: -84.164297 | AD30: =ROUND(AB30,6)&", "&ROUND(AC30,6) -> 37.848578, -84.164297 | AE30: 3420 Doylesville Rd | AI30: 29 | AL30: https://res.cloudinary.com/lone-star-long-riders-heart-of-texas-rally/image/upload/v1785176147/Rally/Dartboard%202026/DB029_ay7c8y.jpg | AR30: =W30 -> DB029 | AS30: =H31 -> 360 | AT30: =X30 -> Doylesville United Methodist Church | AU30: =Y30 -> anytime | AV30: =AE30 -> 3420 Doylesville Rd | AW30: =AD30 -> 37.848578, -84.164297 | AX30: =Z30 -> Take a picture of the front of the church with your motorcycle in the picture. | BR30: =A31&" - "&H31 -> DB029 - 360 | BS30: =B31 -> Doylesville United Methodist Church | BT30: =C31 -> 37.848578 | BU30: =D31 -> -84.164297
A31: DB029 | B31: Doylesville United Methodist Church | C31: 37.848578 | D31: -84.164297 | E31: 3420 Doylesville Rd | F31: Richmond | G31: KY | H31: 360 | I31: anytime | J31: =Z30 -> Take a picture of the front of the church with your motorcycle in the picture. | M31: Complete any Bingo = 5,000 points | U31: DB045 | W31: DB030 | X31: Richwood Presbyterian Church | Y31: anytime | Z31: Take a picture of the front of the church with your motorcycle in the picture. | AB31: 38.899087 | AC31: -84.6525 | AD31: =ROUND(AB31,6)&", "&ROUND(AC31,6) -> 38.899087, -84.6525 | AE31: 1070 Richwood Road, Walton, KY 41094 | AI31: 30 | AL31: https://res.cloudinary.com/lone-star-long-riders-heart-of-texas-rally/image/upload/v1785176138/Rally/Dartboard%202026/DB030_axur1s.jpg | AR31: =W31 -> DB030 | AS31: =H32 -> 35 | AT31: =X31 -> Richwood Presbyterian Church | AU31: =Y31 -> anytime | AV31: =AE31 -> 1070 Richwood Road, Walton, KY 41094 | AW31: =AD31 -> 38.899087, -84.6525 | AX31: =Z31 -> Take a picture of the front of the church with your motorcycle in the picture. | BR31: =A32&" - "&H32 -> DB030 - 35 | BS31: =B32 -> Richwood Presbyterian Church | BT31: =C32 -> 38.899087 | BU31: =D32 -> -84.6525
A32: DB030 | B32: Richwood Presbyterian Church | C32: 38.899087 | D32: -84.6525 | E32: 1070 Richwood Road, Walton, KY 41094 | F32: Walton | G32: KY | H32: 35 | I32: anytime | J32: =Z31 -> Take a picture of the front of the church with your motorcycle in the picture. | U32: DB046 | W32: DB031 | X32: Indian Creek Baptist Church | Y32: anytime | Z32: Take a picture of the historical marker for the church. | AB32: 38.368019 | AC32: -84.214478 | AD32: =ROUND(AB32,6)&", "&ROUND(AC32,6) -> 38.368019, -84.214478 | AE32: 123 Kentucky Highway 1771, Cynthiana, KY 41031 | AI32: 31 | AL32: https://res.cloudinary.com/lone-star-long-riders-heart-of-texas-rally/image/upload/v1785176137/Rally/Dartboard%202026/DB031_osnokg.jpg | AR32: =W32 -> DB031 | AS32: =H33 -> 605 | AT32: =X32 -> Indian Creek Baptist Church | AU32: =Y32 -> anytime | AV32: =AE32 -> 123 Kentucky Highway 1771, Cynthiana, KY 41031 | AW32: =AD32 -> 38.368019, -84.214478 | AX32: =Z32 -> Take a picture of the historical marker for the church. | BR32: =A33&" - "&H33 -> DB031 - 605 | BS32: =B33 -> Indian Creek Baptist Church | BT32: =C33 -> 38.368019 | BU32: =D33 -> -84.214478
A33: DB031 | B33: Indian Creek Baptist Church | C33: 38.368019 | D33: -84.214478 | E33: 123 Kentucky Highway 1771, Cynthiana, KY 41031 | F33: Cynthiana | G33: KY | H33: 605 | I33: anytime | J33: =Z32 -> Take a picture of the historical marker for the church. | M33: B | N33: I | O33: N | P33: G | Q33: O | U33: DB047 | W33: DB032 | X33: Goddard White Church | Y33: anytime | Z33: Take a picture of the front of the church with your motorcycle in the picture. | AB33: 38.36232 | AC33: -83.614274 | AD33: =ROUND(AB33,6)&", "&ROUND(AC33,6) -> 38.36232, -83.614274 | AE33: 32 Covered Bridge Road, Wallingford, KY 41093 | AI33: 32 | AL33: https://res.cloudinary.com/lone-star-long-riders-heart-of-texas-rally/image/upload/v1785176144/Rally/Dartboard%202026/DB032_oy1cmv.jpg | AR33: =W33 -> DB032 | AS33: =H34 -> 350 | AT33: =X33 -> Goddard White Church | AU33: =Y33 -> anytime | AV33: =AE33 -> 32 Covered Bridge Road, Wallingford, KY 41093 | AW33: =AD33 -> 38.36232, -83.614274 | AX33: =Z33 -> Take a picture of the front of the church with your motorcycle in the picture. | BR33: =A34&" - "&H34 -> DB032 - 350 | BS33: =B34 -> Goddard White Church | BT33: =C34 -> 38.36232 | BU33: =D34 -> -83.614274
A34: DB032 | B34: Goddard White Church | C34: 38.36232 | D34: -83.614274 | E34: 32 Covered Bridge Road, Wallingford, KY 41093 | F34: Wallingford | G34: KY | H34: 350 | I34: anytime | J34: =Z33 -> Take a picture of the front of the church with your motorcycle in the picture. | M34: DB016 | N34: DB008 | O34: DB039 | P34: DB020 | Q34: DB048 | R34: {=IF(SUM(--((M34:Q34="FREE")+(COUNTIF($U$2:$U$100,M34:Q34)>0)>0))=5,1000,0)} -> 0 | U34: DB048 | W34: DB033 | X34: St. Rose Church | Y34: anytime | Z34: Take a picture of the stone walkway and statue. | AB34: 37.694155 | AC34: -85.263248 | AD34: =ROUND(AB34,6)&", "&ROUND(AC34,6) -> 37.694155, -85.263248 | AE34: 868 Loretto Road, Springfield, KY 40069 | AI34: 33 | AL34: https://res.cloudinary.com/lone-star-long-riders-heart-of-texas-rally/image/upload/v1785176144/Rally/Dartboard%202026/DB033_mpjfuj.jpg | AR34: =W34 -> DB033 | AS34: =H35 -> 105 | AT34: =X34 -> St. Rose Church | AU34: =Y34 -> anytime | AV34: =AE34 -> 868 Loretto Road, Springfield, KY 40069 | AW34: =AD34 -> 37.694155, -85.263248 | AX34: =Z34 -> Take a picture of the stone walkway and statue. | BR34: =A35&" - "&H35 -> DB033 - 105 | BS34: =B35 -> St. Rose Church | BT34: =C35 -> 37.694155 | BU34: =D35 -> -85.263248
A35: DB033 | B35: St. Rose Church | C35: 37.694155 | D35: -85.263248 | E35: 868 Loretto Road, Springfield, KY 40069 | F35: Saint Catharine | G35: KY | H35: 105 | I35: anytime | J35: =Z34 -> Take a picture of the stone walkway and statue. | M35: DB003 | N35: DB047 | O35: DB043 | P35: DB046 | Q35: DB011 | R35: {=IF(SUM(--((M35:Q35="FREE")+(COUNTIF($U$2:$U$100,M35:Q35)>0)>0))=5,1000,0)} -> 1000 | U35: DB049 | W35: DB034 | X35: Monte Casino Chapel | Y35: anytime | Z35: Take a picture of the tiny chapel. | AB35: 39.02341 | AC35: -84.571191 | AD35: =ROUND(AB35,6)&", "&ROUND(AC35,6) -> 39.02341, -84.571191 | AE35: 210 Thomas More Parkway, Crestview Hills, KY 41017 | AI35: 34 | AL35: https://res.cloudinary.com/lone-star-long-riders-heart-of-texas-rally/image/upload/v1785176142/Rally/Dartboard%202026/DB034_sahngf.jpg | AR35: =W35 -> DB034 | AS35: =H36 -> 25 | AT35: =X35 -> Monte Casino Chapel | AU35: =Y35 -> anytime | AV35: =AE35 -> 210 Thomas More Parkway, Crestview Hills, KY 41017 | AW35: =AD35 -> 39.02341, -84.571191 | AX35: =Z35 -> Take a picture of the tiny chapel. | BR35: =A36&" - "&H36 -> DB034 - 25 | BS35: =B36 -> Monte Casino Chapel | BT35: =C36 -> 39.02341 | BU35: =D36 -> -84.571191
A36: DB034 | B36: Monte Casino Chapel | C36: 39.02341 | D36: -84.571191 | E36: 210 Thomas More Parkway, Crestview Hills, KY 41017 | F36: Crestview Hills | G36: KY | H36: 25 | I36: anytime | J36: =Z35 -> Take a picture of the tiny chapel. | M36: DB032 | N36: DB033 | O36: FREE | P36: DB036 | Q36: DB013 | R36: {=IF(SUM(--((M36:Q36="FREE")+(COUNTIF($U$2:$U$100,M36:Q36)>0)>0))=5,1000,0)} -> 1000 | U36: DB050 | W36: DB035 | X36: Cannel City Union Church | Y36: anytime | Z36: Take a picture of the side of the church. It may be overgrown by now, so do your best. | AB36: 37.790161 | AC36: -83.275813 | AD36: =ROUND(AB36,6)&", "&ROUND(AC36,6) -> 37.790161, -83.275813 | AE36: 9632 Highway 191, Cannel City, KY 41408 | AI36: 35 | AL36: https://res.cloudinary.com/lone-star-long-riders-heart-of-texas-rally/image/upload/v1785176143/Rally/Dartboard%202026/DB035_eyvtcr.jpg | AR36: =W36 -> DB035 | AS36: =H37 -> 15 | AT36: =X36 -> Cannel City Union Church | AU36: =Y36 -> anytime | AV36: =AE36 -> 9632 Highway 191, Cannel City, KY 41408 | AW36: =AD36 -> 37.790161, -83.275813 | AX36: =Z36 -> Take a picture of the side of the church. It may be overgrown by now, so do your best. | BR36: =A37&" - "&H37 -> DB035 - 15 | BS36: =B37 -> Cannel City Union Church | BT36: =C37 -> 37.790161 | BU36: =D37 -> -83.275813
A37: DB035 | B37: Cannel City Union Church | C37: 37.790161 | D37: -83.275813 | E37: 9632 Highway 191, Cannel City, KY 41408 | F37: Cannel City | G37: KY | H37: 15 | I37: anytime | J37: =Z36 -> Take a picture of the side of the church. It may be overgrown by now, so do your best. | M37: DB019 | N37: DB025 | O37: DB040 | P37: DB041 | Q37: DB014 | R37: {=IF(SUM(--((M37:Q37="FREE")+(COUNTIF($U$2:$U$100,M37:Q37)>0)>0))=5,1000,0)} -> 1000 | U37: DB051 | W37: DB036 | X37: Mill Creek Baptist Church | Y37: anytime | Z37: Take a picture of the church sign. | AB37: 37.828954 | AC37: -85.917911 | AD37: =ROUND(AB37,6)&", "&ROUND(AC37,6) -> 37.828954, -85.917911 | AE37: 1200 Jones Street, Radcliff, KY 40160 | AI37: 36 | AL37: https://res.cloudinary.com/lone-star-long-riders-heart-of-texas-rally/image/upload/v1785176144/Rally/Dartboard%202026/DB036_dpkbej.jpg | AR37: =W37 -> DB036 | AS37: =H38 -> 95 | AT37: =X37 -> Mill Creek Baptist Church | AU37: =Y37 -> anytime | AV37: =AE37 -> 1200 Jones Street, Radcliff, KY 40160 | AW37: =AD37 -> 37.828954, -85.917911 | AX37: =Z37 -> Take a picture of the church sign. | BR37: =A38&" - "&H38 -> DB036 - 95 | BS37: =B38 -> Mill Creek Baptist Church | BT37: =C38 -> 37.828954 | BU37: =D38 -> -85.917911
A38: DB036 | B38: Mill Creek Baptist Church | C38: 37.828954 | D38: -85.917911 | E38: 1200 Jones Street, Radcliff, KY 40160 | F38: Radcliff | G38: KY | H38: 95 | I38: anytime | J38: =Z37 -> Take a picture of the church sign. | M38: DB050 | N38: DB051 | O38: DB035 | P38: DB038 | Q38: DB044 | R38: {=IF(SUM(--((M38:Q38="FREE")+(COUNTIF($U$2:$U$100,M38:Q38)>0)>0))=5,1000,0)} -> 1000 | U38: DB020 | W38: DB037 | X38: Old Union United Methodist Church | Y38: 7a-11p | Z38: Take a picture of the church sign. | AB38: 38.735903 | AC38: -86.42682 | AD38: =ROUND(AB38,6)&", "&ROUND(AC38,6) -> 38.735903, -86.42682 | AE38: 1186 W County Rd 500 N | AI38: 37 | AL38: https://res.cloudinary.com/lone-star-long-riders-heart-of-texas-rally/image/upload/v1785176144/Rally/Dartboard%202026/DB037_ytyjbb.jpg | AR38: =W38 -> DB037 | AS38: =H39 -> 6 | AT38: =X38 -> Old Union United Methodist Church | AU38: =Y38 -> 7a-11p | AV38: =AE38 -> 1186 W County Rd 500 N | AW38: =AD38 -> 38.735903, -86.42682 | AX38: =Z38 -> Take a picture of the church sign. | BR38: =A39&" - "&H39 -> DB037 - 6 | BS38: =B39 -> Old Union United Methodist Church | BT38: =C39 -> 38.629955 | BU38: =D39 -> -86.480794
A39: DB037 | B39: Old Union United Methodist Church | C39: 38.629955 | D39: -86.480794 | E39: 1186 W County Rd 500 N | F39: Orleans | G39: IN | H39: 6 | I39: 7a-11p | J39: =Z38 -> Take a picture of the church sign. | L39: {=IF(SUM(--((CHOOSE({1,2,3,4,5},Q34,P35,O36,N37,M38)="FREE")+(COUNTIF($U$2:$U$100,CHOOSE({1,2,3,4,5},Q34,P35,O36,N37,M38))>0)>0))=5,1000,0)} -> 1000 | M39: {=IF(SUM(--((M34:M38="FREE")+(COUNTIF($U$2:$U$100,M34:M38)>0)>0))=5,1000,0)} -> 1000 | N39: {=IF(SUM(--((N34:N38="FREE")+(COUNTIF($U$2:$U$100,N34:N38)>0)>0))=5,1000,0)} -> 0 | O39: {=IF(SUM(--((O34:O38="FREE")+(COUNTIF($U$2:$U$100,O34:O38)>0)>0))=5,1000,0)} -> 1000 | P39: {=IF(SUM(--((P34:P38="FREE")+(COUNTIF($U$2:$U$100,P34:P38)>0)>0))=5,1000,0)} -> 1000 | Q39: {=IF(SUM(--((Q34:Q38="FREE")+(COUNTIF($U$2:$U$100,Q34:Q38)>0)>0))=5,1000,0)} -> 1000 | R39: {=IF(SUM(--((CHOOSE({1,2,3,4,5},M34,N35,O36,P37,Q38)="FREE")+(COUNTIF($U$2:$U$100,CHOOSE({1,2,3,4,5},M34,N35,O36,P37,Q38))>0)>0))=5,1000,0)} -> 1000 | U39: DB021 | W39: DB038 | X39: Holy Cross Church | Y39: anytime | Z39: Take a picture of the entrance of the church with the church in the background. | AB39: 37.673723 | AC39: -85.448041 | AD39: =ROUND(AB39,6)&", "&ROUND(AC39,6) -> 37.673723, -85.448041 | AE39: 126 New Haven Road, Loretto, KY 40037 | AI39: 38 | AL39: https://res.cloudinary.com/lone-star-long-riders-heart-of-texas-rally/image/upload/v1785176148/Rally/Dartboard%202026/DB038_ypjoco.jpg | AR39: =W39 -> DB038 | AS39: =H40 -> 80 | AT39: =X39 -> Holy Cross Church | AU39: =Y39 -> anytime | AV39: =AE39 -> 126 New Haven Road, Loretto, KY 40037 | AW39: =AD39 -> 37.673723, -85.448041 | AX39: =Z39 -> Take a picture of the entrance of the church with the church in the background. | BR39: =A40&" - "&H40 -> DB038 - 80 | BS39: =B40 -> Holy Cross Church | BT39: =C40 -> 37.673723 | BU39: =D40 -> -85.448041
A40: DB038 | B40: Holy Cross Church | C40: 37.673723 | D40: -85.448041 | E40: 126 New Haven Road, Loretto, KY 40037 | F40: Loretto | G40: KY | H40: 80 | I40: anytime | J40: =Z39 -> Take a picture of the entrance of the church with the church in the background. | U40: DB022 | W40: DB039 | X40: St. Charles Catholic Church | Y40: anytime | Z40: Take a picture of the front of the church with your motorcycle in the picture. | AB40: 37.594029 | AC40: -85.34396 | AD40: =ROUND(AB40,6)&", "&ROUND(AC40,6) -> 37.594029, -85.34396 | AE40: 675 Highway 327, Lebanon, KY 40033 | AI40: 39 | AL40: https://res.cloudinary.com/lone-star-long-riders-heart-of-texas-rally/image/upload/v1785176151/Rally/Dartboard%202026/DB039_qpmicr.jpg | AR40: =W40 -> DB039 | AS40: =H41 -> 160 | AT40: =X40 -> St. Charles Catholic Church | AU40: =Y40 -> anytime | AV40: =AE40 -> 675 Highway 327, Lebanon, KY 40033 | AW40: =AD40 -> 37.594029, -85.34396 | AX40: =Z40 -> Take a picture of the front of the church with your motorcycle in the picture. | BR40: =A41&" - "&H41 -> DB039 - 160 | BS40: =B41 -> St. Charles Catholic Church | BT40: =C41 -> 37.594029 | BU40: =D41 -> -85.34396
...

Sheet ScoreHelper
D1: 1
T2: 1 | U2: =IF(#REF!="","",#REF!) -> #REF! | AL2: DENIAL | AN2: =IF(#REF!="","","D") -> #REF!
BE3: BLUE HAIR BINGO
A5: SCOREHELPER | L5: BLUE HAIR BINGO | BE5: B | BF5: I | BG5: N | BH5: G | BI5: O
L6: B | M6: I | N6: N | O6: G | P6: O | BE6: DB002 | BF6: DB012 | BG6: DB027 | BH6: DB026 | BI6: DB030
A7: =L5 -> BLUE HAIR BINGO | E7: {=INDIRECT("'PACKET("&$D$1&")'!C1")} -> 0 | K7: Row 1 | L7: {=IF(COUNTIF(INDIRECT("'PACKET("&$D$1&")'!$J$3:$J$54"),INDIRECT("'PACKET("&$D$1&")'!"&AY7))=1,INDIRECT("'PACKET("&$D$1&")'!"&AY7),"")} | M7: {=IF(COUNTIF(INDIRECT("'PACKET("&$D$1&")'!$J$3:$J$54"),INDIRECT("'PACKET("&$D$1&")'!"&AZ7))=1,INDIRECT("'PACKET("&$D$1&")'!"&AZ7),"")} | N7: {=IF(COUNTIF(INDIRECT("'PACKET("&$D$1&")'!$J$3:$J$54"),INDIRECT("'PACKET("&$D$1&")'!"&BA7))=1,INDIRECT("'PACKET("&$D$1&")'!"&BA7),"")} | O7: {=IF(COUNTIF(INDIRECT("'PACKET("&$D$1&")'!$J$3:$J$54"),INDIRECT("'PACKET("&$D$1&")'!"&BB7))=1,INDIRECT("'PACKET("&$D$1&")'!"&BB7),"")} | P7: {=IF(COUNTIF(INDIRECT("'PACKET("&$D$1&")'!$J$3:$J$54"),INDIRECT("'PACKET("&$D$1&")'!"&BC7))=1,INDIRECT("'PACKET("&$D$1&")'!"&BC7),"")} | Q7: {=INDIRECT("'PACKET("&$D$1&")'!"&AW7)} | AW7: BF7 | AY7: AZ7 | AZ7: BA7 | BA7: BB7 | BB7: BC7 | BC7: BD7 | BE7: DB042 | BF7: DB050 | BG7: DB051 | BH7: DB043 | BI7: DB046
A8: =L14 -> DAUB OR DIE | E8: {=INDIRECT("'PACKET("&$D$1&")'!e1")} -> 0 | K8: Row 2 | L8: {=IF(COUNTIF(INDIRECT("'PACKET("&$D$1&")'!$J$3:$J$54"),INDIRECT("'PACKET("&$D$1&")'!"&AY8))=1,INDIRECT("'PACKET("&$D$1&")'!"&AY8),"")} | M8: {=IF(COUNTIF(INDIRECT("'PACKET("&$D$1&")'!$J$3:$J$54"),INDIRECT("'PACKET("&$D$1&")'!"&AZ8))=1,INDIRECT("'PACKET("&$D$1&")'!"&AZ8),"")} | N8: {=IF(COUNTIF(INDIRECT("'PACKET("&$D$1&")'!$J$3:$J$54"),INDIRECT("'PACKET("&$D$1&")'!"&BA8))=1,INDIRECT("'PACKET("&$D$1&")'!"&BA8),"")} | O8: {=IF(COUNTIF(INDIRECT("'PACKET("&$D$1&")'!$J$3:$J$54"),INDIRECT("'PACKET("&$D$1&")'!"&BB8))=1,INDIRECT("'PACKET("&$D$1&")'!"&BB8),"")} | P8: {=IF(COUNTIF(INDIRECT("'PACKET("&$D$1&")'!$J$3:$J$54"),INDIRECT("'PACKET("&$D$1&")'!"&BC8))=1,INDIRECT("'PACKET("&$D$1&")'!"&BC8),"")} | Q8: {=INDIRECT("'PACKET("&$D$1&")'!"&AW8)} | AW8: BF8 | AY8: AZ8 | AZ8: BA8 | BA8: BB8 | BB8: BC8 | BC8: BD8 | BE8: DB028 | BF8: DB015 | BG8: FREE | BH8: DB031 | BI8: DB032
A9: =L23 -> IRON CHURCH | E9: {=INDIRECT("'PACKET("&$D$1&")'!g1")} -> 0 | K9: Row 3 | L9: {=IF(COUNTIF(INDIRECT("'PACKET("&$D$1&")'!$J$3:$J$54"),INDIRECT("'PACKET("&$D$1&")'!"&AY9))=1,INDIRECT("'PACKET("&$D$1&")'!"&AY9),"")} | M9: {=IF(COUNTIF(INDIRECT("'PACKET("&$D$1&")'!$J$3:$J$54"),INDIRECT("'PACKET("&$D$1&")'!"&AZ9))=1,INDIRECT("'PACKET("&$D$1&")'!"&AZ9),"")} | N9: FREE | O9: {=IF(COUNTIF(INDIRECT("'PACKET("&$D$1&")'!$J$3:$J$54"),INDIRECT("'PACKET("&$D$1&")'!"&BB9))=1,INDIRECT("'PACKET("&$D$1&")'!"&BB9),"")} | P9: {=IF(COUNTIF(INDIRECT("'PACKET("&$D$1&")'!$J$3:$J$54"),INDIRECT("'PACKET("&$D$1&")'!"&BC9))=1,INDIRECT("'PACKET("&$D$1&")'!"&BC9),"")} | Q9: {=INDIRECT("'PACKET("&$D$1&")'!"&AW9)} | AW9: BF9 | AY9: AZ9 | AZ9: BA9 | BA9: BB9 | BB9: BC9 | BC9: BD9 | BE9: DB001 | BF9: DB004 | BG9: DB029 | BH9: DB005 | BI9: DB006
A10: BONUSES | E10: {=INDIRECT("'PACKET("&$D$1&")'!i1")} -> 0 | K10: Row 4 | L10: {=IF(COUNTIF(INDIRECT("'PACKET("&$D$1&")'!$J$3:$J$54"),INDIRECT("'PACKET("&$D$1&")'!"&AY10))=1,INDIRECT("'PACKET("&$D$1&")'!"&AY10),"")} | M10: {=IF(COUNTIF(INDIRECT("'PACKET("&$D$1&")'!$J$3:$J$54"),INDIRECT("'PACKET("&$D$1&")'!"&AZ10))=1,INDIRECT("'PACKET("&$D$1&")'!"&AZ10),"")} | N10: {=IF(COUNTIF(INDIRECT("'PACKET("&$D$1&")'!$J$3:$J$54"),INDIRECT("'PACKET("&$D$1&")'!"&BA10))=1,INDIRECT("'PACKET("&$D$1&")'!"&BA10),"")} | O10: {=IF(COUNTIF(INDIRECT("'PACKET("&$D$1&")'!$J$3:$J$54"),INDIRECT("'PACKET("&$D$1&")'!"&BB10))=1,INDIRECT("'PACKET("&$D$1&")'!"&BB10),"")} | P10: {=IF(COUNTIF(INDIRECT("'PACKET("&$D$1&")'!$J$3:$J$54"),INDIRECT("'PACKET("&$D$1&")'!"&BC10))=1,INDIRECT("'PACKET("&$D$1&")'!"&BC10),"")} | Q10: {=INDIRECT("'PACKET("&$D$1&")'!"&AW10)} | AW10: BF10 | AY10: AZ10 | AZ10: BA10 | BA10: BB10 | BB10: BC10 | BC10: BD10 | BE10: DB017 | BF10: DB018 | BG10: DB025 | BH10: DB016 | BI10: DB019
A11: TOTAL ALL | E11: {=INDIRECT("'PACKET("&$D$1&")'!k1")} -> 0 | K11: Row 5 | L11: {=IF(COUNTIF(INDIRECT("'PACKET("&$D$1&")'!$J$3:$J$54"),INDIRECT("'PACKET("&$D$1&")'!"&AY11))=1,INDIRECT("'PACKET("&$D$1&")'!"&AY11),"")} | M11: {=IF(COUNTIF(INDIRECT("'PACKET("&$D$1&")'!$J$3:$J$54"),INDIRECT("'PACKET("&$D$1&")'!"&AZ11))=1,INDIRECT("'PACKET("&$D$1&")'!"&AZ11),"")} | N11: {=IF(COUNTIF(INDIRECT("'PACKET("&$D$1&")'!$J$3:$J$54"),INDIRECT("'PACKET("&$D$1&")'!"&BA11))=1,INDIRECT("'PACKET("&$D$1&")'!"&BA11),"")} | O11: {=IF(COUNTIF(INDIRECT("'PACKET("&$D$1&")'!$J$3:$J$54"),INDIRECT("'PACKET("&$D$1&")'!"&BB11))=1,INDIRECT("'PACKET("&$D$1&")'!"&BB11),"")} | P11: {=IF(COUNTIF(INDIRECT("'PACKET("&$D$1&")'!$J$3:$J$54"),INDIRECT("'PACKET("&$D$1&")'!"&BC11))=1,INDIRECT("'PACKET("&$D$1&")'!"&BC11),"")} | Q11: {=INDIRECT("'PACKET("&$D$1&")'!"&AW11)} | AW11: BF11 | AY11: AZ11 | AZ11: BA11 | BA11: BB11 | BB11: BC11 | BC11: BD11
K12: {=INDIRECT("'PACKET("&$D$1&")'!"&AQ12)} | L12: {=INDIRECT("'PACKET("&$D$1&")'!"&AR12)} | M12: {=INDIRECT("'PACKET("&$D$1&")'!"&AS12)} | N12: {=INDIRECT("'PACKET("&$D$1&")'!"&AT12)} | O12: {=INDIRECT("'PACKET("&$D$1&")'!"&AU12)} | P12: {=INDIRECT("'PACKET("&$D$1&")'!"&AV12)} | Q12: {=INDIRECT("'PACKET("&$D$1&")'!"&AW12)} | AQ12: AX13 | AR12: AZ13 | AS12: BA13 | AT12: BB13 | AU12: BC13 | AV12: BD13 | AW12: BF13 | BE12: DAUB OR DIE
B13: SEQ | C13: CODE | E13: NAME | I13: A/D | J13: PTS
A14: 1 | B14: =A14 -> 1 | E14: =IF(C14="","",_xlfn.XLOOKUP(C14,Bonuses!$A$3:$A$54,Bonuses!$B$3:$B$54)) | I14: A | J14: {=_xlfn.IFNA(IF(OR(_xlfn.XLOOKUP(A14,INDIRECT("'PACKET("&$D$1&")'!$A$3:$A$54"),INDIRECT("'PACKET("&$D$1&")'!$C$3:$C$54"))="",_xlfn.XLOOKUP(A14,INDIRECT("'PACKET("&$D$1&")'!$A$3:$A$54"),INDIRECT("'PACKET("&$D$1&")'!$e$3:$e$54"))=""),"",_xlfn.XLOOKUP(C14,Bonuses!$A$3:$A$54,Bonuses!$H$3:$H$54)),"")} | L14: DAUB OR DIE | BE14: B | BF14: I | BG14: N | BH14: G | BI14: O
A15: 2 | B15: =A15 -> 2 | E15: =IF(C15="","",_xlfn.XLOOKUP(C15,Bonuses!$A$3:$A$54,Bonuses!$B$3:$B$54)) | I15: A | J15: {=_xlfn.IFNA(IF(OR(_xlfn.XLOOKUP(A15,INDIRECT("'PACKET("&$D$1&")'!$A$3:$A$54"),INDIRECT("'PACKET("&$D$1&")'!$C$3:$C$54"))="",_xlfn.XLOOKUP(A15,INDIRECT("'PACKET("&$D$1&")'!$A$3:$A$54"),INDIRECT("'PACKET("&$D$1&")'!$e$3:$e$54"))=""),"",_xlfn.XLOOKUP(C15,Bonuses!$A$3:$A$54,Bonuses!$H$3:$H$54)),"")} | L15: B | M15: I | N15: N | O15: G | P15: O | BE15: DB017 | BF15: DB029 | BG15: DB033 | BH15: DB039 | BI15: DB041
A16: 3 | B16: =A16 -> 3 | E16: =IF(C16="","",_xlfn.XLOOKUP(C16,Bonuses!$A$3:$A$54,Bonuses!$B$3:$B$54)) | I16: A | J16: {=_xlfn.IFNA(IF(OR(_xlfn.XLOOKUP(A16,INDIRECT("'PACKET("&$D$1&")'!$A$3:$A$54"),INDIRECT("'PACKET("&$D$1&")'!$C$3:$C$54"))="",_xlfn.XLOOKUP(A16,INDIRECT("'PACKET("&$D$1&")'!$A$3:$A$54"),INDIRECT("'PACKET("&$D$1&")'!$e$3:$e$54"))=""),"",_xlfn.XLOOKUP(C16,Bonuses!$A$3:$A$54,Bonuses!$H$3:$H$54)),"")} | K16: Row 1 | L16: {=IF(COUNTIF(INDIRECT("'PACKET("&$D$1&")'!$J$3:$J$54"),INDIRECT("'PACKET("&$D$1&")'!"&AY16))=1,INDIRECT("'PACKET("&$D$1&")'!"&AY16),"")} | M16: {=IF(COUNTIF(INDIRECT("'PACKET("&$D$1&")'!$J$3:$J$54"),INDIRECT("'PACKET("&$D$1&")'!"&AZ16))=1,INDIRECT("'PACKET("&$D$1&")'!"&AZ16),"")} | N16: {=IF(COUNTIF(INDIRECT("'PACKET("&$D$1&")'!$J$3:$J$54"),INDIRECT("'PACKET("&$D$1&")'!"&BA16))=1,INDIRECT("'PACKET("&$D$1&")'!"&BA16),"")} | O16: {=IF(COUNTIF(INDIRECT("'PACKET("&$D$1&")'!$J$3:$J$54"),INDIRECT("'PACKET("&$D$1&")'!"&BB16))=1,INDIRECT("'PACKET("&$D$1&")'!"&BB16),"")} | P16: {=IF(COUNTIF(INDIRECT("'PACKET("&$D$1&")'!$J$3:$J$54"),INDIRECT("'PACKET("&$D$1&")'!"&BC16))=1,INDIRECT("'PACKET("&$D$1&")'!"&BC16),"")} | Q16: {=INDIRECT("'PACKET("&$D$1&")'!"&AW16)} | AW16: BF21 | AY16: AZ21 | AZ16: BA21 | BA16: BB21 | BB16: BC21 | BC16: BD21 | BE16: DB020 | BF16: DB037 | BG16: DB023 | BH16: DB044 | BI16: DB045
A17: 4 | B17: =A17 -> 4 | E17: =IF(C17="","",_xlfn.XLOOKUP(C17,Bonuses!$A$3:$A$54,Bonuses!$B$3:$B$54)) | I17: A | J17: {=_xlfn.IFNA(IF(OR(_xlfn.XLOOKUP(A17,INDIRECT("'PACKET("&$D$1&")'!$A$3:$A$54"),INDIRECT("'PACKET("&$D$1&")'!$C$3:$C$54"))="",_xlfn.XLOOKUP(A17,INDIRECT("'PACKET("&$D$1&")'!$A$3:$A$54"),INDIRECT("'PACKET("&$D$1&")'!$e$3:$e$54"))=""),"",_xlfn.XLOOKUP(C17,Bonuses!$A$3:$A$54,Bonuses!$H$3:$H$54)),"")} | K17: Row 2 | L17: {=IF(COUNTIF(INDIRECT("'PACKET("&$D$1&")'!$J$3:$J$54"),INDIRECT("'PACKET("&$D$1&")'!"&AY17))=1,INDIRECT("'PACKET("&$D$1&")'!"&AY17),"")} | M17: {=IF(COUNTIF(INDIRECT("'PACKET("&$D$1&")'!$J$3:$J$54"),INDIRECT("'PACKET("&$D$1&")'!"&AZ17))=1,INDIRECT("'PACKET("&$D$1&")'!"&AZ17),"")} | N17: {=IF(COUNTIF(INDIRECT("'PACKET("&$D$1&")'!$J$3:$J$54"),INDIRECT("'PACKET("&$D$1&")'!"&BA17))=1,INDIRECT("'PACKET("&$D$1&")'!"&BA17),"")} | O17: {=IF(COUNTIF(INDIRECT("'PACKET("&$D$1&")'!$J$3:$J$54"),INDIRECT("'PACKET("&$D$1&")'!"&BB17))=1,INDIRECT("'PACKET("&$D$1&")'!"&BB17),"")} | P17: {=IF(COUNTIF(INDIRECT("'PACKET("&$D$1&")'!$J$3:$J$54"),INDIRECT("'PACKET("&$D$1&")'!"&BC17))=1,INDIRECT("'PACKET("&$D$1&")'!"&BC17),"")} | Q17: {=INDIRECT("'PACKET("&$D$1&")'!"&AW17)} | AW17: BF22 | AY17: AZ22 | AZ17: BA22 | BA17: BB22 | BB17: BC22 | BC17: BD22 | BE17: DB021 | BF17: DB022 | BG17: FREE | BH17: DB024 | BI17: DB046
A18: 5 | B18: =A18 -> 5 | E18: =IF(C18="","",_xlfn.XLOOKUP(C18,Bonuses!$A$3:$A$54,Bonuses!$B$3:$B$54)) | I18: A | J18: {=_xlfn.IFNA(IF(OR(_xlfn.XLOOKUP(A18,INDIRECT("'PACKET("&$D$1&")'!$A$3:$A$54"),INDIRECT("'PACKET("&$D$1&")'!$C$3:$C$54"))="",_xlfn.XLOOKUP(A18,INDIRECT("'PACKET("&$D$1&")'!$A$3:$A$54"),INDIRECT("'PACKET("&$D$1&")'!$e$3:$e$54"))=""),"",_xlfn.XLOOKUP(C18,Bonuses!$A$3:$A$54,Bonuses!$H$3:$H$54)),"")} | K18: Row 3 | L18: {=IF(COUNTIF(INDIRECT("'PACKET("&$D$1&")'!$J$3:$J$54"),INDIRECT("'PACKET("&$D$1&")'!"&AY18))=1,INDIRECT("'PACKET("&$D$1&")'!"&AY18),"")} | M18: {=IF(COUNTIF(INDIRECT("'PACKET("&$D$1&")'!$J$3:$J$54"),INDIRECT("'PACKET("&$D$1&")'!"&AZ18))=1,INDIRECT("'PACKET("&$D$1&")'!"&AZ18),"")} | N18: FREE | O18: {=IF(COUNTIF(INDIRECT("'PACKET("&$D$1&")'!$J$3:$J$54"),INDIRECT("'PACKET("&$D$1&")'!"&BB18))=1,INDIRECT("'PACKET("&$D$1&")'!"&BB18),"")} | P18: {=IF(COUNTIF(INDIRECT("'PACKET("&$D$1&")'!$J$3:$J$54"),INDIRECT("'PACKET("&$D$1&")'!"&BC18))=1,INDIRECT("'PACKET("&$D$1&")'!"&BC18),"")} | Q18: {=INDIRECT("'PACKET("&$D$1&")'!"&AW18)} | AW18: BF23 | AY18: AZ23 | AZ18: BA23 | BA18: BB23 | BB18: BC23 | BC18: BD23 | BE18: DB031 | BF18: DB007 | BG18: DB032 | BH18: DB035 | BI18: DB008
